BEGIN:VCALENDAR
VERSION:2.0
PRODID:icalendar-ruby
CALSCALE:GREGORIAN
METHOD:PUBLISH
BEGIN:VEVENT
DTSTAMP:20260424T145059Z
UID:event-22188-2026-04-25T12:30:00+02:00-none
DTSTART;TZID=Europe/Madrid:20260425T123000
DESCRIPTION:Elena Villazón y la escuela de piano Naara Estudio presentan e
 l ciclo de conciertos comentados "ConCierto Sentido"\, que se centra en la
  divulgación musical como medio para poder disfrutar de un buen recital.
SUMMARY:ConCierto Sentido: "De Francia a Arcadia"\, con la flautista Encarn
 ación Arce
END:VEVENT
END:VCALENDAR
