BEGIN:VCALENDAR
VERSION:2.0
PRODID:icalendar-ruby
CALSCALE:GREGORIAN
METHOD:PUBLISH
BEGIN:VEVENT
DTSTAMP:20260423T102647Z
UID:event-21580-2026-03-14T20:30:00+01:00-none
DTSTART;TZID=Europe/Madrid:20260314T203000
DESCRIPTION:Como colofón al X Encuentro de Distribuidoras Autogestionadas\
 , la sala Rock Beer the New acogerá\, a partir de las 20:30h\, los concie
 rtos de las bandas Zoketes\, Vandida\, Eretia y Pvta Nazion.
SUMMARY:Conciertos de Zoketes\, Vandida\, Eretia y Pvta Nazion
END:VEVENT
END:VCALENDAR
