BEGIN:VCALENDAR
VERSION:2.0
PRODID:icalendar-ruby
CALSCALE:GREGORIAN
METHOD:PUBLISH
BEGIN:VEVENT
DTSTAMP:20260421T173414Z
UID:event-22361-2026-04-29T19:00:00+02:00-none
DTSTART;TZID=Europe/Madrid:20260429T190000
DESCRIPTION:La cultura vetona se extendió por un amplio territorio que com
 prende la actual provincia de Ávila\, así como una parte de las de Salam
 anca\, Zamora\, Toledo y Cáceres. 
SUMMARY:Conferencia de la Sociedad Prehistórica de Cantabria sobre el mund
 o vetón 
END:VEVENT
END:VCALENDAR
