BEGIN:VCALENDAR
VERSION:2.0
PRODID:icalendar-ruby
CALSCALE:GREGORIAN
METHOD:PUBLISH
BEGIN:VEVENT
DTSTAMP:20260421T140704Z
UID:event-11959-2024-07-06-2024-07-06
DTSTART;VALUE=DATE:20240706
DTEND;VALUE=DATE:20240706
DESCRIPTION:Exposición fotográfica “Momentos icónicos de la historia d
 e Cantabria" en el paseo marítimo de la bahía de Santander.
SUMMARY:Cuarenta años de EFE en Cantabria. Momentos icónicos de nuestra h
 istoria
END:VEVENT
BEGIN:VEVENT
DTSTAMP:20260421T140704Z
UID:event-11959-2024-07-07-2024-07-07
DTSTART;VALUE=DATE:20240707
DTEND;VALUE=DATE:20240707
DESCRIPTION:Exposición fotográfica “Momentos icónicos de la historia d
 e Cantabria" en el paseo marítimo de la bahía de Santander.
SUMMARY:Cuarenta años de EFE en Cantabria. Momentos icónicos de nuestra h
 istoria
END:VEVENT
BEGIN:VEVENT
DTSTAMP:20260421T140704Z
UID:event-11959-2024-07-08-2024-07-08
DTSTART;VALUE=DATE:20240708
DTEND;VALUE=DATE:20240708
DESCRIPTION:Exposición fotográfica “Momentos icónicos de la historia d
 e Cantabria" en el paseo marítimo de la bahía de Santander.
SUMMARY:Cuarenta años de EFE en Cantabria. Momentos icónicos de nuestra h
 istoria
END:VEVENT
BEGIN:VEVENT
DTSTAMP:20260421T140704Z
UID:event-11959-2024-07-09-2024-07-09
DTSTART;VALUE=DATE:20240709
DTEND;VALUE=DATE:20240709
DESCRIPTION:Exposición fotográfica “Momentos icónicos de la historia d
 e Cantabria" en el paseo marítimo de la bahía de Santander.
SUMMARY:Cuarenta años de EFE en Cantabria. Momentos icónicos de nuestra h
 istoria
END:VEVENT
BEGIN:VEVENT
DTSTAMP:20260421T140704Z
UID:event-11959-2024-07-10-2024-07-10
DTSTART;VALUE=DATE:20240710
DTEND;VALUE=DATE:20240710
DESCRIPTION:Exposición fotográfica “Momentos icónicos de la historia d
 e Cantabria" en el paseo marítimo de la bahía de Santander.
SUMMARY:Cuarenta años de EFE en Cantabria. Momentos icónicos de nuestra h
 istoria
END:VEVENT
BEGIN:VEVENT
DTSTAMP:20260421T140704Z
UID:event-11959-2024-07-11-2024-07-11
DTSTART;VALUE=DATE:20240711
DTEND;VALUE=DATE:20240711
DESCRIPTION:Exposición fotográfica “Momentos icónicos de la historia d
 e Cantabria" en el paseo marítimo de la bahía de Santander.
SUMMARY:Cuarenta años de EFE en Cantabria. Momentos icónicos de nuestra h
 istoria
END:VEVENT
BEGIN:VEVENT
DTSTAMP:20260421T140704Z
UID:event-11959-2024-07-12-2024-07-12
DTSTART;VALUE=DATE:20240712
DTEND;VALUE=DATE:20240712
DESCRIPTION:Exposición fotográfica “Momentos icónicos de la historia d
 e Cantabria" en el paseo marítimo de la bahía de Santander.
SUMMARY:Cuarenta años de EFE en Cantabria. Momentos icónicos de nuestra h
 istoria
END:VEVENT
BEGIN:VEVENT
DTSTAMP:20260421T140704Z
UID:event-11959-2024-07-13-2024-07-13
DTSTART;VALUE=DATE:20240713
DTEND;VALUE=DATE:20240713
DESCRIPTION:Exposición fotográfica “Momentos icónicos de la historia d
 e Cantabria" en el paseo marítimo de la bahía de Santander.
SUMMARY:Cuarenta años de EFE en Cantabria. Momentos icónicos de nuestra h
 istoria
END:VEVENT
BEGIN:VEVENT
DTSTAMP:20260421T140704Z
UID:event-11959-2024-07-14-2024-07-14
DTSTART;VALUE=DATE:20240714
DTEND;VALUE=DATE:20240714
DESCRIPTION:Exposición fotográfica “Momentos icónicos de la historia d
 e Cantabria" en el paseo marítimo de la bahía de Santander.
SUMMARY:Cuarenta años de EFE en Cantabria. Momentos icónicos de nuestra h
 istoria
END:VEVENT
BEGIN:VEVENT
DTSTAMP:20260421T140704Z
UID:event-11959-2024-07-15-2024-07-15
DTSTART;VALUE=DATE:20240715
DTEND;VALUE=DATE:20240715
DESCRIPTION:Exposición fotográfica “Momentos icónicos de la historia d
 e Cantabria" en el paseo marítimo de la bahía de Santander.
SUMMARY:Cuarenta años de EFE en Cantabria. Momentos icónicos de nuestra h
 istoria
END:VEVENT
BEGIN:VEVENT
DTSTAMP:20260421T140704Z
UID:event-11959-2024-07-16-2024-07-16
DTSTART;VALUE=DATE:20240716
DTEND;VALUE=DATE:20240716
DESCRIPTION:Exposición fotográfica “Momentos icónicos de la historia d
 e Cantabria" en el paseo marítimo de la bahía de Santander.
SUMMARY:Cuarenta años de EFE en Cantabria. Momentos icónicos de nuestra h
 istoria
END:VEVENT
BEGIN:VEVENT
DTSTAMP:20260421T140704Z
UID:event-11959-2024-07-17-2024-07-17
DTSTART;VALUE=DATE:20240717
DTEND;VALUE=DATE:20240717
DESCRIPTION:Exposición fotográfica “Momentos icónicos de la historia d
 e Cantabria" en el paseo marítimo de la bahía de Santander.
SUMMARY:Cuarenta años de EFE en Cantabria. Momentos icónicos de nuestra h
 istoria
END:VEVENT
BEGIN:VEVENT
DTSTAMP:20260421T140704Z
UID:event-11959-2024-07-18-2024-07-18
DTSTART;VALUE=DATE:20240718
DTEND;VALUE=DATE:20240718
DESCRIPTION:Exposición fotográfica “Momentos icónicos de la historia d
 e Cantabria" en el paseo marítimo de la bahía de Santander.
SUMMARY:Cuarenta años de EFE en Cantabria. Momentos icónicos de nuestra h
 istoria
END:VEVENT
BEGIN:VEVENT
DTSTAMP:20260421T140704Z
UID:event-11959-2024-07-19-2024-07-19
DTSTART;VALUE=DATE:20240719
DTEND;VALUE=DATE:20240719
DESCRIPTION:Exposición fotográfica “Momentos icónicos de la historia d
 e Cantabria" en el paseo marítimo de la bahía de Santander.
SUMMARY:Cuarenta años de EFE en Cantabria. Momentos icónicos de nuestra h
 istoria
END:VEVENT
BEGIN:VEVENT
DTSTAMP:20260421T140704Z
UID:event-11959-2024-07-20-2024-07-20
DTSTART;VALUE=DATE:20240720
DTEND;VALUE=DATE:20240720
DESCRIPTION:Exposición fotográfica “Momentos icónicos de la historia d
 e Cantabria" en el paseo marítimo de la bahía de Santander.
SUMMARY:Cuarenta años de EFE en Cantabria. Momentos icónicos de nuestra h
 istoria
END:VEVENT
BEGIN:VEVENT
DTSTAMP:20260421T140704Z
UID:event-11959-2024-07-21-2024-07-21
DTSTART;VALUE=DATE:20240721
DTEND;VALUE=DATE:20240721
DESCRIPTION:Exposición fotográfica “Momentos icónicos de la historia d
 e Cantabria" en el paseo marítimo de la bahía de Santander.
SUMMARY:Cuarenta años de EFE en Cantabria. Momentos icónicos de nuestra h
 istoria
END:VEVENT
BEGIN:VEVENT
DTSTAMP:20260421T140704Z
UID:event-11959-2024-07-22-2024-07-22
DTSTART;VALUE=DATE:20240722
DTEND;VALUE=DATE:20240722
DESCRIPTION:Exposición fotográfica “Momentos icónicos de la historia d
 e Cantabria" en el paseo marítimo de la bahía de Santander.
SUMMARY:Cuarenta años de EFE en Cantabria. Momentos icónicos de nuestra h
 istoria
END:VEVENT
BEGIN:VEVENT
DTSTAMP:20260421T140704Z
UID:event-11959-2024-07-23-2024-07-23
DTSTART;VALUE=DATE:20240723
DTEND;VALUE=DATE:20240723
DESCRIPTION:Exposición fotográfica “Momentos icónicos de la historia d
 e Cantabria" en el paseo marítimo de la bahía de Santander.
SUMMARY:Cuarenta años de EFE en Cantabria. Momentos icónicos de nuestra h
 istoria
END:VEVENT
BEGIN:VEVENT
DTSTAMP:20260421T140704Z
UID:event-11959-2024-07-24-2024-07-24
DTSTART;VALUE=DATE:20240724
DTEND;VALUE=DATE:20240724
DESCRIPTION:Exposición fotográfica “Momentos icónicos de la historia d
 e Cantabria" en el paseo marítimo de la bahía de Santander.
SUMMARY:Cuarenta años de EFE en Cantabria. Momentos icónicos de nuestra h
 istoria
END:VEVENT
BEGIN:VEVENT
DTSTAMP:20260421T140704Z
UID:event-11959-2024-07-25-2024-07-25
DTSTART;VALUE=DATE:20240725
DTEND;VALUE=DATE:20240725
DESCRIPTION:Exposición fotográfica “Momentos icónicos de la historia d
 e Cantabria" en el paseo marítimo de la bahía de Santander.
SUMMARY:Cuarenta años de EFE en Cantabria. Momentos icónicos de nuestra h
 istoria
END:VEVENT
BEGIN:VEVENT
DTSTAMP:20260421T140704Z
UID:event-11959-2024-07-26-2024-07-26
DTSTART;VALUE=DATE:20240726
DTEND;VALUE=DATE:20240726
DESCRIPTION:Exposición fotográfica “Momentos icónicos de la historia d
 e Cantabria" en el paseo marítimo de la bahía de Santander.
SUMMARY:Cuarenta años de EFE en Cantabria. Momentos icónicos de nuestra h
 istoria
END:VEVENT
BEGIN:VEVENT
DTSTAMP:20260421T140704Z
UID:event-11959-2024-07-27-2024-07-27
DTSTART;VALUE=DATE:20240727
DTEND;VALUE=DATE:20240727
DESCRIPTION:Exposición fotográfica “Momentos icónicos de la historia d
 e Cantabria" en el paseo marítimo de la bahía de Santander.
SUMMARY:Cuarenta años de EFE en Cantabria. Momentos icónicos de nuestra h
 istoria
END:VEVENT
BEGIN:VEVENT
DTSTAMP:20260421T140704Z
UID:event-11959-2024-07-28-2024-07-28
DTSTART;VALUE=DATE:20240728
DTEND;VALUE=DATE:20240728
DESCRIPTION:Exposición fotográfica “Momentos icónicos de la historia d
 e Cantabria" en el paseo marítimo de la bahía de Santander.
SUMMARY:Cuarenta años de EFE en Cantabria. Momentos icónicos de nuestra h
 istoria
END:VEVENT
BEGIN:VEVENT
DTSTAMP:20260421T140704Z
UID:event-11959-2024-07-29-2024-07-29
DTSTART;VALUE=DATE:20240729
DTEND;VALUE=DATE:20240729
DESCRIPTION:Exposición fotográfica “Momentos icónicos de la historia d
 e Cantabria" en el paseo marítimo de la bahía de Santander.
SUMMARY:Cuarenta años de EFE en Cantabria. Momentos icónicos de nuestra h
 istoria
END:VEVENT
BEGIN:VEVENT
DTSTAMP:20260421T140704Z
UID:event-11959-2024-07-30-2024-07-30
DTSTART;VALUE=DATE:20240730
DTEND;VALUE=DATE:20240730
DESCRIPTION:Exposición fotográfica “Momentos icónicos de la historia d
 e Cantabria" en el paseo marítimo de la bahía de Santander.
SUMMARY:Cuarenta años de EFE en Cantabria. Momentos icónicos de nuestra h
 istoria
END:VEVENT
BEGIN:VEVENT
DTSTAMP:20260421T140704Z
UID:event-11959-2024-07-31-2024-07-31
DTSTART;VALUE=DATE:20240731
DTEND;VALUE=DATE:20240731
DESCRIPTION:Exposición fotográfica “Momentos icónicos de la historia d
 e Cantabria" en el paseo marítimo de la bahía de Santander.
SUMMARY:Cuarenta años de EFE en Cantabria. Momentos icónicos de nuestra h
 istoria
END:VEVENT
BEGIN:VEVENT
DTSTAMP:20260421T140704Z
UID:event-11959-2024-08-01-2024-08-01
DTSTART;VALUE=DATE:20240801
DTEND;VALUE=DATE:20240801
DESCRIPTION:Exposición fotográfica “Momentos icónicos de la historia d
 e Cantabria" en el paseo marítimo de la bahía de Santander.
SUMMARY:Cuarenta años de EFE en Cantabria. Momentos icónicos de nuestra h
 istoria
END:VEVENT
BEGIN:VEVENT
DTSTAMP:20260421T140704Z
UID:event-11959-2024-08-02-2024-08-02
DTSTART;VALUE=DATE:20240802
DTEND;VALUE=DATE:20240802
DESCRIPTION:Exposición fotográfica “Momentos icónicos de la historia d
 e Cantabria" en el paseo marítimo de la bahía de Santander.
SUMMARY:Cuarenta años de EFE en Cantabria. Momentos icónicos de nuestra h
 istoria
END:VEVENT
BEGIN:VEVENT
DTSTAMP:20260421T140704Z
UID:event-11959-2024-08-03-2024-08-03
DTSTART;VALUE=DATE:20240803
DTEND;VALUE=DATE:20240803
DESCRIPTION:Exposición fotográfica “Momentos icónicos de la historia d
 e Cantabria" en el paseo marítimo de la bahía de Santander.
SUMMARY:Cuarenta años de EFE en Cantabria. Momentos icónicos de nuestra h
 istoria
END:VEVENT
BEGIN:VEVENT
DTSTAMP:20260421T140704Z
UID:event-11959-2024-08-04-2024-08-04
DTSTART;VALUE=DATE:20240804
DTEND;VALUE=DATE:20240804
DESCRIPTION:Exposición fotográfica “Momentos icónicos de la historia d
 e Cantabria" en el paseo marítimo de la bahía de Santander.
SUMMARY:Cuarenta años de EFE en Cantabria. Momentos icónicos de nuestra h
 istoria
END:VEVENT
BEGIN:VEVENT
DTSTAMP:20260421T140704Z
UID:event-11959-2024-08-05-2024-08-05
DTSTART;VALUE=DATE:20240805
DTEND;VALUE=DATE:20240805
DESCRIPTION:Exposición fotográfica “Momentos icónicos de la historia d
 e Cantabria" en el paseo marítimo de la bahía de Santander.
SUMMARY:Cuarenta años de EFE en Cantabria. Momentos icónicos de nuestra h
 istoria
END:VEVENT
BEGIN:VEVENT
DTSTAMP:20260421T140704Z
UID:event-11959-2024-08-06-2024-08-06
DTSTART;VALUE=DATE:20240806
DTEND;VALUE=DATE:20240806
DESCRIPTION:Exposición fotográfica “Momentos icónicos de la historia d
 e Cantabria" en el paseo marítimo de la bahía de Santander.
SUMMARY:Cuarenta años de EFE en Cantabria. Momentos icónicos de nuestra h
 istoria
END:VEVENT
BEGIN:VEVENT
DTSTAMP:20260421T140704Z
UID:event-11959-2024-08-07-2024-08-07
DTSTART;VALUE=DATE:20240807
DTEND;VALUE=DATE:20240807
DESCRIPTION:Exposición fotográfica “Momentos icónicos de la historia d
 e Cantabria" en el paseo marítimo de la bahía de Santander.
SUMMARY:Cuarenta años de EFE en Cantabria. Momentos icónicos de nuestra h
 istoria
END:VEVENT
BEGIN:VEVENT
DTSTAMP:20260421T140704Z
UID:event-11959-2024-08-08-2024-08-08
DTSTART;VALUE=DATE:20240808
DTEND;VALUE=DATE:20240808
DESCRIPTION:Exposición fotográfica “Momentos icónicos de la historia d
 e Cantabria" en el paseo marítimo de la bahía de Santander.
SUMMARY:Cuarenta años de EFE en Cantabria. Momentos icónicos de nuestra h
 istoria
END:VEVENT
BEGIN:VEVENT
DTSTAMP:20260421T140704Z
UID:event-11959-2024-08-09-2024-08-09
DTSTART;VALUE=DATE:20240809
DTEND;VALUE=DATE:20240809
DESCRIPTION:Exposición fotográfica “Momentos icónicos de la historia d
 e Cantabria" en el paseo marítimo de la bahía de Santander.
SUMMARY:Cuarenta años de EFE en Cantabria. Momentos icónicos de nuestra h
 istoria
END:VEVENT
BEGIN:VEVENT
DTSTAMP:20260421T140704Z
UID:event-11959-2024-08-10-2024-08-10
DTSTART;VALUE=DATE:20240810
DTEND;VALUE=DATE:20240810
DESCRIPTION:Exposición fotográfica “Momentos icónicos de la historia d
 e Cantabria" en el paseo marítimo de la bahía de Santander.
SUMMARY:Cuarenta años de EFE en Cantabria. Momentos icónicos de nuestra h
 istoria
END:VEVENT
BEGIN:VEVENT
DTSTAMP:20260421T140704Z
UID:event-11959-2024-08-11-2024-08-11
DTSTART;VALUE=DATE:20240811
DTEND;VALUE=DATE:20240811
DESCRIPTION:Exposición fotográfica “Momentos icónicos de la historia d
 e Cantabria" en el paseo marítimo de la bahía de Santander.
SUMMARY:Cuarenta años de EFE en Cantabria. Momentos icónicos de nuestra h
 istoria
END:VEVENT
BEGIN:VEVENT
DTSTAMP:20260421T140704Z
UID:event-11959-2024-08-12-2024-08-12
DTSTART;VALUE=DATE:20240812
DTEND;VALUE=DATE:20240812
DESCRIPTION:Exposición fotográfica “Momentos icónicos de la historia d
 e Cantabria" en el paseo marítimo de la bahía de Santander.
SUMMARY:Cuarenta años de EFE en Cantabria. Momentos icónicos de nuestra h
 istoria
END:VEVENT
END:VCALENDAR
