BEGIN:VCALENDAR
VERSION:2.0
PRODID:icalendar-ruby
CALSCALE:GREGORIAN
METHOD:PUBLISH
BEGIN:VEVENT
DTSTAMP:20260423T102804Z
UID:event-12104-2024-07-18T08:00:00+02:00-2024-07-18T21:00:00+02:00
DTSTART;TZID=Europe/Madrid:20240718T080000
DTEND;TZID=Europe/Madrid:20240718T210000
DESCRIPTION:La sala de exposiciones del centro cívico Tabacalera celebra s
 u tercer aniversario con una muestra de la reconocida pintora Gloria Torne
 r que\, bajo el título Las flores del jardín\, estará abierta al públi
 co hasta mediados de septiembre.
SUMMARY:"Las flores del jardín" de Gloria Torner enraizan en Tabacalera
END:VEVENT
BEGIN:VEVENT
DTSTAMP:20260423T102804Z
UID:event-12104-2024-07-19T08:00:00+02:00-2024-07-19T21:00:00+02:00
DTSTART;TZID=Europe/Madrid:20240719T080000
DTEND;TZID=Europe/Madrid:20240719T210000
DESCRIPTION:La sala de exposiciones del centro cívico Tabacalera celebra s
 u tercer aniversario con una muestra de la reconocida pintora Gloria Torne
 r que\, bajo el título Las flores del jardín\, estará abierta al públi
 co hasta mediados de septiembre.
SUMMARY:"Las flores del jardín" de Gloria Torner enraizan en Tabacalera
END:VEVENT
BEGIN:VEVENT
DTSTAMP:20260423T102804Z
UID:event-12104-2024-07-22T08:00:00+02:00-2024-07-22T21:00:00+02:00
DTSTART;TZID=Europe/Madrid:20240722T080000
DTEND;TZID=Europe/Madrid:20240722T210000
DESCRIPTION:La sala de exposiciones del centro cívico Tabacalera celebra s
 u tercer aniversario con una muestra de la reconocida pintora Gloria Torne
 r que\, bajo el título Las flores del jardín\, estará abierta al públi
 co hasta mediados de septiembre.
SUMMARY:"Las flores del jardín" de Gloria Torner enraizan en Tabacalera
END:VEVENT
BEGIN:VEVENT
DTSTAMP:20260423T102804Z
UID:event-12104-2024-07-23T08:00:00+02:00-2024-07-23T21:00:00+02:00
DTSTART;TZID=Europe/Madrid:20240723T080000
DTEND;TZID=Europe/Madrid:20240723T210000
DESCRIPTION:La sala de exposiciones del centro cívico Tabacalera celebra s
 u tercer aniversario con una muestra de la reconocida pintora Gloria Torne
 r que\, bajo el título Las flores del jardín\, estará abierta al públi
 co hasta mediados de septiembre.
SUMMARY:"Las flores del jardín" de Gloria Torner enraizan en Tabacalera
END:VEVENT
BEGIN:VEVENT
DTSTAMP:20260423T102804Z
UID:event-12104-2024-07-24T08:00:00+02:00-2024-07-24T21:00:00+02:00
DTSTART;TZID=Europe/Madrid:20240724T080000
DTEND;TZID=Europe/Madrid:20240724T210000
DESCRIPTION:La sala de exposiciones del centro cívico Tabacalera celebra s
 u tercer aniversario con una muestra de la reconocida pintora Gloria Torne
 r que\, bajo el título Las flores del jardín\, estará abierta al públi
 co hasta mediados de septiembre.
SUMMARY:"Las flores del jardín" de Gloria Torner enraizan en Tabacalera
END:VEVENT
BEGIN:VEVENT
DTSTAMP:20260423T102804Z
UID:event-12104-2024-07-25T08:00:00+02:00-2024-07-25T21:00:00+02:00
DTSTART;TZID=Europe/Madrid:20240725T080000
DTEND;TZID=Europe/Madrid:20240725T210000
DESCRIPTION:La sala de exposiciones del centro cívico Tabacalera celebra s
 u tercer aniversario con una muestra de la reconocida pintora Gloria Torne
 r que\, bajo el título Las flores del jardín\, estará abierta al públi
 co hasta mediados de septiembre.
SUMMARY:"Las flores del jardín" de Gloria Torner enraizan en Tabacalera
END:VEVENT
BEGIN:VEVENT
DTSTAMP:20260423T102804Z
UID:event-12104-2024-07-26T08:00:00+02:00-2024-07-26T21:00:00+02:00
DTSTART;TZID=Europe/Madrid:20240726T080000
DTEND;TZID=Europe/Madrid:20240726T210000
DESCRIPTION:La sala de exposiciones del centro cívico Tabacalera celebra s
 u tercer aniversario con una muestra de la reconocida pintora Gloria Torne
 r que\, bajo el título Las flores del jardín\, estará abierta al públi
 co hasta mediados de septiembre.
SUMMARY:"Las flores del jardín" de Gloria Torner enraizan en Tabacalera
END:VEVENT
BEGIN:VEVENT
DTSTAMP:20260423T102804Z
UID:event-12104-2024-07-29T08:00:00+02:00-2024-07-29T21:00:00+02:00
DTSTART;TZID=Europe/Madrid:20240729T080000
DTEND;TZID=Europe/Madrid:20240729T210000
DESCRIPTION:La sala de exposiciones del centro cívico Tabacalera celebra s
 u tercer aniversario con una muestra de la reconocida pintora Gloria Torne
 r que\, bajo el título Las flores del jardín\, estará abierta al públi
 co hasta mediados de septiembre.
SUMMARY:"Las flores del jardín" de Gloria Torner enraizan en Tabacalera
END:VEVENT
BEGIN:VEVENT
DTSTAMP:20260423T102804Z
UID:event-12104-2024-07-30T08:00:00+02:00-2024-07-30T21:00:00+02:00
DTSTART;TZID=Europe/Madrid:20240730T080000
DTEND;TZID=Europe/Madrid:20240730T210000
DESCRIPTION:La sala de exposiciones del centro cívico Tabacalera celebra s
 u tercer aniversario con una muestra de la reconocida pintora Gloria Torne
 r que\, bajo el título Las flores del jardín\, estará abierta al públi
 co hasta mediados de septiembre.
SUMMARY:"Las flores del jardín" de Gloria Torner enraizan en Tabacalera
END:VEVENT
BEGIN:VEVENT
DTSTAMP:20260423T102804Z
UID:event-12104-2024-07-31T08:00:00+02:00-2024-07-31T21:00:00+02:00
DTSTART;TZID=Europe/Madrid:20240731T080000
DTEND;TZID=Europe/Madrid:20240731T210000
DESCRIPTION:La sala de exposiciones del centro cívico Tabacalera celebra s
 u tercer aniversario con una muestra de la reconocida pintora Gloria Torne
 r que\, bajo el título Las flores del jardín\, estará abierta al públi
 co hasta mediados de septiembre.
SUMMARY:"Las flores del jardín" de Gloria Torner enraizan en Tabacalera
END:VEVENT
BEGIN:VEVENT
DTSTAMP:20260423T102804Z
UID:event-12104-2024-08-01T08:00:00+02:00-2024-08-01T21:00:00+02:00
DTSTART;TZID=Europe/Madrid:20240801T080000
DTEND;TZID=Europe/Madrid:20240801T210000
DESCRIPTION:La sala de exposiciones del centro cívico Tabacalera celebra s
 u tercer aniversario con una muestra de la reconocida pintora Gloria Torne
 r que\, bajo el título Las flores del jardín\, estará abierta al públi
 co hasta mediados de septiembre.
SUMMARY:"Las flores del jardín" de Gloria Torner enraizan en Tabacalera
END:VEVENT
BEGIN:VEVENT
DTSTAMP:20260423T102804Z
UID:event-12104-2024-08-02T08:00:00+02:00-2024-08-02T21:00:00+02:00
DTSTART;TZID=Europe/Madrid:20240802T080000
DTEND;TZID=Europe/Madrid:20240802T210000
DESCRIPTION:La sala de exposiciones del centro cívico Tabacalera celebra s
 u tercer aniversario con una muestra de la reconocida pintora Gloria Torne
 r que\, bajo el título Las flores del jardín\, estará abierta al públi
 co hasta mediados de septiembre.
SUMMARY:"Las flores del jardín" de Gloria Torner enraizan en Tabacalera
END:VEVENT
BEGIN:VEVENT
DTSTAMP:20260423T102804Z
UID:event-12104-2024-08-05T08:00:00+02:00-2024-08-05T21:00:00+02:00
DTSTART;TZID=Europe/Madrid:20240805T080000
DTEND;TZID=Europe/Madrid:20240805T210000
DESCRIPTION:La sala de exposiciones del centro cívico Tabacalera celebra s
 u tercer aniversario con una muestra de la reconocida pintora Gloria Torne
 r que\, bajo el título Las flores del jardín\, estará abierta al públi
 co hasta mediados de septiembre.
SUMMARY:"Las flores del jardín" de Gloria Torner enraizan en Tabacalera
END:VEVENT
BEGIN:VEVENT
DTSTAMP:20260423T102804Z
UID:event-12104-2024-08-06T08:00:00+02:00-2024-08-06T21:00:00+02:00
DTSTART;TZID=Europe/Madrid:20240806T080000
DTEND;TZID=Europe/Madrid:20240806T210000
DESCRIPTION:La sala de exposiciones del centro cívico Tabacalera celebra s
 u tercer aniversario con una muestra de la reconocida pintora Gloria Torne
 r que\, bajo el título Las flores del jardín\, estará abierta al públi
 co hasta mediados de septiembre.
SUMMARY:"Las flores del jardín" de Gloria Torner enraizan en Tabacalera
END:VEVENT
BEGIN:VEVENT
DTSTAMP:20260423T102804Z
UID:event-12104-2024-08-07T08:00:00+02:00-2024-08-07T21:00:00+02:00
DTSTART;TZID=Europe/Madrid:20240807T080000
DTEND;TZID=Europe/Madrid:20240807T210000
DESCRIPTION:La sala de exposiciones del centro cívico Tabacalera celebra s
 u tercer aniversario con una muestra de la reconocida pintora Gloria Torne
 r que\, bajo el título Las flores del jardín\, estará abierta al públi
 co hasta mediados de septiembre.
SUMMARY:"Las flores del jardín" de Gloria Torner enraizan en Tabacalera
END:VEVENT
BEGIN:VEVENT
DTSTAMP:20260423T102804Z
UID:event-12104-2024-08-08T08:00:00+02:00-2024-08-08T21:00:00+02:00
DTSTART;TZID=Europe/Madrid:20240808T080000
DTEND;TZID=Europe/Madrid:20240808T210000
DESCRIPTION:La sala de exposiciones del centro cívico Tabacalera celebra s
 u tercer aniversario con una muestra de la reconocida pintora Gloria Torne
 r que\, bajo el título Las flores del jardín\, estará abierta al públi
 co hasta mediados de septiembre.
SUMMARY:"Las flores del jardín" de Gloria Torner enraizan en Tabacalera
END:VEVENT
BEGIN:VEVENT
DTSTAMP:20260423T102804Z
UID:event-12104-2024-08-09T08:00:00+02:00-2024-08-09T21:00:00+02:00
DTSTART;TZID=Europe/Madrid:20240809T080000
DTEND;TZID=Europe/Madrid:20240809T210000
DESCRIPTION:La sala de exposiciones del centro cívico Tabacalera celebra s
 u tercer aniversario con una muestra de la reconocida pintora Gloria Torne
 r que\, bajo el título Las flores del jardín\, estará abierta al públi
 co hasta mediados de septiembre.
SUMMARY:"Las flores del jardín" de Gloria Torner enraizan en Tabacalera
END:VEVENT
BEGIN:VEVENT
DTSTAMP:20260423T102804Z
UID:event-12104-2024-08-12T08:00:00+02:00-2024-08-12T21:00:00+02:00
DTSTART;TZID=Europe/Madrid:20240812T080000
DTEND;TZID=Europe/Madrid:20240812T210000
DESCRIPTION:La sala de exposiciones del centro cívico Tabacalera celebra s
 u tercer aniversario con una muestra de la reconocida pintora Gloria Torne
 r que\, bajo el título Las flores del jardín\, estará abierta al públi
 co hasta mediados de septiembre.
SUMMARY:"Las flores del jardín" de Gloria Torner enraizan en Tabacalera
END:VEVENT
BEGIN:VEVENT
DTSTAMP:20260423T102804Z
UID:event-12104-2024-08-13T08:00:00+02:00-2024-08-13T21:00:00+02:00
DTSTART;TZID=Europe/Madrid:20240813T080000
DTEND;TZID=Europe/Madrid:20240813T210000
DESCRIPTION:La sala de exposiciones del centro cívico Tabacalera celebra s
 u tercer aniversario con una muestra de la reconocida pintora Gloria Torne
 r que\, bajo el título Las flores del jardín\, estará abierta al públi
 co hasta mediados de septiembre.
SUMMARY:"Las flores del jardín" de Gloria Torner enraizan en Tabacalera
END:VEVENT
BEGIN:VEVENT
DTSTAMP:20260423T102804Z
UID:event-12104-2024-08-14T08:00:00+02:00-2024-08-14T21:00:00+02:00
DTSTART;TZID=Europe/Madrid:20240814T080000
DTEND;TZID=Europe/Madrid:20240814T210000
DESCRIPTION:La sala de exposiciones del centro cívico Tabacalera celebra s
 u tercer aniversario con una muestra de la reconocida pintora Gloria Torne
 r que\, bajo el título Las flores del jardín\, estará abierta al públi
 co hasta mediados de septiembre.
SUMMARY:"Las flores del jardín" de Gloria Torner enraizan en Tabacalera
END:VEVENT
BEGIN:VEVENT
DTSTAMP:20260423T102804Z
UID:event-12104-2024-08-15T08:00:00+02:00-2024-08-15T21:00:00+02:00
DTSTART;TZID=Europe/Madrid:20240815T080000
DTEND;TZID=Europe/Madrid:20240815T210000
DESCRIPTION:La sala de exposiciones del centro cívico Tabacalera celebra s
 u tercer aniversario con una muestra de la reconocida pintora Gloria Torne
 r que\, bajo el título Las flores del jardín\, estará abierta al públi
 co hasta mediados de septiembre.
SUMMARY:"Las flores del jardín" de Gloria Torner enraizan en Tabacalera
END:VEVENT
BEGIN:VEVENT
DTSTAMP:20260423T102804Z
UID:event-12104-2024-08-16T08:00:00+02:00-2024-08-16T21:00:00+02:00
DTSTART;TZID=Europe/Madrid:20240816T080000
DTEND;TZID=Europe/Madrid:20240816T210000
DESCRIPTION:La sala de exposiciones del centro cívico Tabacalera celebra s
 u tercer aniversario con una muestra de la reconocida pintora Gloria Torne
 r que\, bajo el título Las flores del jardín\, estará abierta al públi
 co hasta mediados de septiembre.
SUMMARY:"Las flores del jardín" de Gloria Torner enraizan en Tabacalera
END:VEVENT
BEGIN:VEVENT
DTSTAMP:20260423T102804Z
UID:event-12104-2024-08-19T08:00:00+02:00-2024-08-19T21:00:00+02:00
DTSTART;TZID=Europe/Madrid:20240819T080000
DTEND;TZID=Europe/Madrid:20240819T210000
DESCRIPTION:La sala de exposiciones del centro cívico Tabacalera celebra s
 u tercer aniversario con una muestra de la reconocida pintora Gloria Torne
 r que\, bajo el título Las flores del jardín\, estará abierta al públi
 co hasta mediados de septiembre.
SUMMARY:"Las flores del jardín" de Gloria Torner enraizan en Tabacalera
END:VEVENT
BEGIN:VEVENT
DTSTAMP:20260423T102804Z
UID:event-12104-2024-08-20T08:00:00+02:00-2024-08-20T21:00:00+02:00
DTSTART;TZID=Europe/Madrid:20240820T080000
DTEND;TZID=Europe/Madrid:20240820T210000
DESCRIPTION:La sala de exposiciones del centro cívico Tabacalera celebra s
 u tercer aniversario con una muestra de la reconocida pintora Gloria Torne
 r que\, bajo el título Las flores del jardín\, estará abierta al públi
 co hasta mediados de septiembre.
SUMMARY:"Las flores del jardín" de Gloria Torner enraizan en Tabacalera
END:VEVENT
BEGIN:VEVENT
DTSTAMP:20260423T102804Z
UID:event-12104-2024-08-21T08:00:00+02:00-2024-08-21T21:00:00+02:00
DTSTART;TZID=Europe/Madrid:20240821T080000
DTEND;TZID=Europe/Madrid:20240821T210000
DESCRIPTION:La sala de exposiciones del centro cívico Tabacalera celebra s
 u tercer aniversario con una muestra de la reconocida pintora Gloria Torne
 r que\, bajo el título Las flores del jardín\, estará abierta al públi
 co hasta mediados de septiembre.
SUMMARY:"Las flores del jardín" de Gloria Torner enraizan en Tabacalera
END:VEVENT
BEGIN:VEVENT
DTSTAMP:20260423T102804Z
UID:event-12104-2024-08-22T08:00:00+02:00-2024-08-22T21:00:00+02:00
DTSTART;TZID=Europe/Madrid:20240822T080000
DTEND;TZID=Europe/Madrid:20240822T210000
DESCRIPTION:La sala de exposiciones del centro cívico Tabacalera celebra s
 u tercer aniversario con una muestra de la reconocida pintora Gloria Torne
 r que\, bajo el título Las flores del jardín\, estará abierta al públi
 co hasta mediados de septiembre.
SUMMARY:"Las flores del jardín" de Gloria Torner enraizan en Tabacalera
END:VEVENT
BEGIN:VEVENT
DTSTAMP:20260423T102804Z
UID:event-12104-2024-08-23T08:00:00+02:00-2024-08-23T21:00:00+02:00
DTSTART;TZID=Europe/Madrid:20240823T080000
DTEND;TZID=Europe/Madrid:20240823T210000
DESCRIPTION:La sala de exposiciones del centro cívico Tabacalera celebra s
 u tercer aniversario con una muestra de la reconocida pintora Gloria Torne
 r que\, bajo el título Las flores del jardín\, estará abierta al públi
 co hasta mediados de septiembre.
SUMMARY:"Las flores del jardín" de Gloria Torner enraizan en Tabacalera
END:VEVENT
BEGIN:VEVENT
DTSTAMP:20260423T102804Z
UID:event-12104-2024-08-26T08:00:00+02:00-2024-08-26T21:00:00+02:00
DTSTART;TZID=Europe/Madrid:20240826T080000
DTEND;TZID=Europe/Madrid:20240826T210000
DESCRIPTION:La sala de exposiciones del centro cívico Tabacalera celebra s
 u tercer aniversario con una muestra de la reconocida pintora Gloria Torne
 r que\, bajo el título Las flores del jardín\, estará abierta al públi
 co hasta mediados de septiembre.
SUMMARY:"Las flores del jardín" de Gloria Torner enraizan en Tabacalera
END:VEVENT
BEGIN:VEVENT
DTSTAMP:20260423T102804Z
UID:event-12104-2024-08-27T08:00:00+02:00-2024-08-27T21:00:00+02:00
DTSTART;TZID=Europe/Madrid:20240827T080000
DTEND;TZID=Europe/Madrid:20240827T210000
DESCRIPTION:La sala de exposiciones del centro cívico Tabacalera celebra s
 u tercer aniversario con una muestra de la reconocida pintora Gloria Torne
 r que\, bajo el título Las flores del jardín\, estará abierta al públi
 co hasta mediados de septiembre.
SUMMARY:"Las flores del jardín" de Gloria Torner enraizan en Tabacalera
END:VEVENT
BEGIN:VEVENT
DTSTAMP:20260423T102804Z
UID:event-12104-2024-08-28T08:00:00+02:00-2024-08-28T21:00:00+02:00
DTSTART;TZID=Europe/Madrid:20240828T080000
DTEND;TZID=Europe/Madrid:20240828T210000
DESCRIPTION:La sala de exposiciones del centro cívico Tabacalera celebra s
 u tercer aniversario con una muestra de la reconocida pintora Gloria Torne
 r que\, bajo el título Las flores del jardín\, estará abierta al públi
 co hasta mediados de septiembre.
SUMMARY:"Las flores del jardín" de Gloria Torner enraizan en Tabacalera
END:VEVENT
BEGIN:VEVENT
DTSTAMP:20260423T102804Z
UID:event-12104-2024-08-29T08:00:00+02:00-2024-08-29T21:00:00+02:00
DTSTART;TZID=Europe/Madrid:20240829T080000
DTEND;TZID=Europe/Madrid:20240829T210000
DESCRIPTION:La sala de exposiciones del centro cívico Tabacalera celebra s
 u tercer aniversario con una muestra de la reconocida pintora Gloria Torne
 r que\, bajo el título Las flores del jardín\, estará abierta al públi
 co hasta mediados de septiembre.
SUMMARY:"Las flores del jardín" de Gloria Torner enraizan en Tabacalera
END:VEVENT
BEGIN:VEVENT
DTSTAMP:20260423T102804Z
UID:event-12104-2024-08-30T08:00:00+02:00-2024-08-30T21:00:00+02:00
DTSTART;TZID=Europe/Madrid:20240830T080000
DTEND;TZID=Europe/Madrid:20240830T210000
DESCRIPTION:La sala de exposiciones del centro cívico Tabacalera celebra s
 u tercer aniversario con una muestra de la reconocida pintora Gloria Torne
 r que\, bajo el título Las flores del jardín\, estará abierta al públi
 co hasta mediados de septiembre.
SUMMARY:"Las flores del jardín" de Gloria Torner enraizan en Tabacalera
END:VEVENT
BEGIN:VEVENT
DTSTAMP:20260423T102804Z
UID:event-12104-2024-09-02T08:00:00+02:00-2024-09-02T21:00:00+02:00
DTSTART;TZID=Europe/Madrid:20240902T080000
DTEND;TZID=Europe/Madrid:20240902T210000
DESCRIPTION:La sala de exposiciones del centro cívico Tabacalera celebra s
 u tercer aniversario con una muestra de la reconocida pintora Gloria Torne
 r que\, bajo el título Las flores del jardín\, estará abierta al públi
 co hasta mediados de septiembre.
SUMMARY:"Las flores del jardín" de Gloria Torner enraizan en Tabacalera
END:VEVENT
BEGIN:VEVENT
DTSTAMP:20260423T102804Z
UID:event-12104-2024-09-03T08:00:00+02:00-2024-09-03T21:00:00+02:00
DTSTART;TZID=Europe/Madrid:20240903T080000
DTEND;TZID=Europe/Madrid:20240903T210000
DESCRIPTION:La sala de exposiciones del centro cívico Tabacalera celebra s
 u tercer aniversario con una muestra de la reconocida pintora Gloria Torne
 r que\, bajo el título Las flores del jardín\, estará abierta al públi
 co hasta mediados de septiembre.
SUMMARY:"Las flores del jardín" de Gloria Torner enraizan en Tabacalera
END:VEVENT
BEGIN:VEVENT
DTSTAMP:20260423T102804Z
UID:event-12104-2024-09-04T08:00:00+02:00-2024-09-04T21:00:00+02:00
DTSTART;TZID=Europe/Madrid:20240904T080000
DTEND;TZID=Europe/Madrid:20240904T210000
DESCRIPTION:La sala de exposiciones del centro cívico Tabacalera celebra s
 u tercer aniversario con una muestra de la reconocida pintora Gloria Torne
 r que\, bajo el título Las flores del jardín\, estará abierta al públi
 co hasta mediados de septiembre.
SUMMARY:"Las flores del jardín" de Gloria Torner enraizan en Tabacalera
END:VEVENT
BEGIN:VEVENT
DTSTAMP:20260423T102804Z
UID:event-12104-2024-09-05T08:00:00+02:00-2024-09-05T21:00:00+02:00
DTSTART;TZID=Europe/Madrid:20240905T080000
DTEND;TZID=Europe/Madrid:20240905T210000
DESCRIPTION:La sala de exposiciones del centro cívico Tabacalera celebra s
 u tercer aniversario con una muestra de la reconocida pintora Gloria Torne
 r que\, bajo el título Las flores del jardín\, estará abierta al públi
 co hasta mediados de septiembre.
SUMMARY:"Las flores del jardín" de Gloria Torner enraizan en Tabacalera
END:VEVENT
BEGIN:VEVENT
DTSTAMP:20260423T102804Z
UID:event-12104-2024-09-06T08:00:00+02:00-2024-09-06T21:00:00+02:00
DTSTART;TZID=Europe/Madrid:20240906T080000
DTEND;TZID=Europe/Madrid:20240906T210000
DESCRIPTION:La sala de exposiciones del centro cívico Tabacalera celebra s
 u tercer aniversario con una muestra de la reconocida pintora Gloria Torne
 r que\, bajo el título Las flores del jardín\, estará abierta al públi
 co hasta mediados de septiembre.
SUMMARY:"Las flores del jardín" de Gloria Torner enraizan en Tabacalera
END:VEVENT
BEGIN:VEVENT
DTSTAMP:20260423T102804Z
UID:event-12104-2024-09-09T08:00:00+02:00-2024-09-09T21:00:00+02:00
DTSTART;TZID=Europe/Madrid:20240909T080000
DTEND;TZID=Europe/Madrid:20240909T210000
DESCRIPTION:La sala de exposiciones del centro cívico Tabacalera celebra s
 u tercer aniversario con una muestra de la reconocida pintora Gloria Torne
 r que\, bajo el título Las flores del jardín\, estará abierta al públi
 co hasta mediados de septiembre.
SUMMARY:"Las flores del jardín" de Gloria Torner enraizan en Tabacalera
END:VEVENT
BEGIN:VEVENT
DTSTAMP:20260423T102804Z
UID:event-12104-2024-09-10T08:00:00+02:00-2024-09-10T21:00:00+02:00
DTSTART;TZID=Europe/Madrid:20240910T080000
DTEND;TZID=Europe/Madrid:20240910T210000
DESCRIPTION:La sala de exposiciones del centro cívico Tabacalera celebra s
 u tercer aniversario con una muestra de la reconocida pintora Gloria Torne
 r que\, bajo el título Las flores del jardín\, estará abierta al públi
 co hasta mediados de septiembre.
SUMMARY:"Las flores del jardín" de Gloria Torner enraizan en Tabacalera
END:VEVENT
BEGIN:VEVENT
DTSTAMP:20260423T102804Z
UID:event-12104-2024-09-11T08:00:00+02:00-2024-09-11T21:00:00+02:00
DTSTART;TZID=Europe/Madrid:20240911T080000
DTEND;TZID=Europe/Madrid:20240911T210000
DESCRIPTION:La sala de exposiciones del centro cívico Tabacalera celebra s
 u tercer aniversario con una muestra de la reconocida pintora Gloria Torne
 r que\, bajo el título Las flores del jardín\, estará abierta al públi
 co hasta mediados de septiembre.
SUMMARY:"Las flores del jardín" de Gloria Torner enraizan en Tabacalera
END:VEVENT
BEGIN:VEVENT
DTSTAMP:20260423T102804Z
UID:event-12104-2024-09-12T08:00:00+02:00-2024-09-12T21:00:00+02:00
DTSTART;TZID=Europe/Madrid:20240912T080000
DTEND;TZID=Europe/Madrid:20240912T210000
DESCRIPTION:La sala de exposiciones del centro cívico Tabacalera celebra s
 u tercer aniversario con una muestra de la reconocida pintora Gloria Torne
 r que\, bajo el título Las flores del jardín\, estará abierta al públi
 co hasta mediados de septiembre.
SUMMARY:"Las flores del jardín" de Gloria Torner enraizan en Tabacalera
END:VEVENT
BEGIN:VEVENT
DTSTAMP:20260423T102804Z
UID:event-12104-2024-09-13T08:00:00+02:00-2024-09-13T21:00:00+02:00
DTSTART;TZID=Europe/Madrid:20240913T080000
DTEND;TZID=Europe/Madrid:20240913T210000
DESCRIPTION:La sala de exposiciones del centro cívico Tabacalera celebra s
 u tercer aniversario con una muestra de la reconocida pintora Gloria Torne
 r que\, bajo el título Las flores del jardín\, estará abierta al públi
 co hasta mediados de septiembre.
SUMMARY:"Las flores del jardín" de Gloria Torner enraizan en Tabacalera
END:VEVENT
END:VCALENDAR
