BEGIN:VCALENDAR
VERSION:2.0
PRODID:icalendar-ruby
CALSCALE:GREGORIAN
METHOD:PUBLISH
BEGIN:VEVENT
DTSTAMP:20260423T154901Z
UID:event-13089-2024-10-06T17:30:00+02:00-none
DTSTART;TZID=Europe/Madrid:20241006T173000
DESCRIPTION:España franquista. Durante la década de los sesenta\, una fam
 ilia de campesinos vive miserablemente en un cortijo extremeño bajo la f
 érula del terrateniente. Su vida es renuncia\, sacrificio y y obediencia.
  
SUMMARY:Día del Cine Español: "Los santos inocentes"\, de Mario Camus
END:VEVENT
END:VCALENDAR
