BEGIN:VCALENDAR
VERSION:2.0
PRODID:icalendar-ruby
CALSCALE:GREGORIAN
METHOD:PUBLISH
BEGIN:VEVENT
DTSTAMP:20260423T102606Z
UID:event-11761-2024-07-04T10:00:00+02:00-2024-07-04T14:00:00+02:00
DTSTART;TZID=Europe/Madrid:20240704T100000
DTEND;TZID=Europe/Madrid:20240704T140000
DESCRIPTION:“Tipos de Barrio” es la manera de celebrar estos 10 años d
 e preservación y divulgación del Patrimonio Gráfico de Santander\, expo
 niendo por primera vez algunos de los rótulos y material gráfico rescata
 do y donado.
SUMMARY:Los "Tipos de Barrio" de Santatipo
END:VEVENT
BEGIN:VEVENT
DTSTAMP:20260423T102606Z
UID:event-11761-2024-07-04T16:00:00+02:00-2024-07-04T20:00:00+02:00
DTSTART;TZID=Europe/Madrid:20240704T160000
DTEND;TZID=Europe/Madrid:20240704T200000
DESCRIPTION:“Tipos de Barrio” es la manera de celebrar estos 10 años d
 e preservación y divulgación del Patrimonio Gráfico de Santander\, expo
 niendo por primera vez algunos de los rótulos y material gráfico rescata
 do y donado.
SUMMARY:Los "Tipos de Barrio" de Santatipo
END:VEVENT
BEGIN:VEVENT
DTSTAMP:20260423T102606Z
UID:event-11761-2024-07-05T10:00:00+02:00-2024-07-05T14:00:00+02:00
DTSTART;TZID=Europe/Madrid:20240705T100000
DTEND;TZID=Europe/Madrid:20240705T140000
DESCRIPTION:“Tipos de Barrio” es la manera de celebrar estos 10 años d
 e preservación y divulgación del Patrimonio Gráfico de Santander\, expo
 niendo por primera vez algunos de los rótulos y material gráfico rescata
 do y donado.
SUMMARY:Los "Tipos de Barrio" de Santatipo
END:VEVENT
BEGIN:VEVENT
DTSTAMP:20260423T102606Z
UID:event-11761-2024-07-05T16:00:00+02:00-2024-07-05T20:00:00+02:00
DTSTART;TZID=Europe/Madrid:20240705T160000
DTEND;TZID=Europe/Madrid:20240705T200000
DESCRIPTION:“Tipos de Barrio” es la manera de celebrar estos 10 años d
 e preservación y divulgación del Patrimonio Gráfico de Santander\, expo
 niendo por primera vez algunos de los rótulos y material gráfico rescata
 do y donado.
SUMMARY:Los "Tipos de Barrio" de Santatipo
END:VEVENT
BEGIN:VEVENT
DTSTAMP:20260423T102606Z
UID:event-11761-2024-07-06T10:00:00+02:00-2024-07-06T14:00:00+02:00
DTSTART;TZID=Europe/Madrid:20240706T100000
DTEND;TZID=Europe/Madrid:20240706T140000
DESCRIPTION:“Tipos de Barrio” es la manera de celebrar estos 10 años d
 e preservación y divulgación del Patrimonio Gráfico de Santander\, expo
 niendo por primera vez algunos de los rótulos y material gráfico rescata
 do y donado.
SUMMARY:Los "Tipos de Barrio" de Santatipo
END:VEVENT
BEGIN:VEVENT
DTSTAMP:20260423T102606Z
UID:event-11761-2024-07-06T16:00:00+02:00-2024-07-06T20:00:00+02:00
DTSTART;TZID=Europe/Madrid:20240706T160000
DTEND;TZID=Europe/Madrid:20240706T200000
DESCRIPTION:“Tipos de Barrio” es la manera de celebrar estos 10 años d
 e preservación y divulgación del Patrimonio Gráfico de Santander\, expo
 niendo por primera vez algunos de los rótulos y material gráfico rescata
 do y donado.
SUMMARY:Los "Tipos de Barrio" de Santatipo
END:VEVENT
BEGIN:VEVENT
DTSTAMP:20260423T102606Z
UID:event-11761-2024-07-09T10:00:00+02:00-2024-07-09T14:00:00+02:00
DTSTART;TZID=Europe/Madrid:20240709T100000
DTEND;TZID=Europe/Madrid:20240709T140000
DESCRIPTION:“Tipos de Barrio” es la manera de celebrar estos 10 años d
 e preservación y divulgación del Patrimonio Gráfico de Santander\, expo
 niendo por primera vez algunos de los rótulos y material gráfico rescata
 do y donado.
SUMMARY:Los "Tipos de Barrio" de Santatipo
END:VEVENT
BEGIN:VEVENT
DTSTAMP:20260423T102606Z
UID:event-11761-2024-07-09T16:00:00+02:00-2024-07-09T20:00:00+02:00
DTSTART;TZID=Europe/Madrid:20240709T160000
DTEND;TZID=Europe/Madrid:20240709T200000
DESCRIPTION:“Tipos de Barrio” es la manera de celebrar estos 10 años d
 e preservación y divulgación del Patrimonio Gráfico de Santander\, expo
 niendo por primera vez algunos de los rótulos y material gráfico rescata
 do y donado.
SUMMARY:Los "Tipos de Barrio" de Santatipo
END:VEVENT
BEGIN:VEVENT
DTSTAMP:20260423T102606Z
UID:event-11761-2024-07-10T10:00:00+02:00-2024-07-10T14:00:00+02:00
DTSTART;TZID=Europe/Madrid:20240710T100000
DTEND;TZID=Europe/Madrid:20240710T140000
DESCRIPTION:“Tipos de Barrio” es la manera de celebrar estos 10 años d
 e preservación y divulgación del Patrimonio Gráfico de Santander\, expo
 niendo por primera vez algunos de los rótulos y material gráfico rescata
 do y donado.
SUMMARY:Los "Tipos de Barrio" de Santatipo
END:VEVENT
BEGIN:VEVENT
DTSTAMP:20260423T102606Z
UID:event-11761-2024-07-10T16:00:00+02:00-2024-07-10T20:00:00+02:00
DTSTART;TZID=Europe/Madrid:20240710T160000
DTEND;TZID=Europe/Madrid:20240710T200000
DESCRIPTION:“Tipos de Barrio” es la manera de celebrar estos 10 años d
 e preservación y divulgación del Patrimonio Gráfico de Santander\, expo
 niendo por primera vez algunos de los rótulos y material gráfico rescata
 do y donado.
SUMMARY:Los "Tipos de Barrio" de Santatipo
END:VEVENT
BEGIN:VEVENT
DTSTAMP:20260423T102606Z
UID:event-11761-2024-07-11T10:00:00+02:00-2024-07-11T14:00:00+02:00
DTSTART;TZID=Europe/Madrid:20240711T100000
DTEND;TZID=Europe/Madrid:20240711T140000
DESCRIPTION:“Tipos de Barrio” es la manera de celebrar estos 10 años d
 e preservación y divulgación del Patrimonio Gráfico de Santander\, expo
 niendo por primera vez algunos de los rótulos y material gráfico rescata
 do y donado.
SUMMARY:Los "Tipos de Barrio" de Santatipo
END:VEVENT
BEGIN:VEVENT
DTSTAMP:20260423T102606Z
UID:event-11761-2024-07-11T16:00:00+02:00-2024-07-11T20:00:00+02:00
DTSTART;TZID=Europe/Madrid:20240711T160000
DTEND;TZID=Europe/Madrid:20240711T200000
DESCRIPTION:“Tipos de Barrio” es la manera de celebrar estos 10 años d
 e preservación y divulgación del Patrimonio Gráfico de Santander\, expo
 niendo por primera vez algunos de los rótulos y material gráfico rescata
 do y donado.
SUMMARY:Los "Tipos de Barrio" de Santatipo
END:VEVENT
BEGIN:VEVENT
DTSTAMP:20260423T102606Z
UID:event-11761-2024-07-12T10:00:00+02:00-2024-07-12T14:00:00+02:00
DTSTART;TZID=Europe/Madrid:20240712T100000
DTEND;TZID=Europe/Madrid:20240712T140000
DESCRIPTION:“Tipos de Barrio” es la manera de celebrar estos 10 años d
 e preservación y divulgación del Patrimonio Gráfico de Santander\, expo
 niendo por primera vez algunos de los rótulos y material gráfico rescata
 do y donado.
SUMMARY:Los "Tipos de Barrio" de Santatipo
END:VEVENT
BEGIN:VEVENT
DTSTAMP:20260423T102606Z
UID:event-11761-2024-07-12T16:00:00+02:00-2024-07-12T20:00:00+02:00
DTSTART;TZID=Europe/Madrid:20240712T160000
DTEND;TZID=Europe/Madrid:20240712T200000
DESCRIPTION:“Tipos de Barrio” es la manera de celebrar estos 10 años d
 e preservación y divulgación del Patrimonio Gráfico de Santander\, expo
 niendo por primera vez algunos de los rótulos y material gráfico rescata
 do y donado.
SUMMARY:Los "Tipos de Barrio" de Santatipo
END:VEVENT
BEGIN:VEVENT
DTSTAMP:20260423T102606Z
UID:event-11761-2024-07-13T10:00:00+02:00-2024-07-13T14:00:00+02:00
DTSTART;TZID=Europe/Madrid:20240713T100000
DTEND;TZID=Europe/Madrid:20240713T140000
DESCRIPTION:“Tipos de Barrio” es la manera de celebrar estos 10 años d
 e preservación y divulgación del Patrimonio Gráfico de Santander\, expo
 niendo por primera vez algunos de los rótulos y material gráfico rescata
 do y donado.
SUMMARY:Los "Tipos de Barrio" de Santatipo
END:VEVENT
BEGIN:VEVENT
DTSTAMP:20260423T102606Z
UID:event-11761-2024-07-13T16:00:00+02:00-2024-07-13T20:00:00+02:00
DTSTART;TZID=Europe/Madrid:20240713T160000
DTEND;TZID=Europe/Madrid:20240713T200000
DESCRIPTION:“Tipos de Barrio” es la manera de celebrar estos 10 años d
 e preservación y divulgación del Patrimonio Gráfico de Santander\, expo
 niendo por primera vez algunos de los rótulos y material gráfico rescata
 do y donado.
SUMMARY:Los "Tipos de Barrio" de Santatipo
END:VEVENT
BEGIN:VEVENT
DTSTAMP:20260423T102606Z
UID:event-11761-2024-07-16T10:00:00+02:00-2024-07-16T14:00:00+02:00
DTSTART;TZID=Europe/Madrid:20240716T100000
DTEND;TZID=Europe/Madrid:20240716T140000
DESCRIPTION:“Tipos de Barrio” es la manera de celebrar estos 10 años d
 e preservación y divulgación del Patrimonio Gráfico de Santander\, expo
 niendo por primera vez algunos de los rótulos y material gráfico rescata
 do y donado.
SUMMARY:Los "Tipos de Barrio" de Santatipo
END:VEVENT
BEGIN:VEVENT
DTSTAMP:20260423T102606Z
UID:event-11761-2024-07-16T16:00:00+02:00-2024-07-16T20:00:00+02:00
DTSTART;TZID=Europe/Madrid:20240716T160000
DTEND;TZID=Europe/Madrid:20240716T200000
DESCRIPTION:“Tipos de Barrio” es la manera de celebrar estos 10 años d
 e preservación y divulgación del Patrimonio Gráfico de Santander\, expo
 niendo por primera vez algunos de los rótulos y material gráfico rescata
 do y donado.
SUMMARY:Los "Tipos de Barrio" de Santatipo
END:VEVENT
BEGIN:VEVENT
DTSTAMP:20260423T102606Z
UID:event-11761-2024-07-17T10:00:00+02:00-2024-07-17T14:00:00+02:00
DTSTART;TZID=Europe/Madrid:20240717T100000
DTEND;TZID=Europe/Madrid:20240717T140000
DESCRIPTION:“Tipos de Barrio” es la manera de celebrar estos 10 años d
 e preservación y divulgación del Patrimonio Gráfico de Santander\, expo
 niendo por primera vez algunos de los rótulos y material gráfico rescata
 do y donado.
SUMMARY:Los "Tipos de Barrio" de Santatipo
END:VEVENT
BEGIN:VEVENT
DTSTAMP:20260423T102606Z
UID:event-11761-2024-07-17T16:00:00+02:00-2024-07-17T20:00:00+02:00
DTSTART;TZID=Europe/Madrid:20240717T160000
DTEND;TZID=Europe/Madrid:20240717T200000
DESCRIPTION:“Tipos de Barrio” es la manera de celebrar estos 10 años d
 e preservación y divulgación del Patrimonio Gráfico de Santander\, expo
 niendo por primera vez algunos de los rótulos y material gráfico rescata
 do y donado.
SUMMARY:Los "Tipos de Barrio" de Santatipo
END:VEVENT
BEGIN:VEVENT
DTSTAMP:20260423T102606Z
UID:event-11761-2024-07-18T10:00:00+02:00-2024-07-18T14:00:00+02:00
DTSTART;TZID=Europe/Madrid:20240718T100000
DTEND;TZID=Europe/Madrid:20240718T140000
DESCRIPTION:“Tipos de Barrio” es la manera de celebrar estos 10 años d
 e preservación y divulgación del Patrimonio Gráfico de Santander\, expo
 niendo por primera vez algunos de los rótulos y material gráfico rescata
 do y donado.
SUMMARY:Los "Tipos de Barrio" de Santatipo
END:VEVENT
BEGIN:VEVENT
DTSTAMP:20260423T102606Z
UID:event-11761-2024-07-18T16:00:00+02:00-2024-07-18T20:00:00+02:00
DTSTART;TZID=Europe/Madrid:20240718T160000
DTEND;TZID=Europe/Madrid:20240718T200000
DESCRIPTION:“Tipos de Barrio” es la manera de celebrar estos 10 años d
 e preservación y divulgación del Patrimonio Gráfico de Santander\, expo
 niendo por primera vez algunos de los rótulos y material gráfico rescata
 do y donado.
SUMMARY:Los "Tipos de Barrio" de Santatipo
END:VEVENT
BEGIN:VEVENT
DTSTAMP:20260423T102606Z
UID:event-11761-2024-07-19T10:00:00+02:00-2024-07-19T14:00:00+02:00
DTSTART;TZID=Europe/Madrid:20240719T100000
DTEND;TZID=Europe/Madrid:20240719T140000
DESCRIPTION:“Tipos de Barrio” es la manera de celebrar estos 10 años d
 e preservación y divulgación del Patrimonio Gráfico de Santander\, expo
 niendo por primera vez algunos de los rótulos y material gráfico rescata
 do y donado.
SUMMARY:Los "Tipos de Barrio" de Santatipo
END:VEVENT
BEGIN:VEVENT
DTSTAMP:20260423T102606Z
UID:event-11761-2024-07-19T16:00:00+02:00-2024-07-19T20:00:00+02:00
DTSTART;TZID=Europe/Madrid:20240719T160000
DTEND;TZID=Europe/Madrid:20240719T200000
DESCRIPTION:“Tipos de Barrio” es la manera de celebrar estos 10 años d
 e preservación y divulgación del Patrimonio Gráfico de Santander\, expo
 niendo por primera vez algunos de los rótulos y material gráfico rescata
 do y donado.
SUMMARY:Los "Tipos de Barrio" de Santatipo
END:VEVENT
BEGIN:VEVENT
DTSTAMP:20260423T102606Z
UID:event-11761-2024-07-20T10:00:00+02:00-2024-07-20T14:00:00+02:00
DTSTART;TZID=Europe/Madrid:20240720T100000
DTEND;TZID=Europe/Madrid:20240720T140000
DESCRIPTION:“Tipos de Barrio” es la manera de celebrar estos 10 años d
 e preservación y divulgación del Patrimonio Gráfico de Santander\, expo
 niendo por primera vez algunos de los rótulos y material gráfico rescata
 do y donado.
SUMMARY:Los "Tipos de Barrio" de Santatipo
END:VEVENT
BEGIN:VEVENT
DTSTAMP:20260423T102606Z
UID:event-11761-2024-07-20T16:00:00+02:00-2024-07-20T20:00:00+02:00
DTSTART;TZID=Europe/Madrid:20240720T160000
DTEND;TZID=Europe/Madrid:20240720T200000
DESCRIPTION:“Tipos de Barrio” es la manera de celebrar estos 10 años d
 e preservación y divulgación del Patrimonio Gráfico de Santander\, expo
 niendo por primera vez algunos de los rótulos y material gráfico rescata
 do y donado.
SUMMARY:Los "Tipos de Barrio" de Santatipo
END:VEVENT
BEGIN:VEVENT
DTSTAMP:20260423T102606Z
UID:event-11761-2024-07-23T10:00:00+02:00-2024-07-23T14:00:00+02:00
DTSTART;TZID=Europe/Madrid:20240723T100000
DTEND;TZID=Europe/Madrid:20240723T140000
DESCRIPTION:“Tipos de Barrio” es la manera de celebrar estos 10 años d
 e preservación y divulgación del Patrimonio Gráfico de Santander\, expo
 niendo por primera vez algunos de los rótulos y material gráfico rescata
 do y donado.
SUMMARY:Los "Tipos de Barrio" de Santatipo
END:VEVENT
BEGIN:VEVENT
DTSTAMP:20260423T102606Z
UID:event-11761-2024-07-23T16:00:00+02:00-2024-07-23T20:00:00+02:00
DTSTART;TZID=Europe/Madrid:20240723T160000
DTEND;TZID=Europe/Madrid:20240723T200000
DESCRIPTION:“Tipos de Barrio” es la manera de celebrar estos 10 años d
 e preservación y divulgación del Patrimonio Gráfico de Santander\, expo
 niendo por primera vez algunos de los rótulos y material gráfico rescata
 do y donado.
SUMMARY:Los "Tipos de Barrio" de Santatipo
END:VEVENT
BEGIN:VEVENT
DTSTAMP:20260423T102606Z
UID:event-11761-2024-07-24T10:00:00+02:00-2024-07-24T14:00:00+02:00
DTSTART;TZID=Europe/Madrid:20240724T100000
DTEND;TZID=Europe/Madrid:20240724T140000
DESCRIPTION:“Tipos de Barrio” es la manera de celebrar estos 10 años d
 e preservación y divulgación del Patrimonio Gráfico de Santander\, expo
 niendo por primera vez algunos de los rótulos y material gráfico rescata
 do y donado.
SUMMARY:Los "Tipos de Barrio" de Santatipo
END:VEVENT
BEGIN:VEVENT
DTSTAMP:20260423T102606Z
UID:event-11761-2024-07-24T16:00:00+02:00-2024-07-24T20:00:00+02:00
DTSTART;TZID=Europe/Madrid:20240724T160000
DTEND;TZID=Europe/Madrid:20240724T200000
DESCRIPTION:“Tipos de Barrio” es la manera de celebrar estos 10 años d
 e preservación y divulgación del Patrimonio Gráfico de Santander\, expo
 niendo por primera vez algunos de los rótulos y material gráfico rescata
 do y donado.
SUMMARY:Los "Tipos de Barrio" de Santatipo
END:VEVENT
BEGIN:VEVENT
DTSTAMP:20260423T102606Z
UID:event-11761-2024-07-25T10:00:00+02:00-2024-07-25T14:00:00+02:00
DTSTART;TZID=Europe/Madrid:20240725T100000
DTEND;TZID=Europe/Madrid:20240725T140000
DESCRIPTION:“Tipos de Barrio” es la manera de celebrar estos 10 años d
 e preservación y divulgación del Patrimonio Gráfico de Santander\, expo
 niendo por primera vez algunos de los rótulos y material gráfico rescata
 do y donado.
SUMMARY:Los "Tipos de Barrio" de Santatipo
END:VEVENT
BEGIN:VEVENT
DTSTAMP:20260423T102606Z
UID:event-11761-2024-07-25T16:00:00+02:00-2024-07-25T20:00:00+02:00
DTSTART;TZID=Europe/Madrid:20240725T160000
DTEND;TZID=Europe/Madrid:20240725T200000
DESCRIPTION:“Tipos de Barrio” es la manera de celebrar estos 10 años d
 e preservación y divulgación del Patrimonio Gráfico de Santander\, expo
 niendo por primera vez algunos de los rótulos y material gráfico rescata
 do y donado.
SUMMARY:Los "Tipos de Barrio" de Santatipo
END:VEVENT
BEGIN:VEVENT
DTSTAMP:20260423T102606Z
UID:event-11761-2024-07-26T10:00:00+02:00-2024-07-26T14:00:00+02:00
DTSTART;TZID=Europe/Madrid:20240726T100000
DTEND;TZID=Europe/Madrid:20240726T140000
DESCRIPTION:“Tipos de Barrio” es la manera de celebrar estos 10 años d
 e preservación y divulgación del Patrimonio Gráfico de Santander\, expo
 niendo por primera vez algunos de los rótulos y material gráfico rescata
 do y donado.
SUMMARY:Los "Tipos de Barrio" de Santatipo
END:VEVENT
BEGIN:VEVENT
DTSTAMP:20260423T102606Z
UID:event-11761-2024-07-26T16:00:00+02:00-2024-07-26T20:00:00+02:00
DTSTART;TZID=Europe/Madrid:20240726T160000
DTEND;TZID=Europe/Madrid:20240726T200000
DESCRIPTION:“Tipos de Barrio” es la manera de celebrar estos 10 años d
 e preservación y divulgación del Patrimonio Gráfico de Santander\, expo
 niendo por primera vez algunos de los rótulos y material gráfico rescata
 do y donado.
SUMMARY:Los "Tipos de Barrio" de Santatipo
END:VEVENT
BEGIN:VEVENT
DTSTAMP:20260423T102606Z
UID:event-11761-2024-07-27T10:00:00+02:00-2024-07-27T14:00:00+02:00
DTSTART;TZID=Europe/Madrid:20240727T100000
DTEND;TZID=Europe/Madrid:20240727T140000
DESCRIPTION:“Tipos de Barrio” es la manera de celebrar estos 10 años d
 e preservación y divulgación del Patrimonio Gráfico de Santander\, expo
 niendo por primera vez algunos de los rótulos y material gráfico rescata
 do y donado.
SUMMARY:Los "Tipos de Barrio" de Santatipo
END:VEVENT
BEGIN:VEVENT
DTSTAMP:20260423T102606Z
UID:event-11761-2024-07-27T16:00:00+02:00-2024-07-27T20:00:00+02:00
DTSTART;TZID=Europe/Madrid:20240727T160000
DTEND;TZID=Europe/Madrid:20240727T200000
DESCRIPTION:“Tipos de Barrio” es la manera de celebrar estos 10 años d
 e preservación y divulgación del Patrimonio Gráfico de Santander\, expo
 niendo por primera vez algunos de los rótulos y material gráfico rescata
 do y donado.
SUMMARY:Los "Tipos de Barrio" de Santatipo
END:VEVENT
BEGIN:VEVENT
DTSTAMP:20260423T102606Z
UID:event-11761-2024-07-30T10:00:00+02:00-2024-07-30T14:00:00+02:00
DTSTART;TZID=Europe/Madrid:20240730T100000
DTEND;TZID=Europe/Madrid:20240730T140000
DESCRIPTION:“Tipos de Barrio” es la manera de celebrar estos 10 años d
 e preservación y divulgación del Patrimonio Gráfico de Santander\, expo
 niendo por primera vez algunos de los rótulos y material gráfico rescata
 do y donado.
SUMMARY:Los "Tipos de Barrio" de Santatipo
END:VEVENT
BEGIN:VEVENT
DTSTAMP:20260423T102606Z
UID:event-11761-2024-07-30T16:00:00+02:00-2024-07-30T20:00:00+02:00
DTSTART;TZID=Europe/Madrid:20240730T160000
DTEND;TZID=Europe/Madrid:20240730T200000
DESCRIPTION:“Tipos de Barrio” es la manera de celebrar estos 10 años d
 e preservación y divulgación del Patrimonio Gráfico de Santander\, expo
 niendo por primera vez algunos de los rótulos y material gráfico rescata
 do y donado.
SUMMARY:Los "Tipos de Barrio" de Santatipo
END:VEVENT
BEGIN:VEVENT
DTSTAMP:20260423T102606Z
UID:event-11761-2024-07-31T10:00:00+02:00-2024-07-31T14:00:00+02:00
DTSTART;TZID=Europe/Madrid:20240731T100000
DTEND;TZID=Europe/Madrid:20240731T140000
DESCRIPTION:“Tipos de Barrio” es la manera de celebrar estos 10 años d
 e preservación y divulgación del Patrimonio Gráfico de Santander\, expo
 niendo por primera vez algunos de los rótulos y material gráfico rescata
 do y donado.
SUMMARY:Los "Tipos de Barrio" de Santatipo
END:VEVENT
BEGIN:VEVENT
DTSTAMP:20260423T102606Z
UID:event-11761-2024-07-31T16:00:00+02:00-2024-07-31T20:00:00+02:00
DTSTART;TZID=Europe/Madrid:20240731T160000
DTEND;TZID=Europe/Madrid:20240731T200000
DESCRIPTION:“Tipos de Barrio” es la manera de celebrar estos 10 años d
 e preservación y divulgación del Patrimonio Gráfico de Santander\, expo
 niendo por primera vez algunos de los rótulos y material gráfico rescata
 do y donado.
SUMMARY:Los "Tipos de Barrio" de Santatipo
END:VEVENT
BEGIN:VEVENT
DTSTAMP:20260423T102606Z
UID:event-11761-2024-08-01T10:00:00+02:00-2024-08-01T14:00:00+02:00
DTSTART;TZID=Europe/Madrid:20240801T100000
DTEND;TZID=Europe/Madrid:20240801T140000
DESCRIPTION:“Tipos de Barrio” es la manera de celebrar estos 10 años d
 e preservación y divulgación del Patrimonio Gráfico de Santander\, expo
 niendo por primera vez algunos de los rótulos y material gráfico rescata
 do y donado.
SUMMARY:Los "Tipos de Barrio" de Santatipo
END:VEVENT
BEGIN:VEVENT
DTSTAMP:20260423T102606Z
UID:event-11761-2024-08-01T16:00:00+02:00-2024-08-01T20:00:00+02:00
DTSTART;TZID=Europe/Madrid:20240801T160000
DTEND;TZID=Europe/Madrid:20240801T200000
DESCRIPTION:“Tipos de Barrio” es la manera de celebrar estos 10 años d
 e preservación y divulgación del Patrimonio Gráfico de Santander\, expo
 niendo por primera vez algunos de los rótulos y material gráfico rescata
 do y donado.
SUMMARY:Los "Tipos de Barrio" de Santatipo
END:VEVENT
BEGIN:VEVENT
DTSTAMP:20260423T102606Z
UID:event-11761-2024-08-02T10:00:00+02:00-2024-08-02T14:00:00+02:00
DTSTART;TZID=Europe/Madrid:20240802T100000
DTEND;TZID=Europe/Madrid:20240802T140000
DESCRIPTION:“Tipos de Barrio” es la manera de celebrar estos 10 años d
 e preservación y divulgación del Patrimonio Gráfico de Santander\, expo
 niendo por primera vez algunos de los rótulos y material gráfico rescata
 do y donado.
SUMMARY:Los "Tipos de Barrio" de Santatipo
END:VEVENT
BEGIN:VEVENT
DTSTAMP:20260423T102606Z
UID:event-11761-2024-08-02T16:00:00+02:00-2024-08-02T20:00:00+02:00
DTSTART;TZID=Europe/Madrid:20240802T160000
DTEND;TZID=Europe/Madrid:20240802T200000
DESCRIPTION:“Tipos de Barrio” es la manera de celebrar estos 10 años d
 e preservación y divulgación del Patrimonio Gráfico de Santander\, expo
 niendo por primera vez algunos de los rótulos y material gráfico rescata
 do y donado.
SUMMARY:Los "Tipos de Barrio" de Santatipo
END:VEVENT
BEGIN:VEVENT
DTSTAMP:20260423T102606Z
UID:event-11761-2024-08-03T10:00:00+02:00-2024-08-03T14:00:00+02:00
DTSTART;TZID=Europe/Madrid:20240803T100000
DTEND;TZID=Europe/Madrid:20240803T140000
DESCRIPTION:“Tipos de Barrio” es la manera de celebrar estos 10 años d
 e preservación y divulgación del Patrimonio Gráfico de Santander\, expo
 niendo por primera vez algunos de los rótulos y material gráfico rescata
 do y donado.
SUMMARY:Los "Tipos de Barrio" de Santatipo
END:VEVENT
BEGIN:VEVENT
DTSTAMP:20260423T102606Z
UID:event-11761-2024-08-03T16:00:00+02:00-2024-08-03T20:00:00+02:00
DTSTART;TZID=Europe/Madrid:20240803T160000
DTEND;TZID=Europe/Madrid:20240803T200000
DESCRIPTION:“Tipos de Barrio” es la manera de celebrar estos 10 años d
 e preservación y divulgación del Patrimonio Gráfico de Santander\, expo
 niendo por primera vez algunos de los rótulos y material gráfico rescata
 do y donado.
SUMMARY:Los "Tipos de Barrio" de Santatipo
END:VEVENT
BEGIN:VEVENT
DTSTAMP:20260423T102606Z
UID:event-11761-2024-08-06T10:00:00+02:00-2024-08-06T14:00:00+02:00
DTSTART;TZID=Europe/Madrid:20240806T100000
DTEND;TZID=Europe/Madrid:20240806T140000
DESCRIPTION:“Tipos de Barrio” es la manera de celebrar estos 10 años d
 e preservación y divulgación del Patrimonio Gráfico de Santander\, expo
 niendo por primera vez algunos de los rótulos y material gráfico rescata
 do y donado.
SUMMARY:Los "Tipos de Barrio" de Santatipo
END:VEVENT
BEGIN:VEVENT
DTSTAMP:20260423T102606Z
UID:event-11761-2024-08-06T16:00:00+02:00-2024-08-06T20:00:00+02:00
DTSTART;TZID=Europe/Madrid:20240806T160000
DTEND;TZID=Europe/Madrid:20240806T200000
DESCRIPTION:“Tipos de Barrio” es la manera de celebrar estos 10 años d
 e preservación y divulgación del Patrimonio Gráfico de Santander\, expo
 niendo por primera vez algunos de los rótulos y material gráfico rescata
 do y donado.
SUMMARY:Los "Tipos de Barrio" de Santatipo
END:VEVENT
BEGIN:VEVENT
DTSTAMP:20260423T102606Z
UID:event-11761-2024-08-07T10:00:00+02:00-2024-08-07T14:00:00+02:00
DTSTART;TZID=Europe/Madrid:20240807T100000
DTEND;TZID=Europe/Madrid:20240807T140000
DESCRIPTION:“Tipos de Barrio” es la manera de celebrar estos 10 años d
 e preservación y divulgación del Patrimonio Gráfico de Santander\, expo
 niendo por primera vez algunos de los rótulos y material gráfico rescata
 do y donado.
SUMMARY:Los "Tipos de Barrio" de Santatipo
END:VEVENT
BEGIN:VEVENT
DTSTAMP:20260423T102606Z
UID:event-11761-2024-08-07T16:00:00+02:00-2024-08-07T20:00:00+02:00
DTSTART;TZID=Europe/Madrid:20240807T160000
DTEND;TZID=Europe/Madrid:20240807T200000
DESCRIPTION:“Tipos de Barrio” es la manera de celebrar estos 10 años d
 e preservación y divulgación del Patrimonio Gráfico de Santander\, expo
 niendo por primera vez algunos de los rótulos y material gráfico rescata
 do y donado.
SUMMARY:Los "Tipos de Barrio" de Santatipo
END:VEVENT
BEGIN:VEVENT
DTSTAMP:20260423T102606Z
UID:event-11761-2024-08-08T10:00:00+02:00-2024-08-08T14:00:00+02:00
DTSTART;TZID=Europe/Madrid:20240808T100000
DTEND;TZID=Europe/Madrid:20240808T140000
DESCRIPTION:“Tipos de Barrio” es la manera de celebrar estos 10 años d
 e preservación y divulgación del Patrimonio Gráfico de Santander\, expo
 niendo por primera vez algunos de los rótulos y material gráfico rescata
 do y donado.
SUMMARY:Los "Tipos de Barrio" de Santatipo
END:VEVENT
BEGIN:VEVENT
DTSTAMP:20260423T102606Z
UID:event-11761-2024-08-08T16:00:00+02:00-2024-08-08T20:00:00+02:00
DTSTART;TZID=Europe/Madrid:20240808T160000
DTEND;TZID=Europe/Madrid:20240808T200000
DESCRIPTION:“Tipos de Barrio” es la manera de celebrar estos 10 años d
 e preservación y divulgación del Patrimonio Gráfico de Santander\, expo
 niendo por primera vez algunos de los rótulos y material gráfico rescata
 do y donado.
SUMMARY:Los "Tipos de Barrio" de Santatipo
END:VEVENT
BEGIN:VEVENT
DTSTAMP:20260423T102606Z
UID:event-11761-2024-08-09T10:00:00+02:00-2024-08-09T14:00:00+02:00
DTSTART;TZID=Europe/Madrid:20240809T100000
DTEND;TZID=Europe/Madrid:20240809T140000
DESCRIPTION:“Tipos de Barrio” es la manera de celebrar estos 10 años d
 e preservación y divulgación del Patrimonio Gráfico de Santander\, expo
 niendo por primera vez algunos de los rótulos y material gráfico rescata
 do y donado.
SUMMARY:Los "Tipos de Barrio" de Santatipo
END:VEVENT
BEGIN:VEVENT
DTSTAMP:20260423T102606Z
UID:event-11761-2024-08-09T16:00:00+02:00-2024-08-09T20:00:00+02:00
DTSTART;TZID=Europe/Madrid:20240809T160000
DTEND;TZID=Europe/Madrid:20240809T200000
DESCRIPTION:“Tipos de Barrio” es la manera de celebrar estos 10 años d
 e preservación y divulgación del Patrimonio Gráfico de Santander\, expo
 niendo por primera vez algunos de los rótulos y material gráfico rescata
 do y donado.
SUMMARY:Los "Tipos de Barrio" de Santatipo
END:VEVENT
END:VCALENDAR
