BEGIN:VCALENDAR
VERSION:2.0
PRODID:icalendar-ruby
CALSCALE:GREGORIAN
METHOD:PUBLISH
BEGIN:VEVENT
DTSTAMP:20260420T160735Z
UID:event-20589-2026-12-18T19:00:00+01:00-none
DTSTART;TZID=Europe/Madrid:20261218T190000
DESCRIPTION:El 18 de diciembre finalizará el ciclo con la actuación de 
 ‘Coros y Danzas’\, una agrupación que destaca por su dedicación a lo
 s trajes tradicionales de Cantabria.
SUMMARY:Coros y Danzas cierran el ciclo "Folclore en todas las estaciones"
END:VEVENT
END:VCALENDAR
