BEGIN:VCALENDAR
VERSION:2.0
PRODID:icalendar-ruby
CALSCALE:GREGORIAN
METHOD:PUBLISH
BEGIN:VEVENT
DTSTAMP:20260423T121924Z
UID:event-21471-2026-03-05-2026-03-05
DTSTART;VALUE=DATE:20260305
DTEND;VALUE=DATE:20260305
DESCRIPTION:Para Txema Salvans\, el cometido del fotógrafo es congelar el 
 tiempo y darle la posibilidad de perdurar. Sus imágenes nos interpelan e 
 invitan a cuestionarnos como seres humanos.
SUMMARY:"Croacia"\, de Txema Salvans\, en el escaparate de LCDLLUZ
END:VEVENT
BEGIN:VEVENT
DTSTAMP:20260423T121924Z
UID:event-21471-2026-03-06-2026-03-06
DTSTART;VALUE=DATE:20260306
DTEND;VALUE=DATE:20260306
DESCRIPTION:Para Txema Salvans\, el cometido del fotógrafo es congelar el 
 tiempo y darle la posibilidad de perdurar. Sus imágenes nos interpelan e 
 invitan a cuestionarnos como seres humanos.
SUMMARY:"Croacia"\, de Txema Salvans\, en el escaparate de LCDLLUZ
END:VEVENT
BEGIN:VEVENT
DTSTAMP:20260423T121924Z
UID:event-21471-2026-03-07-2026-03-07
DTSTART;VALUE=DATE:20260307
DTEND;VALUE=DATE:20260307
DESCRIPTION:Para Txema Salvans\, el cometido del fotógrafo es congelar el 
 tiempo y darle la posibilidad de perdurar. Sus imágenes nos interpelan e 
 invitan a cuestionarnos como seres humanos.
SUMMARY:"Croacia"\, de Txema Salvans\, en el escaparate de LCDLLUZ
END:VEVENT
BEGIN:VEVENT
DTSTAMP:20260423T121924Z
UID:event-21471-2026-03-08-2026-03-08
DTSTART;VALUE=DATE:20260308
DTEND;VALUE=DATE:20260308
DESCRIPTION:Para Txema Salvans\, el cometido del fotógrafo es congelar el 
 tiempo y darle la posibilidad de perdurar. Sus imágenes nos interpelan e 
 invitan a cuestionarnos como seres humanos.
SUMMARY:"Croacia"\, de Txema Salvans\, en el escaparate de LCDLLUZ
END:VEVENT
BEGIN:VEVENT
DTSTAMP:20260423T121924Z
UID:event-21471-2026-03-09-2026-03-09
DTSTART;VALUE=DATE:20260309
DTEND;VALUE=DATE:20260309
DESCRIPTION:Para Txema Salvans\, el cometido del fotógrafo es congelar el 
 tiempo y darle la posibilidad de perdurar. Sus imágenes nos interpelan e 
 invitan a cuestionarnos como seres humanos.
SUMMARY:"Croacia"\, de Txema Salvans\, en el escaparate de LCDLLUZ
END:VEVENT
BEGIN:VEVENT
DTSTAMP:20260423T121924Z
UID:event-21471-2026-03-10-2026-03-10
DTSTART;VALUE=DATE:20260310
DTEND;VALUE=DATE:20260310
DESCRIPTION:Para Txema Salvans\, el cometido del fotógrafo es congelar el 
 tiempo y darle la posibilidad de perdurar. Sus imágenes nos interpelan e 
 invitan a cuestionarnos como seres humanos.
SUMMARY:"Croacia"\, de Txema Salvans\, en el escaparate de LCDLLUZ
END:VEVENT
BEGIN:VEVENT
DTSTAMP:20260423T121924Z
UID:event-21471-2026-03-11-2026-03-11
DTSTART;VALUE=DATE:20260311
DTEND;VALUE=DATE:20260311
DESCRIPTION:Para Txema Salvans\, el cometido del fotógrafo es congelar el 
 tiempo y darle la posibilidad de perdurar. Sus imágenes nos interpelan e 
 invitan a cuestionarnos como seres humanos.
SUMMARY:"Croacia"\, de Txema Salvans\, en el escaparate de LCDLLUZ
END:VEVENT
BEGIN:VEVENT
DTSTAMP:20260423T121924Z
UID:event-21471-2026-03-12-2026-03-12
DTSTART;VALUE=DATE:20260312
DTEND;VALUE=DATE:20260312
DESCRIPTION:Para Txema Salvans\, el cometido del fotógrafo es congelar el 
 tiempo y darle la posibilidad de perdurar. Sus imágenes nos interpelan e 
 invitan a cuestionarnos como seres humanos.
SUMMARY:"Croacia"\, de Txema Salvans\, en el escaparate de LCDLLUZ
END:VEVENT
BEGIN:VEVENT
DTSTAMP:20260423T121924Z
UID:event-21471-2026-03-13-2026-03-13
DTSTART;VALUE=DATE:20260313
DTEND;VALUE=DATE:20260313
DESCRIPTION:Para Txema Salvans\, el cometido del fotógrafo es congelar el 
 tiempo y darle la posibilidad de perdurar. Sus imágenes nos interpelan e 
 invitan a cuestionarnos como seres humanos.
SUMMARY:"Croacia"\, de Txema Salvans\, en el escaparate de LCDLLUZ
END:VEVENT
BEGIN:VEVENT
DTSTAMP:20260423T121924Z
UID:event-21471-2026-03-14-2026-03-14
DTSTART;VALUE=DATE:20260314
DTEND;VALUE=DATE:20260314
DESCRIPTION:Para Txema Salvans\, el cometido del fotógrafo es congelar el 
 tiempo y darle la posibilidad de perdurar. Sus imágenes nos interpelan e 
 invitan a cuestionarnos como seres humanos.
SUMMARY:"Croacia"\, de Txema Salvans\, en el escaparate de LCDLLUZ
END:VEVENT
BEGIN:VEVENT
DTSTAMP:20260423T121924Z
UID:event-21471-2026-03-15-2026-03-15
DTSTART;VALUE=DATE:20260315
DTEND;VALUE=DATE:20260315
DESCRIPTION:Para Txema Salvans\, el cometido del fotógrafo es congelar el 
 tiempo y darle la posibilidad de perdurar. Sus imágenes nos interpelan e 
 invitan a cuestionarnos como seres humanos.
SUMMARY:"Croacia"\, de Txema Salvans\, en el escaparate de LCDLLUZ
END:VEVENT
BEGIN:VEVENT
DTSTAMP:20260423T121924Z
UID:event-21471-2026-03-16-2026-03-16
DTSTART;VALUE=DATE:20260316
DTEND;VALUE=DATE:20260316
DESCRIPTION:Para Txema Salvans\, el cometido del fotógrafo es congelar el 
 tiempo y darle la posibilidad de perdurar. Sus imágenes nos interpelan e 
 invitan a cuestionarnos como seres humanos.
SUMMARY:"Croacia"\, de Txema Salvans\, en el escaparate de LCDLLUZ
END:VEVENT
BEGIN:VEVENT
DTSTAMP:20260423T121924Z
UID:event-21471-2026-03-17-2026-03-17
DTSTART;VALUE=DATE:20260317
DTEND;VALUE=DATE:20260317
DESCRIPTION:Para Txema Salvans\, el cometido del fotógrafo es congelar el 
 tiempo y darle la posibilidad de perdurar. Sus imágenes nos interpelan e 
 invitan a cuestionarnos como seres humanos.
SUMMARY:"Croacia"\, de Txema Salvans\, en el escaparate de LCDLLUZ
END:VEVENT
BEGIN:VEVENT
DTSTAMP:20260423T121924Z
UID:event-21471-2026-03-18-2026-03-18
DTSTART;VALUE=DATE:20260318
DTEND;VALUE=DATE:20260318
DESCRIPTION:Para Txema Salvans\, el cometido del fotógrafo es congelar el 
 tiempo y darle la posibilidad de perdurar. Sus imágenes nos interpelan e 
 invitan a cuestionarnos como seres humanos.
SUMMARY:"Croacia"\, de Txema Salvans\, en el escaparate de LCDLLUZ
END:VEVENT
BEGIN:VEVENT
DTSTAMP:20260423T121924Z
UID:event-21471-2026-03-19-2026-03-19
DTSTART;VALUE=DATE:20260319
DTEND;VALUE=DATE:20260319
DESCRIPTION:Para Txema Salvans\, el cometido del fotógrafo es congelar el 
 tiempo y darle la posibilidad de perdurar. Sus imágenes nos interpelan e 
 invitan a cuestionarnos como seres humanos.
SUMMARY:"Croacia"\, de Txema Salvans\, en el escaparate de LCDLLUZ
END:VEVENT
BEGIN:VEVENT
DTSTAMP:20260423T121924Z
UID:event-21471-2026-03-20-2026-03-20
DTSTART;VALUE=DATE:20260320
DTEND;VALUE=DATE:20260320
DESCRIPTION:Para Txema Salvans\, el cometido del fotógrafo es congelar el 
 tiempo y darle la posibilidad de perdurar. Sus imágenes nos interpelan e 
 invitan a cuestionarnos como seres humanos.
SUMMARY:"Croacia"\, de Txema Salvans\, en el escaparate de LCDLLUZ
END:VEVENT
BEGIN:VEVENT
DTSTAMP:20260423T121924Z
UID:event-21471-2026-03-21-2026-03-21
DTSTART;VALUE=DATE:20260321
DTEND;VALUE=DATE:20260321
DESCRIPTION:Para Txema Salvans\, el cometido del fotógrafo es congelar el 
 tiempo y darle la posibilidad de perdurar. Sus imágenes nos interpelan e 
 invitan a cuestionarnos como seres humanos.
SUMMARY:"Croacia"\, de Txema Salvans\, en el escaparate de LCDLLUZ
END:VEVENT
BEGIN:VEVENT
DTSTAMP:20260423T121924Z
UID:event-21471-2026-03-22-2026-03-22
DTSTART;VALUE=DATE:20260322
DTEND;VALUE=DATE:20260322
DESCRIPTION:Para Txema Salvans\, el cometido del fotógrafo es congelar el 
 tiempo y darle la posibilidad de perdurar. Sus imágenes nos interpelan e 
 invitan a cuestionarnos como seres humanos.
SUMMARY:"Croacia"\, de Txema Salvans\, en el escaparate de LCDLLUZ
END:VEVENT
BEGIN:VEVENT
DTSTAMP:20260423T121924Z
UID:event-21471-2026-03-23-2026-03-23
DTSTART;VALUE=DATE:20260323
DTEND;VALUE=DATE:20260323
DESCRIPTION:Para Txema Salvans\, el cometido del fotógrafo es congelar el 
 tiempo y darle la posibilidad de perdurar. Sus imágenes nos interpelan e 
 invitan a cuestionarnos como seres humanos.
SUMMARY:"Croacia"\, de Txema Salvans\, en el escaparate de LCDLLUZ
END:VEVENT
BEGIN:VEVENT
DTSTAMP:20260423T121924Z
UID:event-21471-2026-03-24-2026-03-24
DTSTART;VALUE=DATE:20260324
DTEND;VALUE=DATE:20260324
DESCRIPTION:Para Txema Salvans\, el cometido del fotógrafo es congelar el 
 tiempo y darle la posibilidad de perdurar. Sus imágenes nos interpelan e 
 invitan a cuestionarnos como seres humanos.
SUMMARY:"Croacia"\, de Txema Salvans\, en el escaparate de LCDLLUZ
END:VEVENT
BEGIN:VEVENT
DTSTAMP:20260423T121924Z
UID:event-21471-2026-03-25-2026-03-25
DTSTART;VALUE=DATE:20260325
DTEND;VALUE=DATE:20260325
DESCRIPTION:Para Txema Salvans\, el cometido del fotógrafo es congelar el 
 tiempo y darle la posibilidad de perdurar. Sus imágenes nos interpelan e 
 invitan a cuestionarnos como seres humanos.
SUMMARY:"Croacia"\, de Txema Salvans\, en el escaparate de LCDLLUZ
END:VEVENT
BEGIN:VEVENT
DTSTAMP:20260423T121924Z
UID:event-21471-2026-03-26-2026-03-26
DTSTART;VALUE=DATE:20260326
DTEND;VALUE=DATE:20260326
DESCRIPTION:Para Txema Salvans\, el cometido del fotógrafo es congelar el 
 tiempo y darle la posibilidad de perdurar. Sus imágenes nos interpelan e 
 invitan a cuestionarnos como seres humanos.
SUMMARY:"Croacia"\, de Txema Salvans\, en el escaparate de LCDLLUZ
END:VEVENT
BEGIN:VEVENT
DTSTAMP:20260423T121924Z
UID:event-21471-2026-03-27-2026-03-27
DTSTART;VALUE=DATE:20260327
DTEND;VALUE=DATE:20260327
DESCRIPTION:Para Txema Salvans\, el cometido del fotógrafo es congelar el 
 tiempo y darle la posibilidad de perdurar. Sus imágenes nos interpelan e 
 invitan a cuestionarnos como seres humanos.
SUMMARY:"Croacia"\, de Txema Salvans\, en el escaparate de LCDLLUZ
END:VEVENT
BEGIN:VEVENT
DTSTAMP:20260423T121924Z
UID:event-21471-2026-03-28-2026-03-28
DTSTART;VALUE=DATE:20260328
DTEND;VALUE=DATE:20260328
DESCRIPTION:Para Txema Salvans\, el cometido del fotógrafo es congelar el 
 tiempo y darle la posibilidad de perdurar. Sus imágenes nos interpelan e 
 invitan a cuestionarnos como seres humanos.
SUMMARY:"Croacia"\, de Txema Salvans\, en el escaparate de LCDLLUZ
END:VEVENT
BEGIN:VEVENT
DTSTAMP:20260423T121924Z
UID:event-21471-2026-03-29-2026-03-29
DTSTART;VALUE=DATE:20260329
DTEND;VALUE=DATE:20260329
DESCRIPTION:Para Txema Salvans\, el cometido del fotógrafo es congelar el 
 tiempo y darle la posibilidad de perdurar. Sus imágenes nos interpelan e 
 invitan a cuestionarnos como seres humanos.
SUMMARY:"Croacia"\, de Txema Salvans\, en el escaparate de LCDLLUZ
END:VEVENT
BEGIN:VEVENT
DTSTAMP:20260423T121924Z
UID:event-21471-2026-03-30-2026-03-30
DTSTART;VALUE=DATE:20260330
DTEND;VALUE=DATE:20260330
DESCRIPTION:Para Txema Salvans\, el cometido del fotógrafo es congelar el 
 tiempo y darle la posibilidad de perdurar. Sus imágenes nos interpelan e 
 invitan a cuestionarnos como seres humanos.
SUMMARY:"Croacia"\, de Txema Salvans\, en el escaparate de LCDLLUZ
END:VEVENT
BEGIN:VEVENT
DTSTAMP:20260423T121924Z
UID:event-21471-2026-03-31-2026-03-31
DTSTART;VALUE=DATE:20260331
DTEND;VALUE=DATE:20260331
DESCRIPTION:Para Txema Salvans\, el cometido del fotógrafo es congelar el 
 tiempo y darle la posibilidad de perdurar. Sus imágenes nos interpelan e 
 invitan a cuestionarnos como seres humanos.
SUMMARY:"Croacia"\, de Txema Salvans\, en el escaparate de LCDLLUZ
END:VEVENT
END:VCALENDAR
