BEGIN:VCALENDAR
VERSION:2.0
PRODID:icalendar-ruby
CALSCALE:GREGORIAN
METHOD:PUBLISH
BEGIN:VEVENT
DTSTAMP:20260420T160044Z
UID:event-22222-2026-04-27T19:30:00+02:00-none
DTSTART;TZID=Europe/Madrid:20260427T193000
DESCRIPTION:Actividad de carácter psicoeducativo dirigida a personas adult
 as con ansiedad que presentan dificultades en su relación con la comida.
SUMMARY:"Cuando la ansiedad se sienta a la mesa"\, actividad psicoeducativa
END:VEVENT
END:VCALENDAR
