BEGIN:VCALENDAR
VERSION:2.0
PRODID:icalendar-ruby
CALSCALE:GREGORIAN
METHOD:PUBLISH
BEGIN:VEVENT
DTSTAMP:20260421T174717Z
UID:event-21891-2026-04-01T09:30:00+02:00-2026-04-01T21:30:00+02:00
DTSTART;TZID=Europe/Madrid:20260401T093000
DTEND;TZID=Europe/Madrid:20260401T213000
DESCRIPTION:La muestra reúne pintura y escultura\, dos lenguajes que dialo
 gan entre sí y que comparten una misma búsqueda: explorar la relación e
 ntre la palabra\, la memoria y la forma. 
SUMMARY: “Cuerpos con memoria”\, exposición de pintura y escultura de 
 Vanesa Vila
END:VEVENT
BEGIN:VEVENT
DTSTAMP:20260421T174717Z
UID:event-21891-2026-04-02T09:30:00+02:00-2026-04-02T21:30:00+02:00
DTSTART;TZID=Europe/Madrid:20260402T093000
DTEND;TZID=Europe/Madrid:20260402T213000
DESCRIPTION:La muestra reúne pintura y escultura\, dos lenguajes que dialo
 gan entre sí y que comparten una misma búsqueda: explorar la relación e
 ntre la palabra\, la memoria y la forma. 
SUMMARY: “Cuerpos con memoria”\, exposición de pintura y escultura de 
 Vanesa Vila
END:VEVENT
BEGIN:VEVENT
DTSTAMP:20260421T174717Z
UID:event-21891-2026-04-03T09:30:00+02:00-2026-04-03T21:30:00+02:00
DTSTART;TZID=Europe/Madrid:20260403T093000
DTEND;TZID=Europe/Madrid:20260403T213000
DESCRIPTION:La muestra reúne pintura y escultura\, dos lenguajes que dialo
 gan entre sí y que comparten una misma búsqueda: explorar la relación e
 ntre la palabra\, la memoria y la forma. 
SUMMARY: “Cuerpos con memoria”\, exposición de pintura y escultura de 
 Vanesa Vila
END:VEVENT
BEGIN:VEVENT
DTSTAMP:20260421T174717Z
UID:event-21891-2026-04-04T09:30:00+02:00-2026-04-04T21:30:00+02:00
DTSTART;TZID=Europe/Madrid:20260404T093000
DTEND;TZID=Europe/Madrid:20260404T213000
DESCRIPTION:La muestra reúne pintura y escultura\, dos lenguajes que dialo
 gan entre sí y que comparten una misma búsqueda: explorar la relación e
 ntre la palabra\, la memoria y la forma. 
SUMMARY: “Cuerpos con memoria”\, exposición de pintura y escultura de 
 Vanesa Vila
END:VEVENT
BEGIN:VEVENT
DTSTAMP:20260421T174717Z
UID:event-21891-2026-04-05T09:30:00+02:00-2026-04-05T21:30:00+02:00
DTSTART;TZID=Europe/Madrid:20260405T093000
DTEND;TZID=Europe/Madrid:20260405T213000
DESCRIPTION:La muestra reúne pintura y escultura\, dos lenguajes que dialo
 gan entre sí y que comparten una misma búsqueda: explorar la relación e
 ntre la palabra\, la memoria y la forma. 
SUMMARY: “Cuerpos con memoria”\, exposición de pintura y escultura de 
 Vanesa Vila
END:VEVENT
BEGIN:VEVENT
DTSTAMP:20260421T174717Z
UID:event-21891-2026-04-06T09:30:00+02:00-2026-04-06T21:30:00+02:00
DTSTART;TZID=Europe/Madrid:20260406T093000
DTEND;TZID=Europe/Madrid:20260406T213000
DESCRIPTION:La muestra reúne pintura y escultura\, dos lenguajes que dialo
 gan entre sí y que comparten una misma búsqueda: explorar la relación e
 ntre la palabra\, la memoria y la forma. 
SUMMARY: “Cuerpos con memoria”\, exposición de pintura y escultura de 
 Vanesa Vila
END:VEVENT
BEGIN:VEVENT
DTSTAMP:20260421T174717Z
UID:event-21891-2026-04-07T09:30:00+02:00-2026-04-07T21:30:00+02:00
DTSTART;TZID=Europe/Madrid:20260407T093000
DTEND;TZID=Europe/Madrid:20260407T213000
DESCRIPTION:La muestra reúne pintura y escultura\, dos lenguajes que dialo
 gan entre sí y que comparten una misma búsqueda: explorar la relación e
 ntre la palabra\, la memoria y la forma. 
SUMMARY: “Cuerpos con memoria”\, exposición de pintura y escultura de 
 Vanesa Vila
END:VEVENT
BEGIN:VEVENT
DTSTAMP:20260421T174717Z
UID:event-21891-2026-04-08T09:30:00+02:00-2026-04-08T21:30:00+02:00
DTSTART;TZID=Europe/Madrid:20260408T093000
DTEND;TZID=Europe/Madrid:20260408T213000
DESCRIPTION:La muestra reúne pintura y escultura\, dos lenguajes que dialo
 gan entre sí y que comparten una misma búsqueda: explorar la relación e
 ntre la palabra\, la memoria y la forma. 
SUMMARY: “Cuerpos con memoria”\, exposición de pintura y escultura de 
 Vanesa Vila
END:VEVENT
BEGIN:VEVENT
DTSTAMP:20260421T174717Z
UID:event-21891-2026-04-09T09:30:00+02:00-2026-04-09T21:30:00+02:00
DTSTART;TZID=Europe/Madrid:20260409T093000
DTEND;TZID=Europe/Madrid:20260409T213000
DESCRIPTION:La muestra reúne pintura y escultura\, dos lenguajes que dialo
 gan entre sí y que comparten una misma búsqueda: explorar la relación e
 ntre la palabra\, la memoria y la forma. 
SUMMARY: “Cuerpos con memoria”\, exposición de pintura y escultura de 
 Vanesa Vila
END:VEVENT
BEGIN:VEVENT
DTSTAMP:20260421T174717Z
UID:event-21891-2026-04-10T09:30:00+02:00-2026-04-10T21:30:00+02:00
DTSTART;TZID=Europe/Madrid:20260410T093000
DTEND;TZID=Europe/Madrid:20260410T213000
DESCRIPTION:La muestra reúne pintura y escultura\, dos lenguajes que dialo
 gan entre sí y que comparten una misma búsqueda: explorar la relación e
 ntre la palabra\, la memoria y la forma. 
SUMMARY: “Cuerpos con memoria”\, exposición de pintura y escultura de 
 Vanesa Vila
END:VEVENT
BEGIN:VEVENT
DTSTAMP:20260421T174717Z
UID:event-21891-2026-04-11T09:30:00+02:00-2026-04-11T21:30:00+02:00
DTSTART;TZID=Europe/Madrid:20260411T093000
DTEND;TZID=Europe/Madrid:20260411T213000
DESCRIPTION:La muestra reúne pintura y escultura\, dos lenguajes que dialo
 gan entre sí y que comparten una misma búsqueda: explorar la relación e
 ntre la palabra\, la memoria y la forma. 
SUMMARY: “Cuerpos con memoria”\, exposición de pintura y escultura de 
 Vanesa Vila
END:VEVENT
BEGIN:VEVENT
DTSTAMP:20260421T174717Z
UID:event-21891-2026-04-12T09:30:00+02:00-2026-04-12T21:30:00+02:00
DTSTART;TZID=Europe/Madrid:20260412T093000
DTEND;TZID=Europe/Madrid:20260412T213000
DESCRIPTION:La muestra reúne pintura y escultura\, dos lenguajes que dialo
 gan entre sí y que comparten una misma búsqueda: explorar la relación e
 ntre la palabra\, la memoria y la forma. 
SUMMARY: “Cuerpos con memoria”\, exposición de pintura y escultura de 
 Vanesa Vila
END:VEVENT
BEGIN:VEVENT
DTSTAMP:20260421T174717Z
UID:event-21891-2026-04-13T09:30:00+02:00-2026-04-13T21:30:00+02:00
DTSTART;TZID=Europe/Madrid:20260413T093000
DTEND;TZID=Europe/Madrid:20260413T213000
DESCRIPTION:La muestra reúne pintura y escultura\, dos lenguajes que dialo
 gan entre sí y que comparten una misma búsqueda: explorar la relación e
 ntre la palabra\, la memoria y la forma. 
SUMMARY: “Cuerpos con memoria”\, exposición de pintura y escultura de 
 Vanesa Vila
END:VEVENT
BEGIN:VEVENT
DTSTAMP:20260421T174717Z
UID:event-21891-2026-04-14T09:30:00+02:00-2026-04-14T21:30:00+02:00
DTSTART;TZID=Europe/Madrid:20260414T093000
DTEND;TZID=Europe/Madrid:20260414T213000
DESCRIPTION:La muestra reúne pintura y escultura\, dos lenguajes que dialo
 gan entre sí y que comparten una misma búsqueda: explorar la relación e
 ntre la palabra\, la memoria y la forma. 
SUMMARY: “Cuerpos con memoria”\, exposición de pintura y escultura de 
 Vanesa Vila
END:VEVENT
BEGIN:VEVENT
DTSTAMP:20260421T174717Z
UID:event-21891-2026-04-15T09:30:00+02:00-2026-04-15T21:30:00+02:00
DTSTART;TZID=Europe/Madrid:20260415T093000
DTEND;TZID=Europe/Madrid:20260415T213000
DESCRIPTION:La muestra reúne pintura y escultura\, dos lenguajes que dialo
 gan entre sí y que comparten una misma búsqueda: explorar la relación e
 ntre la palabra\, la memoria y la forma. 
SUMMARY: “Cuerpos con memoria”\, exposición de pintura y escultura de 
 Vanesa Vila
END:VEVENT
BEGIN:VEVENT
DTSTAMP:20260421T174717Z
UID:event-21891-2026-04-16T09:30:00+02:00-2026-04-16T21:30:00+02:00
DTSTART;TZID=Europe/Madrid:20260416T093000
DTEND;TZID=Europe/Madrid:20260416T213000
DESCRIPTION:La muestra reúne pintura y escultura\, dos lenguajes que dialo
 gan entre sí y que comparten una misma búsqueda: explorar la relación e
 ntre la palabra\, la memoria y la forma. 
SUMMARY: “Cuerpos con memoria”\, exposición de pintura y escultura de 
 Vanesa Vila
END:VEVENT
BEGIN:VEVENT
DTSTAMP:20260421T174717Z
UID:event-21891-2026-04-17T09:30:00+02:00-2026-04-17T21:30:00+02:00
DTSTART;TZID=Europe/Madrid:20260417T093000
DTEND;TZID=Europe/Madrid:20260417T213000
DESCRIPTION:La muestra reúne pintura y escultura\, dos lenguajes que dialo
 gan entre sí y que comparten una misma búsqueda: explorar la relación e
 ntre la palabra\, la memoria y la forma. 
SUMMARY: “Cuerpos con memoria”\, exposición de pintura y escultura de 
 Vanesa Vila
END:VEVENT
BEGIN:VEVENT
DTSTAMP:20260421T174717Z
UID:event-21891-2026-04-18T09:30:00+02:00-2026-04-18T21:30:00+02:00
DTSTART;TZID=Europe/Madrid:20260418T093000
DTEND;TZID=Europe/Madrid:20260418T213000
DESCRIPTION:La muestra reúne pintura y escultura\, dos lenguajes que dialo
 gan entre sí y que comparten una misma búsqueda: explorar la relación e
 ntre la palabra\, la memoria y la forma. 
SUMMARY: “Cuerpos con memoria”\, exposición de pintura y escultura de 
 Vanesa Vila
END:VEVENT
BEGIN:VEVENT
DTSTAMP:20260421T174717Z
UID:event-21891-2026-04-19T09:30:00+02:00-2026-04-19T21:30:00+02:00
DTSTART;TZID=Europe/Madrid:20260419T093000
DTEND;TZID=Europe/Madrid:20260419T213000
DESCRIPTION:La muestra reúne pintura y escultura\, dos lenguajes que dialo
 gan entre sí y que comparten una misma búsqueda: explorar la relación e
 ntre la palabra\, la memoria y la forma. 
SUMMARY: “Cuerpos con memoria”\, exposición de pintura y escultura de 
 Vanesa Vila
END:VEVENT
BEGIN:VEVENT
DTSTAMP:20260421T174717Z
UID:event-21891-2026-04-20T09:30:00+02:00-2026-04-20T21:30:00+02:00
DTSTART;TZID=Europe/Madrid:20260420T093000
DTEND;TZID=Europe/Madrid:20260420T213000
DESCRIPTION:La muestra reúne pintura y escultura\, dos lenguajes que dialo
 gan entre sí y que comparten una misma búsqueda: explorar la relación e
 ntre la palabra\, la memoria y la forma. 
SUMMARY: “Cuerpos con memoria”\, exposición de pintura y escultura de 
 Vanesa Vila
END:VEVENT
BEGIN:VEVENT
DTSTAMP:20260421T174717Z
UID:event-21891-2026-04-21T09:30:00+02:00-2026-04-21T21:30:00+02:00
DTSTART;TZID=Europe/Madrid:20260421T093000
DTEND;TZID=Europe/Madrid:20260421T213000
DESCRIPTION:La muestra reúne pintura y escultura\, dos lenguajes que dialo
 gan entre sí y que comparten una misma búsqueda: explorar la relación e
 ntre la palabra\, la memoria y la forma. 
SUMMARY: “Cuerpos con memoria”\, exposición de pintura y escultura de 
 Vanesa Vila
END:VEVENT
BEGIN:VEVENT
DTSTAMP:20260421T174717Z
UID:event-21891-2026-04-22T09:30:00+02:00-2026-04-22T21:30:00+02:00
DTSTART;TZID=Europe/Madrid:20260422T093000
DTEND;TZID=Europe/Madrid:20260422T213000
DESCRIPTION:La muestra reúne pintura y escultura\, dos lenguajes que dialo
 gan entre sí y que comparten una misma búsqueda: explorar la relación e
 ntre la palabra\, la memoria y la forma. 
SUMMARY: “Cuerpos con memoria”\, exposición de pintura y escultura de 
 Vanesa Vila
END:VEVENT
BEGIN:VEVENT
DTSTAMP:20260421T174717Z
UID:event-21891-2026-04-23T09:30:00+02:00-2026-04-23T21:30:00+02:00
DTSTART;TZID=Europe/Madrid:20260423T093000
DTEND;TZID=Europe/Madrid:20260423T213000
DESCRIPTION:La muestra reúne pintura y escultura\, dos lenguajes que dialo
 gan entre sí y que comparten una misma búsqueda: explorar la relación e
 ntre la palabra\, la memoria y la forma. 
SUMMARY: “Cuerpos con memoria”\, exposición de pintura y escultura de 
 Vanesa Vila
END:VEVENT
BEGIN:VEVENT
DTSTAMP:20260421T174717Z
UID:event-21891-2026-04-24T09:30:00+02:00-2026-04-24T21:30:00+02:00
DTSTART;TZID=Europe/Madrid:20260424T093000
DTEND;TZID=Europe/Madrid:20260424T213000
DESCRIPTION:La muestra reúne pintura y escultura\, dos lenguajes que dialo
 gan entre sí y que comparten una misma búsqueda: explorar la relación e
 ntre la palabra\, la memoria y la forma. 
SUMMARY: “Cuerpos con memoria”\, exposición de pintura y escultura de 
 Vanesa Vila
END:VEVENT
BEGIN:VEVENT
DTSTAMP:20260421T174717Z
UID:event-21891-2026-04-25T09:30:00+02:00-2026-04-25T21:30:00+02:00
DTSTART;TZID=Europe/Madrid:20260425T093000
DTEND;TZID=Europe/Madrid:20260425T213000
DESCRIPTION:La muestra reúne pintura y escultura\, dos lenguajes que dialo
 gan entre sí y que comparten una misma búsqueda: explorar la relación e
 ntre la palabra\, la memoria y la forma. 
SUMMARY: “Cuerpos con memoria”\, exposición de pintura y escultura de 
 Vanesa Vila
END:VEVENT
END:VCALENDAR
