BEGIN:VCALENDAR
VERSION:2.0
PRODID:icalendar-ruby
CALSCALE:GREGORIAN
METHOD:PUBLISH
BEGIN:VEVENT
DTSTAMP:20260423T071734Z
UID:event-22388-2026-05-15T16:00:00+02:00-2026-05-15T20:00:00+02:00
DTSTART;TZID=Europe/Madrid:20260515T160000
DTEND;TZID=Europe/Madrid:20260515T200000
DESCRIPTION:La parte presencial se desarrollará en las instalaciones de Es
 pacio Joven (Cuesta del Hospital 10) durante los fines de semana.
SUMMARY:Curso de formación para profesionales de tiempo libre
END:VEVENT
BEGIN:VEVENT
DTSTAMP:20260423T071734Z
UID:event-22388-2026-05-16T10:00:00+02:00-2026-05-16T14:00:00+02:00
DTSTART;TZID=Europe/Madrid:20260516T100000
DTEND;TZID=Europe/Madrid:20260516T140000
DESCRIPTION:La parte presencial se desarrollará en las instalaciones de Es
 pacio Joven (Cuesta del Hospital 10) durante los fines de semana.
SUMMARY:Curso de formación para profesionales de tiempo libre
END:VEVENT
BEGIN:VEVENT
DTSTAMP:20260423T071734Z
UID:event-22388-2026-05-16T16:00:00+02:00-2026-05-16T20:00:00+02:00
DTSTART;TZID=Europe/Madrid:20260516T160000
DTEND;TZID=Europe/Madrid:20260516T200000
DESCRIPTION:La parte presencial se desarrollará en las instalaciones de Es
 pacio Joven (Cuesta del Hospital 10) durante los fines de semana.
SUMMARY:Curso de formación para profesionales de tiempo libre
END:VEVENT
BEGIN:VEVENT
DTSTAMP:20260423T071734Z
UID:event-22388-2026-05-17T10:00:00+02:00-2026-05-17T14:00:00+02:00
DTSTART;TZID=Europe/Madrid:20260517T100000
DTEND;TZID=Europe/Madrid:20260517T140000
DESCRIPTION:La parte presencial se desarrollará en las instalaciones de Es
 pacio Joven (Cuesta del Hospital 10) durante los fines de semana.
SUMMARY:Curso de formación para profesionales de tiempo libre
END:VEVENT
BEGIN:VEVENT
DTSTAMP:20260423T071734Z
UID:event-22388-2026-05-17T16:00:00+02:00-2026-05-17T20:00:00+02:00
DTSTART;TZID=Europe/Madrid:20260517T160000
DTEND;TZID=Europe/Madrid:20260517T200000
DESCRIPTION:La parte presencial se desarrollará en las instalaciones de Es
 pacio Joven (Cuesta del Hospital 10) durante los fines de semana.
SUMMARY:Curso de formación para profesionales de tiempo libre
END:VEVENT
BEGIN:VEVENT
DTSTAMP:20260423T071734Z
UID:event-22388-2026-05-22T16:00:00+02:00-2026-05-22T20:00:00+02:00
DTSTART;TZID=Europe/Madrid:20260522T160000
DTEND;TZID=Europe/Madrid:20260522T200000
DESCRIPTION:La parte presencial se desarrollará en las instalaciones de Es
 pacio Joven (Cuesta del Hospital 10) durante los fines de semana.
SUMMARY:Curso de formación para profesionales de tiempo libre
END:VEVENT
BEGIN:VEVENT
DTSTAMP:20260423T071734Z
UID:event-22388-2026-05-23T10:00:00+02:00-2026-05-23T14:00:00+02:00
DTSTART;TZID=Europe/Madrid:20260523T100000
DTEND;TZID=Europe/Madrid:20260523T140000
DESCRIPTION:La parte presencial se desarrollará en las instalaciones de Es
 pacio Joven (Cuesta del Hospital 10) durante los fines de semana.
SUMMARY:Curso de formación para profesionales de tiempo libre
END:VEVENT
BEGIN:VEVENT
DTSTAMP:20260423T071734Z
UID:event-22388-2026-05-23T16:00:00+02:00-2026-05-23T20:00:00+02:00
DTSTART;TZID=Europe/Madrid:20260523T160000
DTEND;TZID=Europe/Madrid:20260523T200000
DESCRIPTION:La parte presencial se desarrollará en las instalaciones de Es
 pacio Joven (Cuesta del Hospital 10) durante los fines de semana.
SUMMARY:Curso de formación para profesionales de tiempo libre
END:VEVENT
BEGIN:VEVENT
DTSTAMP:20260423T071734Z
UID:event-22388-2026-05-24T10:00:00+02:00-2026-05-24T14:00:00+02:00
DTSTART;TZID=Europe/Madrid:20260524T100000
DTEND;TZID=Europe/Madrid:20260524T140000
DESCRIPTION:La parte presencial se desarrollará en las instalaciones de Es
 pacio Joven (Cuesta del Hospital 10) durante los fines de semana.
SUMMARY:Curso de formación para profesionales de tiempo libre
END:VEVENT
BEGIN:VEVENT
DTSTAMP:20260423T071734Z
UID:event-22388-2026-05-24T16:00:00+02:00-2026-05-24T20:00:00+02:00
DTSTART;TZID=Europe/Madrid:20260524T160000
DTEND;TZID=Europe/Madrid:20260524T200000
DESCRIPTION:La parte presencial se desarrollará en las instalaciones de Es
 pacio Joven (Cuesta del Hospital 10) durante los fines de semana.
SUMMARY:Curso de formación para profesionales de tiempo libre
END:VEVENT
BEGIN:VEVENT
DTSTAMP:20260423T071734Z
UID:event-22388-2026-05-29T16:00:00+02:00-2026-05-29T20:00:00+02:00
DTSTART;TZID=Europe/Madrid:20260529T160000
DTEND;TZID=Europe/Madrid:20260529T200000
DESCRIPTION:La parte presencial se desarrollará en las instalaciones de Es
 pacio Joven (Cuesta del Hospital 10) durante los fines de semana.
SUMMARY:Curso de formación para profesionales de tiempo libre
END:VEVENT
BEGIN:VEVENT
DTSTAMP:20260423T071734Z
UID:event-22388-2026-05-30T10:00:00+02:00-2026-05-30T14:00:00+02:00
DTSTART;TZID=Europe/Madrid:20260530T100000
DTEND;TZID=Europe/Madrid:20260530T140000
DESCRIPTION:La parte presencial se desarrollará en las instalaciones de Es
 pacio Joven (Cuesta del Hospital 10) durante los fines de semana.
SUMMARY:Curso de formación para profesionales de tiempo libre
END:VEVENT
BEGIN:VEVENT
DTSTAMP:20260423T071734Z
UID:event-22388-2026-05-30T16:00:00+02:00-2026-05-30T20:00:00+02:00
DTSTART;TZID=Europe/Madrid:20260530T160000
DTEND;TZID=Europe/Madrid:20260530T200000
DESCRIPTION:La parte presencial se desarrollará en las instalaciones de Es
 pacio Joven (Cuesta del Hospital 10) durante los fines de semana.
SUMMARY:Curso de formación para profesionales de tiempo libre
END:VEVENT
BEGIN:VEVENT
DTSTAMP:20260423T071734Z
UID:event-22388-2026-05-31T10:00:00+02:00-2026-05-31T14:00:00+02:00
DTSTART;TZID=Europe/Madrid:20260531T100000
DTEND;TZID=Europe/Madrid:20260531T140000
DESCRIPTION:La parte presencial se desarrollará en las instalaciones de Es
 pacio Joven (Cuesta del Hospital 10) durante los fines de semana.
SUMMARY:Curso de formación para profesionales de tiempo libre
END:VEVENT
BEGIN:VEVENT
DTSTAMP:20260423T071734Z
UID:event-22388-2026-05-31T16:00:00+02:00-2026-05-31T20:00:00+02:00
DTSTART;TZID=Europe/Madrid:20260531T160000
DTEND;TZID=Europe/Madrid:20260531T200000
DESCRIPTION:La parte presencial se desarrollará en las instalaciones de Es
 pacio Joven (Cuesta del Hospital 10) durante los fines de semana.
SUMMARY:Curso de formación para profesionales de tiempo libre
END:VEVENT
BEGIN:VEVENT
DTSTAMP:20260423T071734Z
UID:event-22388-2026-06-05T16:00:00+02:00-2026-06-05T20:00:00+02:00
DTSTART;TZID=Europe/Madrid:20260605T160000
DTEND;TZID=Europe/Madrid:20260605T200000
DESCRIPTION:La parte presencial se desarrollará en las instalaciones de Es
 pacio Joven (Cuesta del Hospital 10) durante los fines de semana.
SUMMARY:Curso de formación para profesionales de tiempo libre
END:VEVENT
BEGIN:VEVENT
DTSTAMP:20260423T071734Z
UID:event-22388-2026-06-06T10:00:00+02:00-2026-06-06T14:00:00+02:00
DTSTART;TZID=Europe/Madrid:20260606T100000
DTEND;TZID=Europe/Madrid:20260606T140000
DESCRIPTION:La parte presencial se desarrollará en las instalaciones de Es
 pacio Joven (Cuesta del Hospital 10) durante los fines de semana.
SUMMARY:Curso de formación para profesionales de tiempo libre
END:VEVENT
BEGIN:VEVENT
DTSTAMP:20260423T071734Z
UID:event-22388-2026-06-06T16:00:00+02:00-2026-06-06T20:00:00+02:00
DTSTART;TZID=Europe/Madrid:20260606T160000
DTEND;TZID=Europe/Madrid:20260606T200000
DESCRIPTION:La parte presencial se desarrollará en las instalaciones de Es
 pacio Joven (Cuesta del Hospital 10) durante los fines de semana.
SUMMARY:Curso de formación para profesionales de tiempo libre
END:VEVENT
BEGIN:VEVENT
DTSTAMP:20260423T071734Z
UID:event-22388-2026-06-07T10:00:00+02:00-2026-06-07T14:00:00+02:00
DTSTART;TZID=Europe/Madrid:20260607T100000
DTEND;TZID=Europe/Madrid:20260607T140000
DESCRIPTION:La parte presencial se desarrollará en las instalaciones de Es
 pacio Joven (Cuesta del Hospital 10) durante los fines de semana.
SUMMARY:Curso de formación para profesionales de tiempo libre
END:VEVENT
BEGIN:VEVENT
DTSTAMP:20260423T071734Z
UID:event-22388-2026-06-07T16:00:00+02:00-2026-06-07T20:00:00+02:00
DTSTART;TZID=Europe/Madrid:20260607T160000
DTEND;TZID=Europe/Madrid:20260607T200000
DESCRIPTION:La parte presencial se desarrollará en las instalaciones de Es
 pacio Joven (Cuesta del Hospital 10) durante los fines de semana.
SUMMARY:Curso de formación para profesionales de tiempo libre
END:VEVENT
BEGIN:VEVENT
DTSTAMP:20260423T071734Z
UID:event-22388-2026-06-12T16:00:00+02:00-2026-06-12T20:00:00+02:00
DTSTART;TZID=Europe/Madrid:20260612T160000
DTEND;TZID=Europe/Madrid:20260612T200000
DESCRIPTION:La parte presencial se desarrollará en las instalaciones de Es
 pacio Joven (Cuesta del Hospital 10) durante los fines de semana.
SUMMARY:Curso de formación para profesionales de tiempo libre
END:VEVENT
BEGIN:VEVENT
DTSTAMP:20260423T071734Z
UID:event-22388-2026-06-13T10:00:00+02:00-2026-06-13T14:00:00+02:00
DTSTART;TZID=Europe/Madrid:20260613T100000
DTEND;TZID=Europe/Madrid:20260613T140000
DESCRIPTION:La parte presencial se desarrollará en las instalaciones de Es
 pacio Joven (Cuesta del Hospital 10) durante los fines de semana.
SUMMARY:Curso de formación para profesionales de tiempo libre
END:VEVENT
BEGIN:VEVENT
DTSTAMP:20260423T071734Z
UID:event-22388-2026-06-13T16:00:00+02:00-2026-06-13T20:00:00+02:00
DTSTART;TZID=Europe/Madrid:20260613T160000
DTEND;TZID=Europe/Madrid:20260613T200000
DESCRIPTION:La parte presencial se desarrollará en las instalaciones de Es
 pacio Joven (Cuesta del Hospital 10) durante los fines de semana.
SUMMARY:Curso de formación para profesionales de tiempo libre
END:VEVENT
BEGIN:VEVENT
DTSTAMP:20260423T071734Z
UID:event-22388-2026-06-14T10:00:00+02:00-2026-06-14T14:00:00+02:00
DTSTART;TZID=Europe/Madrid:20260614T100000
DTEND;TZID=Europe/Madrid:20260614T140000
DESCRIPTION:La parte presencial se desarrollará en las instalaciones de Es
 pacio Joven (Cuesta del Hospital 10) durante los fines de semana.
SUMMARY:Curso de formación para profesionales de tiempo libre
END:VEVENT
BEGIN:VEVENT
DTSTAMP:20260423T071734Z
UID:event-22388-2026-06-14T16:00:00+02:00-2026-06-14T20:00:00+02:00
DTSTART;TZID=Europe/Madrid:20260614T160000
DTEND;TZID=Europe/Madrid:20260614T200000
DESCRIPTION:La parte presencial se desarrollará en las instalaciones de Es
 pacio Joven (Cuesta del Hospital 10) durante los fines de semana.
SUMMARY:Curso de formación para profesionales de tiempo libre
END:VEVENT
BEGIN:VEVENT
DTSTAMP:20260423T071734Z
UID:event-22388-2026-06-19T16:00:00+02:00-2026-06-19T20:00:00+02:00
DTSTART;TZID=Europe/Madrid:20260619T160000
DTEND;TZID=Europe/Madrid:20260619T200000
DESCRIPTION:La parte presencial se desarrollará en las instalaciones de Es
 pacio Joven (Cuesta del Hospital 10) durante los fines de semana.
SUMMARY:Curso de formación para profesionales de tiempo libre
END:VEVENT
BEGIN:VEVENT
DTSTAMP:20260423T071734Z
UID:event-22388-2026-06-20T10:00:00+02:00-2026-06-20T14:00:00+02:00
DTSTART;TZID=Europe/Madrid:20260620T100000
DTEND;TZID=Europe/Madrid:20260620T140000
DESCRIPTION:La parte presencial se desarrollará en las instalaciones de Es
 pacio Joven (Cuesta del Hospital 10) durante los fines de semana.
SUMMARY:Curso de formación para profesionales de tiempo libre
END:VEVENT
BEGIN:VEVENT
DTSTAMP:20260423T071734Z
UID:event-22388-2026-06-20T16:00:00+02:00-2026-06-20T20:00:00+02:00
DTSTART;TZID=Europe/Madrid:20260620T160000
DTEND;TZID=Europe/Madrid:20260620T200000
DESCRIPTION:La parte presencial se desarrollará en las instalaciones de Es
 pacio Joven (Cuesta del Hospital 10) durante los fines de semana.
SUMMARY:Curso de formación para profesionales de tiempo libre
END:VEVENT
END:VCALENDAR
