BEGIN:VCALENDAR
VERSION:2.0
PRODID:icalendar-ruby
CALSCALE:GREGORIAN
METHOD:PUBLISH
BEGIN:VEVENT
DTSTAMP:20260423T153021Z
UID:event-13304-2024-10-11-2024-10-11
DTSTART;VALUE=DATE:20241011
DTEND;VALUE=DATE:20241011
DESCRIPTION:La Fundación Mayaran\, en colaboración con el prestigioso pro
 yecto SGAE ACTÚA\, ha anunciado la apertura de inscripciones para el curs
 o "Audiovisión"\, una formación innovadora.
SUMMARY:Curso gratuito de "Audiovisión"
END:VEVENT
BEGIN:VEVENT
DTSTAMP:20260423T153021Z
UID:event-13304-2024-10-12-2024-10-12
DTSTART;VALUE=DATE:20241012
DTEND;VALUE=DATE:20241012
DESCRIPTION:La Fundación Mayaran\, en colaboración con el prestigioso pro
 yecto SGAE ACTÚA\, ha anunciado la apertura de inscripciones para el curs
 o "Audiovisión"\, una formación innovadora.
SUMMARY:Curso gratuito de "Audiovisión"
END:VEVENT
BEGIN:VEVENT
DTSTAMP:20260423T153021Z
UID:event-13304-2024-10-13-2024-10-13
DTSTART;VALUE=DATE:20241013
DTEND;VALUE=DATE:20241013
DESCRIPTION:La Fundación Mayaran\, en colaboración con el prestigioso pro
 yecto SGAE ACTÚA\, ha anunciado la apertura de inscripciones para el curs
 o "Audiovisión"\, una formación innovadora.
SUMMARY:Curso gratuito de "Audiovisión"
END:VEVENT
BEGIN:VEVENT
DTSTAMP:20260423T153021Z
UID:event-13304-2024-10-14-2024-10-14
DTSTART;VALUE=DATE:20241014
DTEND;VALUE=DATE:20241014
DESCRIPTION:La Fundación Mayaran\, en colaboración con el prestigioso pro
 yecto SGAE ACTÚA\, ha anunciado la apertura de inscripciones para el curs
 o "Audiovisión"\, una formación innovadora.
SUMMARY:Curso gratuito de "Audiovisión"
END:VEVENT
BEGIN:VEVENT
DTSTAMP:20260423T153021Z
UID:event-13304-2024-10-15-2024-10-15
DTSTART;VALUE=DATE:20241015
DTEND;VALUE=DATE:20241015
DESCRIPTION:La Fundación Mayaran\, en colaboración con el prestigioso pro
 yecto SGAE ACTÚA\, ha anunciado la apertura de inscripciones para el curs
 o "Audiovisión"\, una formación innovadora.
SUMMARY:Curso gratuito de "Audiovisión"
END:VEVENT
BEGIN:VEVENT
DTSTAMP:20260423T153021Z
UID:event-13304-2024-10-16-2024-10-16
DTSTART;VALUE=DATE:20241016
DTEND;VALUE=DATE:20241016
DESCRIPTION:La Fundación Mayaran\, en colaboración con el prestigioso pro
 yecto SGAE ACTÚA\, ha anunciado la apertura de inscripciones para el curs
 o "Audiovisión"\, una formación innovadora.
SUMMARY:Curso gratuito de "Audiovisión"
END:VEVENT
BEGIN:VEVENT
DTSTAMP:20260423T153021Z
UID:event-13304-2024-10-17-2024-10-17
DTSTART;VALUE=DATE:20241017
DTEND;VALUE=DATE:20241017
DESCRIPTION:La Fundación Mayaran\, en colaboración con el prestigioso pro
 yecto SGAE ACTÚA\, ha anunciado la apertura de inscripciones para el curs
 o "Audiovisión"\, una formación innovadora.
SUMMARY:Curso gratuito de "Audiovisión"
END:VEVENT
BEGIN:VEVENT
DTSTAMP:20260423T153021Z
UID:event-13304-2024-10-18-2024-10-18
DTSTART;VALUE=DATE:20241018
DTEND;VALUE=DATE:20241018
DESCRIPTION:La Fundación Mayaran\, en colaboración con el prestigioso pro
 yecto SGAE ACTÚA\, ha anunciado la apertura de inscripciones para el curs
 o "Audiovisión"\, una formación innovadora.
SUMMARY:Curso gratuito de "Audiovisión"
END:VEVENT
BEGIN:VEVENT
DTSTAMP:20260423T153021Z
UID:event-13304-2024-10-19-2024-10-19
DTSTART;VALUE=DATE:20241019
DTEND;VALUE=DATE:20241019
DESCRIPTION:La Fundación Mayaran\, en colaboración con el prestigioso pro
 yecto SGAE ACTÚA\, ha anunciado la apertura de inscripciones para el curs
 o "Audiovisión"\, una formación innovadora.
SUMMARY:Curso gratuito de "Audiovisión"
END:VEVENT
BEGIN:VEVENT
DTSTAMP:20260423T153021Z
UID:event-13304-2024-10-20-2024-10-20
DTSTART;VALUE=DATE:20241020
DTEND;VALUE=DATE:20241020
DESCRIPTION:La Fundación Mayaran\, en colaboración con el prestigioso pro
 yecto SGAE ACTÚA\, ha anunciado la apertura de inscripciones para el curs
 o "Audiovisión"\, una formación innovadora.
SUMMARY:Curso gratuito de "Audiovisión"
END:VEVENT
BEGIN:VEVENT
DTSTAMP:20260423T153021Z
UID:event-13304-2024-10-21-2024-10-21
DTSTART;VALUE=DATE:20241021
DTEND;VALUE=DATE:20241021
DESCRIPTION:La Fundación Mayaran\, en colaboración con el prestigioso pro
 yecto SGAE ACTÚA\, ha anunciado la apertura de inscripciones para el curs
 o "Audiovisión"\, una formación innovadora.
SUMMARY:Curso gratuito de "Audiovisión"
END:VEVENT
BEGIN:VEVENT
DTSTAMP:20260423T153021Z
UID:event-13304-2024-10-22-2024-10-22
DTSTART;VALUE=DATE:20241022
DTEND;VALUE=DATE:20241022
DESCRIPTION:La Fundación Mayaran\, en colaboración con el prestigioso pro
 yecto SGAE ACTÚA\, ha anunciado la apertura de inscripciones para el curs
 o "Audiovisión"\, una formación innovadora.
SUMMARY:Curso gratuito de "Audiovisión"
END:VEVENT
BEGIN:VEVENT
DTSTAMP:20260423T153021Z
UID:event-13304-2024-10-23-2024-10-23
DTSTART;VALUE=DATE:20241023
DTEND;VALUE=DATE:20241023
DESCRIPTION:La Fundación Mayaran\, en colaboración con el prestigioso pro
 yecto SGAE ACTÚA\, ha anunciado la apertura de inscripciones para el curs
 o "Audiovisión"\, una formación innovadora.
SUMMARY:Curso gratuito de "Audiovisión"
END:VEVENT
BEGIN:VEVENT
DTSTAMP:20260423T153021Z
UID:event-13304-2024-10-24-2024-10-24
DTSTART;VALUE=DATE:20241024
DTEND;VALUE=DATE:20241024
DESCRIPTION:La Fundación Mayaran\, en colaboración con el prestigioso pro
 yecto SGAE ACTÚA\, ha anunciado la apertura de inscripciones para el curs
 o "Audiovisión"\, una formación innovadora.
SUMMARY:Curso gratuito de "Audiovisión"
END:VEVENT
BEGIN:VEVENT
DTSTAMP:20260423T153021Z
UID:event-13304-2024-10-25-2024-10-25
DTSTART;VALUE=DATE:20241025
DTEND;VALUE=DATE:20241025
DESCRIPTION:La Fundación Mayaran\, en colaboración con el prestigioso pro
 yecto SGAE ACTÚA\, ha anunciado la apertura de inscripciones para el curs
 o "Audiovisión"\, una formación innovadora.
SUMMARY:Curso gratuito de "Audiovisión"
END:VEVENT
BEGIN:VEVENT
DTSTAMP:20260423T153021Z
UID:event-13304-2024-10-26-2024-10-26
DTSTART;VALUE=DATE:20241026
DTEND;VALUE=DATE:20241026
DESCRIPTION:La Fundación Mayaran\, en colaboración con el prestigioso pro
 yecto SGAE ACTÚA\, ha anunciado la apertura de inscripciones para el curs
 o "Audiovisión"\, una formación innovadora.
SUMMARY:Curso gratuito de "Audiovisión"
END:VEVENT
BEGIN:VEVENT
DTSTAMP:20260423T153021Z
UID:event-13304-2024-10-27-2024-10-27
DTSTART;VALUE=DATE:20241027
DTEND;VALUE=DATE:20241027
DESCRIPTION:La Fundación Mayaran\, en colaboración con el prestigioso pro
 yecto SGAE ACTÚA\, ha anunciado la apertura de inscripciones para el curs
 o "Audiovisión"\, una formación innovadora.
SUMMARY:Curso gratuito de "Audiovisión"
END:VEVENT
BEGIN:VEVENT
DTSTAMP:20260423T153021Z
UID:event-13304-2024-10-28-2024-10-28
DTSTART;VALUE=DATE:20241028
DTEND;VALUE=DATE:20241028
DESCRIPTION:La Fundación Mayaran\, en colaboración con el prestigioso pro
 yecto SGAE ACTÚA\, ha anunciado la apertura de inscripciones para el curs
 o "Audiovisión"\, una formación innovadora.
SUMMARY:Curso gratuito de "Audiovisión"
END:VEVENT
BEGIN:VEVENT
DTSTAMP:20260423T153021Z
UID:event-13304-2024-10-29-2024-10-29
DTSTART;VALUE=DATE:20241029
DTEND;VALUE=DATE:20241029
DESCRIPTION:La Fundación Mayaran\, en colaboración con el prestigioso pro
 yecto SGAE ACTÚA\, ha anunciado la apertura de inscripciones para el curs
 o "Audiovisión"\, una formación innovadora.
SUMMARY:Curso gratuito de "Audiovisión"
END:VEVENT
BEGIN:VEVENT
DTSTAMP:20260423T153021Z
UID:event-13304-2024-10-30-2024-10-30
DTSTART;VALUE=DATE:20241030
DTEND;VALUE=DATE:20241030
DESCRIPTION:La Fundación Mayaran\, en colaboración con el prestigioso pro
 yecto SGAE ACTÚA\, ha anunciado la apertura de inscripciones para el curs
 o "Audiovisión"\, una formación innovadora.
SUMMARY:Curso gratuito de "Audiovisión"
END:VEVENT
BEGIN:VEVENT
DTSTAMP:20260423T153021Z
UID:event-13304-2024-10-31-2024-10-31
DTSTART;VALUE=DATE:20241031
DTEND;VALUE=DATE:20241031
DESCRIPTION:La Fundación Mayaran\, en colaboración con el prestigioso pro
 yecto SGAE ACTÚA\, ha anunciado la apertura de inscripciones para el curs
 o "Audiovisión"\, una formación innovadora.
SUMMARY:Curso gratuito de "Audiovisión"
END:VEVENT
BEGIN:VEVENT
DTSTAMP:20260423T153021Z
UID:event-13304-2024-11-01-2024-11-01
DTSTART;VALUE=DATE:20241101
DTEND;VALUE=DATE:20241101
DESCRIPTION:La Fundación Mayaran\, en colaboración con el prestigioso pro
 yecto SGAE ACTÚA\, ha anunciado la apertura de inscripciones para el curs
 o "Audiovisión"\, una formación innovadora.
SUMMARY:Curso gratuito de "Audiovisión"
END:VEVENT
BEGIN:VEVENT
DTSTAMP:20260423T153021Z
UID:event-13304-2024-11-02-2024-11-02
DTSTART;VALUE=DATE:20241102
DTEND;VALUE=DATE:20241102
DESCRIPTION:La Fundación Mayaran\, en colaboración con el prestigioso pro
 yecto SGAE ACTÚA\, ha anunciado la apertura de inscripciones para el curs
 o "Audiovisión"\, una formación innovadora.
SUMMARY:Curso gratuito de "Audiovisión"
END:VEVENT
BEGIN:VEVENT
DTSTAMP:20260423T153021Z
UID:event-13304-2024-11-03-2024-11-03
DTSTART;VALUE=DATE:20241103
DTEND;VALUE=DATE:20241103
DESCRIPTION:La Fundación Mayaran\, en colaboración con el prestigioso pro
 yecto SGAE ACTÚA\, ha anunciado la apertura de inscripciones para el curs
 o "Audiovisión"\, una formación innovadora.
SUMMARY:Curso gratuito de "Audiovisión"
END:VEVENT
BEGIN:VEVENT
DTSTAMP:20260423T153021Z
UID:event-13304-2024-11-04-2024-11-04
DTSTART;VALUE=DATE:20241104
DTEND;VALUE=DATE:20241104
DESCRIPTION:La Fundación Mayaran\, en colaboración con el prestigioso pro
 yecto SGAE ACTÚA\, ha anunciado la apertura de inscripciones para el curs
 o "Audiovisión"\, una formación innovadora.
SUMMARY:Curso gratuito de "Audiovisión"
END:VEVENT
END:VCALENDAR
