BEGIN:VCALENDAR
VERSION:2.0
PRODID:icalendar-ruby
CALSCALE:GREGORIAN
METHOD:PUBLISH
BEGIN:VEVENT
DTSTAMP:20260423T104008Z
UID:event-21584-2026-03-14T20:30:00+01:00-none
DTSTART;TZID=Europe/Madrid:20260314T203000
DESCRIPTION:Un viaje entre lo místico y lo terrenal\, donde la danza\, la 
 voz y el pulso flamenco dialogan con los escritos de la santa para acercar
 nos a una Teresa intensa\, apasionada y profundamente humana.
SUMMARY:"De Purísima y Oro"\, una producción de La Troupe y Susana Haya
END:VEVENT
END:VCALENDAR
