BEGIN:VCALENDAR
VERSION:2.0
PRODID:icalendar-ruby
CALSCALE:GREGORIAN
METHOD:PUBLISH
BEGIN:VEVENT
DTSTAMP:20260421T191235Z
UID:event-22400-2026-05-26T10:30:00+02:00-none
DTSTART;TZID=Europe/Madrid:20260526T103000
DESCRIPTION:Basta una mañana jugando con Áureo Gómez para descubrir la e
 xposición de Marisol y vivirla de diferentes maneras\, desarrollando tu p
 ropia forma de contarla y tus habilidades comunicativas en un lugar incre
 íble en el que no existe el error.
SUMMARY:De tú a tú en la exposición "Marisol: Cuando todo está por come
 nzar"
END:VEVENT
END:VCALENDAR
