BEGIN:VCALENDAR
VERSION:2.0
PRODID:icalendar-ruby
CALSCALE:GREGORIAN
METHOD:PUBLISH
BEGIN:VEVENT
DTSTAMP:20260423T102545Z
UID:event-12066-2024-07-19T09:00:00+02:00-2024-07-19T14:00:00+02:00
DTSTART;TZID=Europe/Madrid:20240719T090000
DTEND;TZID=Europe/Madrid:20240719T140000
DESCRIPTION:"Debajo de las piedras"\, está compuesta por obras en papel y 
 cerámicas que dialogan generando un recorrido en busca de cada detalle y 
 cada partícula\, ampliando los fragmentos en destellos de luz y color.
SUMMARY:"Debajo de las piedras"\, una exposición de Julia R. Gallego
END:VEVENT
BEGIN:VEVENT
DTSTAMP:20260423T102545Z
UID:event-12066-2024-07-19T15:00:00+02:00-2024-07-19T21:00:00+02:00
DTSTART;TZID=Europe/Madrid:20240719T150000
DTEND;TZID=Europe/Madrid:20240719T210000
DESCRIPTION:"Debajo de las piedras"\, está compuesta por obras en papel y 
 cerámicas que dialogan generando un recorrido en busca de cada detalle y 
 cada partícula\, ampliando los fragmentos en destellos de luz y color.
SUMMARY:"Debajo de las piedras"\, una exposición de Julia R. Gallego
END:VEVENT
BEGIN:VEVENT
DTSTAMP:20260423T102545Z
UID:event-12066-2024-07-22T09:00:00+02:00-2024-07-22T14:00:00+02:00
DTSTART;TZID=Europe/Madrid:20240722T090000
DTEND;TZID=Europe/Madrid:20240722T140000
DESCRIPTION:"Debajo de las piedras"\, está compuesta por obras en papel y 
 cerámicas que dialogan generando un recorrido en busca de cada detalle y 
 cada partícula\, ampliando los fragmentos en destellos de luz y color.
SUMMARY:"Debajo de las piedras"\, una exposición de Julia R. Gallego
END:VEVENT
BEGIN:VEVENT
DTSTAMP:20260423T102545Z
UID:event-12066-2024-07-22T15:00:00+02:00-2024-07-22T21:00:00+02:00
DTSTART;TZID=Europe/Madrid:20240722T150000
DTEND;TZID=Europe/Madrid:20240722T210000
DESCRIPTION:"Debajo de las piedras"\, está compuesta por obras en papel y 
 cerámicas que dialogan generando un recorrido en busca de cada detalle y 
 cada partícula\, ampliando los fragmentos en destellos de luz y color.
SUMMARY:"Debajo de las piedras"\, una exposición de Julia R. Gallego
END:VEVENT
BEGIN:VEVENT
DTSTAMP:20260423T102545Z
UID:event-12066-2024-07-23T09:00:00+02:00-2024-07-23T14:00:00+02:00
DTSTART;TZID=Europe/Madrid:20240723T090000
DTEND;TZID=Europe/Madrid:20240723T140000
DESCRIPTION:"Debajo de las piedras"\, está compuesta por obras en papel y 
 cerámicas que dialogan generando un recorrido en busca de cada detalle y 
 cada partícula\, ampliando los fragmentos en destellos de luz y color.
SUMMARY:"Debajo de las piedras"\, una exposición de Julia R. Gallego
END:VEVENT
BEGIN:VEVENT
DTSTAMP:20260423T102545Z
UID:event-12066-2024-07-23T15:00:00+02:00-2024-07-23T21:00:00+02:00
DTSTART;TZID=Europe/Madrid:20240723T150000
DTEND;TZID=Europe/Madrid:20240723T210000
DESCRIPTION:"Debajo de las piedras"\, está compuesta por obras en papel y 
 cerámicas que dialogan generando un recorrido en busca de cada detalle y 
 cada partícula\, ampliando los fragmentos en destellos de luz y color.
SUMMARY:"Debajo de las piedras"\, una exposición de Julia R. Gallego
END:VEVENT
BEGIN:VEVENT
DTSTAMP:20260423T102545Z
UID:event-12066-2024-07-24T09:00:00+02:00-2024-07-24T14:00:00+02:00
DTSTART;TZID=Europe/Madrid:20240724T090000
DTEND;TZID=Europe/Madrid:20240724T140000
DESCRIPTION:"Debajo de las piedras"\, está compuesta por obras en papel y 
 cerámicas que dialogan generando un recorrido en busca de cada detalle y 
 cada partícula\, ampliando los fragmentos en destellos de luz y color.
SUMMARY:"Debajo de las piedras"\, una exposición de Julia R. Gallego
END:VEVENT
BEGIN:VEVENT
DTSTAMP:20260423T102545Z
UID:event-12066-2024-07-24T15:00:00+02:00-2024-07-24T21:00:00+02:00
DTSTART;TZID=Europe/Madrid:20240724T150000
DTEND;TZID=Europe/Madrid:20240724T210000
DESCRIPTION:"Debajo de las piedras"\, está compuesta por obras en papel y 
 cerámicas que dialogan generando un recorrido en busca de cada detalle y 
 cada partícula\, ampliando los fragmentos en destellos de luz y color.
SUMMARY:"Debajo de las piedras"\, una exposición de Julia R. Gallego
END:VEVENT
BEGIN:VEVENT
DTSTAMP:20260423T102545Z
UID:event-12066-2024-07-25T09:00:00+02:00-2024-07-25T14:00:00+02:00
DTSTART;TZID=Europe/Madrid:20240725T090000
DTEND;TZID=Europe/Madrid:20240725T140000
DESCRIPTION:"Debajo de las piedras"\, está compuesta por obras en papel y 
 cerámicas que dialogan generando un recorrido en busca de cada detalle y 
 cada partícula\, ampliando los fragmentos en destellos de luz y color.
SUMMARY:"Debajo de las piedras"\, una exposición de Julia R. Gallego
END:VEVENT
BEGIN:VEVENT
DTSTAMP:20260423T102545Z
UID:event-12066-2024-07-25T15:00:00+02:00-2024-07-25T21:00:00+02:00
DTSTART;TZID=Europe/Madrid:20240725T150000
DTEND;TZID=Europe/Madrid:20240725T210000
DESCRIPTION:"Debajo de las piedras"\, está compuesta por obras en papel y 
 cerámicas que dialogan generando un recorrido en busca de cada detalle y 
 cada partícula\, ampliando los fragmentos en destellos de luz y color.
SUMMARY:"Debajo de las piedras"\, una exposición de Julia R. Gallego
END:VEVENT
BEGIN:VEVENT
DTSTAMP:20260423T102545Z
UID:event-12066-2024-07-26T09:00:00+02:00-2024-07-26T14:00:00+02:00
DTSTART;TZID=Europe/Madrid:20240726T090000
DTEND;TZID=Europe/Madrid:20240726T140000
DESCRIPTION:"Debajo de las piedras"\, está compuesta por obras en papel y 
 cerámicas que dialogan generando un recorrido en busca de cada detalle y 
 cada partícula\, ampliando los fragmentos en destellos de luz y color.
SUMMARY:"Debajo de las piedras"\, una exposición de Julia R. Gallego
END:VEVENT
BEGIN:VEVENT
DTSTAMP:20260423T102545Z
UID:event-12066-2024-07-26T15:00:00+02:00-2024-07-26T21:00:00+02:00
DTSTART;TZID=Europe/Madrid:20240726T150000
DTEND;TZID=Europe/Madrid:20240726T210000
DESCRIPTION:"Debajo de las piedras"\, está compuesta por obras en papel y 
 cerámicas que dialogan generando un recorrido en busca de cada detalle y 
 cada partícula\, ampliando los fragmentos en destellos de luz y color.
SUMMARY:"Debajo de las piedras"\, una exposición de Julia R. Gallego
END:VEVENT
BEGIN:VEVENT
DTSTAMP:20260423T102545Z
UID:event-12066-2024-07-29T09:00:00+02:00-2024-07-29T14:00:00+02:00
DTSTART;TZID=Europe/Madrid:20240729T090000
DTEND;TZID=Europe/Madrid:20240729T140000
DESCRIPTION:"Debajo de las piedras"\, está compuesta por obras en papel y 
 cerámicas que dialogan generando un recorrido en busca de cada detalle y 
 cada partícula\, ampliando los fragmentos en destellos de luz y color.
SUMMARY:"Debajo de las piedras"\, una exposición de Julia R. Gallego
END:VEVENT
BEGIN:VEVENT
DTSTAMP:20260423T102545Z
UID:event-12066-2024-07-29T15:00:00+02:00-2024-07-29T21:00:00+02:00
DTSTART;TZID=Europe/Madrid:20240729T150000
DTEND;TZID=Europe/Madrid:20240729T210000
DESCRIPTION:"Debajo de las piedras"\, está compuesta por obras en papel y 
 cerámicas que dialogan generando un recorrido en busca de cada detalle y 
 cada partícula\, ampliando los fragmentos en destellos de luz y color.
SUMMARY:"Debajo de las piedras"\, una exposición de Julia R. Gallego
END:VEVENT
BEGIN:VEVENT
DTSTAMP:20260423T102545Z
UID:event-12066-2024-07-30T09:00:00+02:00-2024-07-30T14:00:00+02:00
DTSTART;TZID=Europe/Madrid:20240730T090000
DTEND;TZID=Europe/Madrid:20240730T140000
DESCRIPTION:"Debajo de las piedras"\, está compuesta por obras en papel y 
 cerámicas que dialogan generando un recorrido en busca de cada detalle y 
 cada partícula\, ampliando los fragmentos en destellos de luz y color.
SUMMARY:"Debajo de las piedras"\, una exposición de Julia R. Gallego
END:VEVENT
BEGIN:VEVENT
DTSTAMP:20260423T102545Z
UID:event-12066-2024-07-30T15:00:00+02:00-2024-07-30T21:00:00+02:00
DTSTART;TZID=Europe/Madrid:20240730T150000
DTEND;TZID=Europe/Madrid:20240730T210000
DESCRIPTION:"Debajo de las piedras"\, está compuesta por obras en papel y 
 cerámicas que dialogan generando un recorrido en busca de cada detalle y 
 cada partícula\, ampliando los fragmentos en destellos de luz y color.
SUMMARY:"Debajo de las piedras"\, una exposición de Julia R. Gallego
END:VEVENT
BEGIN:VEVENT
DTSTAMP:20260423T102545Z
UID:event-12066-2024-07-31T09:00:00+02:00-2024-07-31T14:00:00+02:00
DTSTART;TZID=Europe/Madrid:20240731T090000
DTEND;TZID=Europe/Madrid:20240731T140000
DESCRIPTION:"Debajo de las piedras"\, está compuesta por obras en papel y 
 cerámicas que dialogan generando un recorrido en busca de cada detalle y 
 cada partícula\, ampliando los fragmentos en destellos de luz y color.
SUMMARY:"Debajo de las piedras"\, una exposición de Julia R. Gallego
END:VEVENT
BEGIN:VEVENT
DTSTAMP:20260423T102545Z
UID:event-12066-2024-07-31T15:00:00+02:00-2024-07-31T21:00:00+02:00
DTSTART;TZID=Europe/Madrid:20240731T150000
DTEND;TZID=Europe/Madrid:20240731T210000
DESCRIPTION:"Debajo de las piedras"\, está compuesta por obras en papel y 
 cerámicas que dialogan generando un recorrido en busca de cada detalle y 
 cada partícula\, ampliando los fragmentos en destellos de luz y color.
SUMMARY:"Debajo de las piedras"\, una exposición de Julia R. Gallego
END:VEVENT
BEGIN:VEVENT
DTSTAMP:20260423T102545Z
UID:event-12066-2024-08-01T09:00:00+02:00-2024-08-01T14:00:00+02:00
DTSTART;TZID=Europe/Madrid:20240801T090000
DTEND;TZID=Europe/Madrid:20240801T140000
DESCRIPTION:"Debajo de las piedras"\, está compuesta por obras en papel y 
 cerámicas que dialogan generando un recorrido en busca de cada detalle y 
 cada partícula\, ampliando los fragmentos en destellos de luz y color.
SUMMARY:"Debajo de las piedras"\, una exposición de Julia R. Gallego
END:VEVENT
BEGIN:VEVENT
DTSTAMP:20260423T102545Z
UID:event-12066-2024-08-01T15:00:00+02:00-2024-08-01T21:00:00+02:00
DTSTART;TZID=Europe/Madrid:20240801T150000
DTEND;TZID=Europe/Madrid:20240801T210000
DESCRIPTION:"Debajo de las piedras"\, está compuesta por obras en papel y 
 cerámicas que dialogan generando un recorrido en busca de cada detalle y 
 cada partícula\, ampliando los fragmentos en destellos de luz y color.
SUMMARY:"Debajo de las piedras"\, una exposición de Julia R. Gallego
END:VEVENT
BEGIN:VEVENT
DTSTAMP:20260423T102545Z
UID:event-12066-2024-08-02T09:00:00+02:00-2024-08-02T14:00:00+02:00
DTSTART;TZID=Europe/Madrid:20240802T090000
DTEND;TZID=Europe/Madrid:20240802T140000
DESCRIPTION:"Debajo de las piedras"\, está compuesta por obras en papel y 
 cerámicas que dialogan generando un recorrido en busca de cada detalle y 
 cada partícula\, ampliando los fragmentos en destellos de luz y color.
SUMMARY:"Debajo de las piedras"\, una exposición de Julia R. Gallego
END:VEVENT
BEGIN:VEVENT
DTSTAMP:20260423T102545Z
UID:event-12066-2024-08-02T15:00:00+02:00-2024-08-02T21:00:00+02:00
DTSTART;TZID=Europe/Madrid:20240802T150000
DTEND;TZID=Europe/Madrid:20240802T210000
DESCRIPTION:"Debajo de las piedras"\, está compuesta por obras en papel y 
 cerámicas que dialogan generando un recorrido en busca de cada detalle y 
 cada partícula\, ampliando los fragmentos en destellos de luz y color.
SUMMARY:"Debajo de las piedras"\, una exposición de Julia R. Gallego
END:VEVENT
BEGIN:VEVENT
DTSTAMP:20260423T102545Z
UID:event-12066-2024-08-05T09:00:00+02:00-2024-08-05T14:00:00+02:00
DTSTART;TZID=Europe/Madrid:20240805T090000
DTEND;TZID=Europe/Madrid:20240805T140000
DESCRIPTION:"Debajo de las piedras"\, está compuesta por obras en papel y 
 cerámicas que dialogan generando un recorrido en busca de cada detalle y 
 cada partícula\, ampliando los fragmentos en destellos de luz y color.
SUMMARY:"Debajo de las piedras"\, una exposición de Julia R. Gallego
END:VEVENT
BEGIN:VEVENT
DTSTAMP:20260423T102545Z
UID:event-12066-2024-08-05T15:00:00+02:00-2024-08-05T21:00:00+02:00
DTSTART;TZID=Europe/Madrid:20240805T150000
DTEND;TZID=Europe/Madrid:20240805T210000
DESCRIPTION:"Debajo de las piedras"\, está compuesta por obras en papel y 
 cerámicas que dialogan generando un recorrido en busca de cada detalle y 
 cada partícula\, ampliando los fragmentos en destellos de luz y color.
SUMMARY:"Debajo de las piedras"\, una exposición de Julia R. Gallego
END:VEVENT
BEGIN:VEVENT
DTSTAMP:20260423T102545Z
UID:event-12066-2024-08-06T09:00:00+02:00-2024-08-06T14:00:00+02:00
DTSTART;TZID=Europe/Madrid:20240806T090000
DTEND;TZID=Europe/Madrid:20240806T140000
DESCRIPTION:"Debajo de las piedras"\, está compuesta por obras en papel y 
 cerámicas que dialogan generando un recorrido en busca de cada detalle y 
 cada partícula\, ampliando los fragmentos en destellos de luz y color.
SUMMARY:"Debajo de las piedras"\, una exposición de Julia R. Gallego
END:VEVENT
BEGIN:VEVENT
DTSTAMP:20260423T102545Z
UID:event-12066-2024-08-06T15:00:00+02:00-2024-08-06T21:00:00+02:00
DTSTART;TZID=Europe/Madrid:20240806T150000
DTEND;TZID=Europe/Madrid:20240806T210000
DESCRIPTION:"Debajo de las piedras"\, está compuesta por obras en papel y 
 cerámicas que dialogan generando un recorrido en busca de cada detalle y 
 cada partícula\, ampliando los fragmentos en destellos de luz y color.
SUMMARY:"Debajo de las piedras"\, una exposición de Julia R. Gallego
END:VEVENT
BEGIN:VEVENT
DTSTAMP:20260423T102545Z
UID:event-12066-2024-08-07T09:00:00+02:00-2024-08-07T14:00:00+02:00
DTSTART;TZID=Europe/Madrid:20240807T090000
DTEND;TZID=Europe/Madrid:20240807T140000
DESCRIPTION:"Debajo de las piedras"\, está compuesta por obras en papel y 
 cerámicas que dialogan generando un recorrido en busca de cada detalle y 
 cada partícula\, ampliando los fragmentos en destellos de luz y color.
SUMMARY:"Debajo de las piedras"\, una exposición de Julia R. Gallego
END:VEVENT
BEGIN:VEVENT
DTSTAMP:20260423T102545Z
UID:event-12066-2024-08-07T15:00:00+02:00-2024-08-07T21:00:00+02:00
DTSTART;TZID=Europe/Madrid:20240807T150000
DTEND;TZID=Europe/Madrid:20240807T210000
DESCRIPTION:"Debajo de las piedras"\, está compuesta por obras en papel y 
 cerámicas que dialogan generando un recorrido en busca de cada detalle y 
 cada partícula\, ampliando los fragmentos en destellos de luz y color.
SUMMARY:"Debajo de las piedras"\, una exposición de Julia R. Gallego
END:VEVENT
BEGIN:VEVENT
DTSTAMP:20260423T102545Z
UID:event-12066-2024-08-08T09:00:00+02:00-2024-08-08T14:00:00+02:00
DTSTART;TZID=Europe/Madrid:20240808T090000
DTEND;TZID=Europe/Madrid:20240808T140000
DESCRIPTION:"Debajo de las piedras"\, está compuesta por obras en papel y 
 cerámicas que dialogan generando un recorrido en busca de cada detalle y 
 cada partícula\, ampliando los fragmentos en destellos de luz y color.
SUMMARY:"Debajo de las piedras"\, una exposición de Julia R. Gallego
END:VEVENT
BEGIN:VEVENT
DTSTAMP:20260423T102545Z
UID:event-12066-2024-08-08T15:00:00+02:00-2024-08-08T21:00:00+02:00
DTSTART;TZID=Europe/Madrid:20240808T150000
DTEND;TZID=Europe/Madrid:20240808T210000
DESCRIPTION:"Debajo de las piedras"\, está compuesta por obras en papel y 
 cerámicas que dialogan generando un recorrido en busca de cada detalle y 
 cada partícula\, ampliando los fragmentos en destellos de luz y color.
SUMMARY:"Debajo de las piedras"\, una exposición de Julia R. Gallego
END:VEVENT
BEGIN:VEVENT
DTSTAMP:20260423T102545Z
UID:event-12066-2024-08-09T09:00:00+02:00-2024-08-09T14:00:00+02:00
DTSTART;TZID=Europe/Madrid:20240809T090000
DTEND;TZID=Europe/Madrid:20240809T140000
DESCRIPTION:"Debajo de las piedras"\, está compuesta por obras en papel y 
 cerámicas que dialogan generando un recorrido en busca de cada detalle y 
 cada partícula\, ampliando los fragmentos en destellos de luz y color.
SUMMARY:"Debajo de las piedras"\, una exposición de Julia R. Gallego
END:VEVENT
BEGIN:VEVENT
DTSTAMP:20260423T102545Z
UID:event-12066-2024-08-09T15:00:00+02:00-2024-08-09T21:00:00+02:00
DTSTART;TZID=Europe/Madrid:20240809T150000
DTEND;TZID=Europe/Madrid:20240809T210000
DESCRIPTION:"Debajo de las piedras"\, está compuesta por obras en papel y 
 cerámicas que dialogan generando un recorrido en busca de cada detalle y 
 cada partícula\, ampliando los fragmentos en destellos de luz y color.
SUMMARY:"Debajo de las piedras"\, una exposición de Julia R. Gallego
END:VEVENT
BEGIN:VEVENT
DTSTAMP:20260423T102545Z
UID:event-12066-2024-08-12T09:00:00+02:00-2024-08-12T14:00:00+02:00
DTSTART;TZID=Europe/Madrid:20240812T090000
DTEND;TZID=Europe/Madrid:20240812T140000
DESCRIPTION:"Debajo de las piedras"\, está compuesta por obras en papel y 
 cerámicas que dialogan generando un recorrido en busca de cada detalle y 
 cada partícula\, ampliando los fragmentos en destellos de luz y color.
SUMMARY:"Debajo de las piedras"\, una exposición de Julia R. Gallego
END:VEVENT
BEGIN:VEVENT
DTSTAMP:20260423T102545Z
UID:event-12066-2024-08-12T15:00:00+02:00-2024-08-12T21:00:00+02:00
DTSTART;TZID=Europe/Madrid:20240812T150000
DTEND;TZID=Europe/Madrid:20240812T210000
DESCRIPTION:"Debajo de las piedras"\, está compuesta por obras en papel y 
 cerámicas que dialogan generando un recorrido en busca de cada detalle y 
 cada partícula\, ampliando los fragmentos en destellos de luz y color.
SUMMARY:"Debajo de las piedras"\, una exposición de Julia R. Gallego
END:VEVENT
BEGIN:VEVENT
DTSTAMP:20260423T102545Z
UID:event-12066-2024-08-13T09:00:00+02:00-2024-08-13T14:00:00+02:00
DTSTART;TZID=Europe/Madrid:20240813T090000
DTEND;TZID=Europe/Madrid:20240813T140000
DESCRIPTION:"Debajo de las piedras"\, está compuesta por obras en papel y 
 cerámicas que dialogan generando un recorrido en busca de cada detalle y 
 cada partícula\, ampliando los fragmentos en destellos de luz y color.
SUMMARY:"Debajo de las piedras"\, una exposición de Julia R. Gallego
END:VEVENT
BEGIN:VEVENT
DTSTAMP:20260423T102545Z
UID:event-12066-2024-08-13T15:00:00+02:00-2024-08-13T21:00:00+02:00
DTSTART;TZID=Europe/Madrid:20240813T150000
DTEND;TZID=Europe/Madrid:20240813T210000
DESCRIPTION:"Debajo de las piedras"\, está compuesta por obras en papel y 
 cerámicas que dialogan generando un recorrido en busca de cada detalle y 
 cada partícula\, ampliando los fragmentos en destellos de luz y color.
SUMMARY:"Debajo de las piedras"\, una exposición de Julia R. Gallego
END:VEVENT
BEGIN:VEVENT
DTSTAMP:20260423T102545Z
UID:event-12066-2024-08-14T09:00:00+02:00-2024-08-14T14:00:00+02:00
DTSTART;TZID=Europe/Madrid:20240814T090000
DTEND;TZID=Europe/Madrid:20240814T140000
DESCRIPTION:"Debajo de las piedras"\, está compuesta por obras en papel y 
 cerámicas que dialogan generando un recorrido en busca de cada detalle y 
 cada partícula\, ampliando los fragmentos en destellos de luz y color.
SUMMARY:"Debajo de las piedras"\, una exposición de Julia R. Gallego
END:VEVENT
BEGIN:VEVENT
DTSTAMP:20260423T102545Z
UID:event-12066-2024-08-14T15:00:00+02:00-2024-08-14T21:00:00+02:00
DTSTART;TZID=Europe/Madrid:20240814T150000
DTEND;TZID=Europe/Madrid:20240814T210000
DESCRIPTION:"Debajo de las piedras"\, está compuesta por obras en papel y 
 cerámicas que dialogan generando un recorrido en busca de cada detalle y 
 cada partícula\, ampliando los fragmentos en destellos de luz y color.
SUMMARY:"Debajo de las piedras"\, una exposición de Julia R. Gallego
END:VEVENT
BEGIN:VEVENT
DTSTAMP:20260423T102545Z
UID:event-12066-2024-08-15T09:00:00+02:00-2024-08-15T14:00:00+02:00
DTSTART;TZID=Europe/Madrid:20240815T090000
DTEND;TZID=Europe/Madrid:20240815T140000
DESCRIPTION:"Debajo de las piedras"\, está compuesta por obras en papel y 
 cerámicas que dialogan generando un recorrido en busca de cada detalle y 
 cada partícula\, ampliando los fragmentos en destellos de luz y color.
SUMMARY:"Debajo de las piedras"\, una exposición de Julia R. Gallego
END:VEVENT
BEGIN:VEVENT
DTSTAMP:20260423T102545Z
UID:event-12066-2024-08-15T15:00:00+02:00-2024-08-15T21:00:00+02:00
DTSTART;TZID=Europe/Madrid:20240815T150000
DTEND;TZID=Europe/Madrid:20240815T210000
DESCRIPTION:"Debajo de las piedras"\, está compuesta por obras en papel y 
 cerámicas que dialogan generando un recorrido en busca de cada detalle y 
 cada partícula\, ampliando los fragmentos en destellos de luz y color.
SUMMARY:"Debajo de las piedras"\, una exposición de Julia R. Gallego
END:VEVENT
BEGIN:VEVENT
DTSTAMP:20260423T102545Z
UID:event-12066-2024-08-16T09:00:00+02:00-2024-08-16T14:00:00+02:00
DTSTART;TZID=Europe/Madrid:20240816T090000
DTEND;TZID=Europe/Madrid:20240816T140000
DESCRIPTION:"Debajo de las piedras"\, está compuesta por obras en papel y 
 cerámicas que dialogan generando un recorrido en busca de cada detalle y 
 cada partícula\, ampliando los fragmentos en destellos de luz y color.
SUMMARY:"Debajo de las piedras"\, una exposición de Julia R. Gallego
END:VEVENT
BEGIN:VEVENT
DTSTAMP:20260423T102545Z
UID:event-12066-2024-08-16T15:00:00+02:00-2024-08-16T21:00:00+02:00
DTSTART;TZID=Europe/Madrid:20240816T150000
DTEND;TZID=Europe/Madrid:20240816T210000
DESCRIPTION:"Debajo de las piedras"\, está compuesta por obras en papel y 
 cerámicas que dialogan generando un recorrido en busca de cada detalle y 
 cada partícula\, ampliando los fragmentos en destellos de luz y color.
SUMMARY:"Debajo de las piedras"\, una exposición de Julia R. Gallego
END:VEVENT
BEGIN:VEVENT
DTSTAMP:20260423T102545Z
UID:event-12066-2024-08-19T09:00:00+02:00-2024-08-19T14:00:00+02:00
DTSTART;TZID=Europe/Madrid:20240819T090000
DTEND;TZID=Europe/Madrid:20240819T140000
DESCRIPTION:"Debajo de las piedras"\, está compuesta por obras en papel y 
 cerámicas que dialogan generando un recorrido en busca de cada detalle y 
 cada partícula\, ampliando los fragmentos en destellos de luz y color.
SUMMARY:"Debajo de las piedras"\, una exposición de Julia R. Gallego
END:VEVENT
BEGIN:VEVENT
DTSTAMP:20260423T102545Z
UID:event-12066-2024-08-19T15:00:00+02:00-2024-08-19T21:00:00+02:00
DTSTART;TZID=Europe/Madrid:20240819T150000
DTEND;TZID=Europe/Madrid:20240819T210000
DESCRIPTION:"Debajo de las piedras"\, está compuesta por obras en papel y 
 cerámicas que dialogan generando un recorrido en busca de cada detalle y 
 cada partícula\, ampliando los fragmentos en destellos de luz y color.
SUMMARY:"Debajo de las piedras"\, una exposición de Julia R. Gallego
END:VEVENT
BEGIN:VEVENT
DTSTAMP:20260423T102545Z
UID:event-12066-2024-08-20T09:00:00+02:00-2024-08-20T14:00:00+02:00
DTSTART;TZID=Europe/Madrid:20240820T090000
DTEND;TZID=Europe/Madrid:20240820T140000
DESCRIPTION:"Debajo de las piedras"\, está compuesta por obras en papel y 
 cerámicas que dialogan generando un recorrido en busca de cada detalle y 
 cada partícula\, ampliando los fragmentos en destellos de luz y color.
SUMMARY:"Debajo de las piedras"\, una exposición de Julia R. Gallego
END:VEVENT
BEGIN:VEVENT
DTSTAMP:20260423T102545Z
UID:event-12066-2024-08-20T15:00:00+02:00-2024-08-20T21:00:00+02:00
DTSTART;TZID=Europe/Madrid:20240820T150000
DTEND;TZID=Europe/Madrid:20240820T210000
DESCRIPTION:"Debajo de las piedras"\, está compuesta por obras en papel y 
 cerámicas que dialogan generando un recorrido en busca de cada detalle y 
 cada partícula\, ampliando los fragmentos en destellos de luz y color.
SUMMARY:"Debajo de las piedras"\, una exposición de Julia R. Gallego
END:VEVENT
BEGIN:VEVENT
DTSTAMP:20260423T102545Z
UID:event-12066-2024-08-21T09:00:00+02:00-2024-08-21T14:00:00+02:00
DTSTART;TZID=Europe/Madrid:20240821T090000
DTEND;TZID=Europe/Madrid:20240821T140000
DESCRIPTION:"Debajo de las piedras"\, está compuesta por obras en papel y 
 cerámicas que dialogan generando un recorrido en busca de cada detalle y 
 cada partícula\, ampliando los fragmentos en destellos de luz y color.
SUMMARY:"Debajo de las piedras"\, una exposición de Julia R. Gallego
END:VEVENT
BEGIN:VEVENT
DTSTAMP:20260423T102545Z
UID:event-12066-2024-08-21T15:00:00+02:00-2024-08-21T21:00:00+02:00
DTSTART;TZID=Europe/Madrid:20240821T150000
DTEND;TZID=Europe/Madrid:20240821T210000
DESCRIPTION:"Debajo de las piedras"\, está compuesta por obras en papel y 
 cerámicas que dialogan generando un recorrido en busca de cada detalle y 
 cada partícula\, ampliando los fragmentos en destellos de luz y color.
SUMMARY:"Debajo de las piedras"\, una exposición de Julia R. Gallego
END:VEVENT
BEGIN:VEVENT
DTSTAMP:20260423T102545Z
UID:event-12066-2024-08-22T09:00:00+02:00-2024-08-22T14:00:00+02:00
DTSTART;TZID=Europe/Madrid:20240822T090000
DTEND;TZID=Europe/Madrid:20240822T140000
DESCRIPTION:"Debajo de las piedras"\, está compuesta por obras en papel y 
 cerámicas que dialogan generando un recorrido en busca de cada detalle y 
 cada partícula\, ampliando los fragmentos en destellos de luz y color.
SUMMARY:"Debajo de las piedras"\, una exposición de Julia R. Gallego
END:VEVENT
BEGIN:VEVENT
DTSTAMP:20260423T102545Z
UID:event-12066-2024-08-22T15:00:00+02:00-2024-08-22T21:00:00+02:00
DTSTART;TZID=Europe/Madrid:20240822T150000
DTEND;TZID=Europe/Madrid:20240822T210000
DESCRIPTION:"Debajo de las piedras"\, está compuesta por obras en papel y 
 cerámicas que dialogan generando un recorrido en busca de cada detalle y 
 cada partícula\, ampliando los fragmentos en destellos de luz y color.
SUMMARY:"Debajo de las piedras"\, una exposición de Julia R. Gallego
END:VEVENT
BEGIN:VEVENT
DTSTAMP:20260423T102545Z
UID:event-12066-2024-08-23T09:00:00+02:00-2024-08-23T14:00:00+02:00
DTSTART;TZID=Europe/Madrid:20240823T090000
DTEND;TZID=Europe/Madrid:20240823T140000
DESCRIPTION:"Debajo de las piedras"\, está compuesta por obras en papel y 
 cerámicas que dialogan generando un recorrido en busca de cada detalle y 
 cada partícula\, ampliando los fragmentos en destellos de luz y color.
SUMMARY:"Debajo de las piedras"\, una exposición de Julia R. Gallego
END:VEVENT
BEGIN:VEVENT
DTSTAMP:20260423T102545Z
UID:event-12066-2024-08-23T15:00:00+02:00-2024-08-23T21:00:00+02:00
DTSTART;TZID=Europe/Madrid:20240823T150000
DTEND;TZID=Europe/Madrid:20240823T210000
DESCRIPTION:"Debajo de las piedras"\, está compuesta por obras en papel y 
 cerámicas que dialogan generando un recorrido en busca de cada detalle y 
 cada partícula\, ampliando los fragmentos en destellos de luz y color.
SUMMARY:"Debajo de las piedras"\, una exposición de Julia R. Gallego
END:VEVENT
BEGIN:VEVENT
DTSTAMP:20260423T102545Z
UID:event-12066-2024-08-26T09:00:00+02:00-2024-08-26T14:00:00+02:00
DTSTART;TZID=Europe/Madrid:20240826T090000
DTEND;TZID=Europe/Madrid:20240826T140000
DESCRIPTION:"Debajo de las piedras"\, está compuesta por obras en papel y 
 cerámicas que dialogan generando un recorrido en busca de cada detalle y 
 cada partícula\, ampliando los fragmentos en destellos de luz y color.
SUMMARY:"Debajo de las piedras"\, una exposición de Julia R. Gallego
END:VEVENT
BEGIN:VEVENT
DTSTAMP:20260423T102545Z
UID:event-12066-2024-08-26T15:00:00+02:00-2024-08-26T21:00:00+02:00
DTSTART;TZID=Europe/Madrid:20240826T150000
DTEND;TZID=Europe/Madrid:20240826T210000
DESCRIPTION:"Debajo de las piedras"\, está compuesta por obras en papel y 
 cerámicas que dialogan generando un recorrido en busca de cada detalle y 
 cada partícula\, ampliando los fragmentos en destellos de luz y color.
SUMMARY:"Debajo de las piedras"\, una exposición de Julia R. Gallego
END:VEVENT
BEGIN:VEVENT
DTSTAMP:20260423T102545Z
UID:event-12066-2024-08-27T09:00:00+02:00-2024-08-27T14:00:00+02:00
DTSTART;TZID=Europe/Madrid:20240827T090000
DTEND;TZID=Europe/Madrid:20240827T140000
DESCRIPTION:"Debajo de las piedras"\, está compuesta por obras en papel y 
 cerámicas que dialogan generando un recorrido en busca de cada detalle y 
 cada partícula\, ampliando los fragmentos en destellos de luz y color.
SUMMARY:"Debajo de las piedras"\, una exposición de Julia R. Gallego
END:VEVENT
BEGIN:VEVENT
DTSTAMP:20260423T102545Z
UID:event-12066-2024-08-27T15:00:00+02:00-2024-08-27T21:00:00+02:00
DTSTART;TZID=Europe/Madrid:20240827T150000
DTEND;TZID=Europe/Madrid:20240827T210000
DESCRIPTION:"Debajo de las piedras"\, está compuesta por obras en papel y 
 cerámicas que dialogan generando un recorrido en busca de cada detalle y 
 cada partícula\, ampliando los fragmentos en destellos de luz y color.
SUMMARY:"Debajo de las piedras"\, una exposición de Julia R. Gallego
END:VEVENT
BEGIN:VEVENT
DTSTAMP:20260423T102545Z
UID:event-12066-2024-08-28T09:00:00+02:00-2024-08-28T14:00:00+02:00
DTSTART;TZID=Europe/Madrid:20240828T090000
DTEND;TZID=Europe/Madrid:20240828T140000
DESCRIPTION:"Debajo de las piedras"\, está compuesta por obras en papel y 
 cerámicas que dialogan generando un recorrido en busca de cada detalle y 
 cada partícula\, ampliando los fragmentos en destellos de luz y color.
SUMMARY:"Debajo de las piedras"\, una exposición de Julia R. Gallego
END:VEVENT
BEGIN:VEVENT
DTSTAMP:20260423T102545Z
UID:event-12066-2024-08-28T15:00:00+02:00-2024-08-28T21:00:00+02:00
DTSTART;TZID=Europe/Madrid:20240828T150000
DTEND;TZID=Europe/Madrid:20240828T210000
DESCRIPTION:"Debajo de las piedras"\, está compuesta por obras en papel y 
 cerámicas que dialogan generando un recorrido en busca de cada detalle y 
 cada partícula\, ampliando los fragmentos en destellos de luz y color.
SUMMARY:"Debajo de las piedras"\, una exposición de Julia R. Gallego
END:VEVENT
END:VCALENDAR
