BEGIN:VCALENDAR
VERSION:2.0
PRODID:icalendar-ruby
CALSCALE:GREGORIAN
METHOD:PUBLISH
BEGIN:VEVENT
DTSTAMP:20260422T164003Z
UID:event-22093-2026-05-23T20:00:00+02:00-none
DTSTART;TZID=Europe/Madrid:20260523T200000
DESCRIPTION:En un sentido más abstracto o cultural\, décalage se refiere 
 a un desajuste entre una persona\, un discurso o una situación y el conte
 xto que lo rodea\, lo que a menudo genera una sensación de extrañeza o h
 umor. 
SUMMARY:"Décalage”\, un monólogo de Javier Cuesta
END:VEVENT
END:VCALENDAR
