BEGIN:VCALENDAR
VERSION:2.0
PRODID:icalendar-ruby
CALSCALE:GREGORIAN
METHOD:PUBLISH
BEGIN:VEVENT
DTSTAMP:20260420T143741Z
UID:event-22325-2026-05-20T19:00:00+02:00-none
DTSTART;TZID=Europe/Madrid:20260520T190000
DESCRIPTION:¿Sabías que la luz puede ser tu mejor aliada contra los hacke
 rs? En esta charla se explorará cómo la física cuántica\, lejos de ser
  solo teoría\, se convierte en tecnología real para proteger comunicacio
 nes.
SUMMARY:Del láser al secreto cuántico: cómo la luz protege tus datos
END:VEVENT
END:VCALENDAR
