BEGIN:VCALENDAR
VERSION:2.0
PRODID:icalendar-ruby
CALSCALE:GREGORIAN
METHOD:PUBLISH
BEGIN:VEVENT
DTSTAMP:20260421T173405Z
UID:event-21902-2026-04-21T19:00:00+02:00-none
DTSTART;TZID=Europe/Madrid:20260421T190000
DESCRIPTION:La cita tendrá lugar el martes\, 21 abril\, en el salón de ac
 tos del Colegio de Médicos de Cantabria (C/ Ataúlfo Argenta 33) a las 19
  horas.
SUMMARY:"Desde mi hipocondría. José María de Pereda (1833-1906)"\, confe
 rencia de Raquel Gutiérrez Sebastián 
END:VEVENT
END:VCALENDAR
