BEGIN:VCALENDAR
VERSION:2.0
PRODID:icalendar-ruby
CALSCALE:GREGORIAN
METHOD:PUBLISH
BEGIN:VEVENT
DTSTAMP:20260423T091434Z
UID:event-4713-2023-01-25T18:00:00+01:00-none
DTSTART;TZID=Europe/Madrid:20230125T180000
DESCRIPTION:El miércoles 25 de enero\, a las 18:00 horas\, en el taller de
  Literatura impartido por Marisa Samaniego\, tendrá lugar el encuentro co
 n José Cobo\, quien nos hablará sobre “El campo expandido en la escult
 ura”.
SUMMARY:"El campo expandido en la escultura". Encuentro con José Cobo
END:VEVENT
END:VCALENDAR
