BEGIN:VCALENDAR
VERSION:2.0
PRODID:icalendar-ruby
CALSCALE:GREGORIAN
METHOD:PUBLISH
BEGIN:VEVENT
DTSTAMP:20260420T160734Z
UID:event-20581-2026-04-24T19:00:00+02:00-none
DTSTART;TZID=Europe/Madrid:20260424T190000
DESCRIPTION:Se trata de un grupo de música tradicional formado por tres ar
 tistas que comparten su pasión por el folclore popular a través de instr
 umentos antiguos y canciones con raíces profundas.
SUMMARY:El Cantar de las Comadres llega al ciclo "Folclore en todas las est
 aciones"
END:VEVENT
END:VCALENDAR
