BEGIN:VCALENDAR
VERSION:2.0
PRODID:icalendar-ruby
CALSCALE:GREGORIAN
METHOD:PUBLISH
BEGIN:VEVENT
DTSTAMP:20260423T071843Z
UID:event-22017-2026-04-25T19:00:00+02:00-none
DTSTART;TZID=Europe/Madrid:20260425T190000
DESCRIPTION:Tras una pérdida devastadora\, Ana firma un contrato para pone
 r fin a su sufrimiento. Un hombre llega para ejecutarlo con profesionalida
 d\, pero una irrupción inesperada lo obliga a enfrentarse a un dilema que
  desmonta la falsa legitimidad.
SUMMARY:"El contrato"\, de Alessandro William. Proyección y coloquio
END:VEVENT
END:VCALENDAR
