BEGIN:VCALENDAR
VERSION:2.0
PRODID:icalendar-ruby
CALSCALE:GREGORIAN
METHOD:PUBLISH
BEGIN:VEVENT
DTSTAMP:20260420T162042Z
UID:event-20584-2026-07-31T19:00:00+02:00-none
DTSTART;TZID=Europe/Madrid:20260731T190000
DESCRIPTION:Un dúo de música de raíz de Cantabria. Tocan rabel\, zanfoñ
 a\, dulzaina\, acordeón diatónico y van recuperando el ‘vigulín’\, 
 un rabel tradicional con una afinación diferente\, de moda hasta los año
 s 20 del siglo pasado.
SUMMARY:El dúo Los Cámbaros llega al ciclo "Folclore en todas las estacio
 nes"
END:VEVENT
END:VCALENDAR
