BEGIN:VCALENDAR
VERSION:2.0
PRODID:icalendar-ruby
CALSCALE:GREGORIAN
METHOD:PUBLISH
BEGIN:VEVENT
DTSTAMP:20260422T163757Z
UID:event-22090-2026-05-10T19:00:00+02:00-none
DTSTART;TZID=Europe/Madrid:20260510T190000
DESCRIPTION:Es la historia de una familia de mujeres ambientada en la Guerr
 a Civil Norteamericana\, escrita por José Carlos Carmona\, la pieza repre
 senta la realidad que se vive en el teatro\, dos historias paralelas en un
  mismo escenario.
SUMMARY:“El espejo cónico”\, un espectáculo de Ruth Garreta
END:VEVENT
END:VCALENDAR
