BEGIN:VCALENDAR
VERSION:2.0
PRODID:icalendar-ruby
CALSCALE:GREGORIAN
METHOD:PUBLISH
BEGIN:VEVENT
DTSTAMP:20260421T185657Z
UID:event-22266-2026-08-10T20:00:00+02:00-none
DTSTART;TZID=Europe/Madrid:20260810T200000
DESCRIPTION:Embodied Machine es una obra que profundiza en la relación del
  ser humano con la máquina\, entendiendo máquina en su sentido etimológ
 ico y original: máquina\, del griego mêchanè significa originalmente tr
 uco\, engaño\, ilusión. 
SUMMARY:El FIS en el Centro Botín: "Embodied Machine"
END:VEVENT
END:VCALENDAR
