BEGIN:VCALENDAR
VERSION:2.0
PRODID:icalendar-ruby
CALSCALE:GREGORIAN
METHOD:PUBLISH
BEGIN:VEVENT
DTSTAMP:20260421T191208Z
UID:event-22267-2026-08-17T20:00:00+02:00-none
DTSTART;TZID=Europe/Madrid:20260817T200000
DESCRIPTION:El clarinetista Pablo Barragán es reconocido por su sonido ref
 inado\, combinado con una gran destreza técnica\, carisma escénico y una
  curiosidad sin límites por la programación de sus interpretaciones. 
SUMMARY:El FIS en el Centro Botín: Pablo Barragán y el Cuarteto Gerhard 
END:VEVENT
END:VCALENDAR
