BEGIN:VCALENDAR
VERSION:2.0
PRODID:icalendar-ruby
CALSCALE:GREGORIAN
METHOD:PUBLISH
BEGIN:VEVENT
DTSTAMP:20260421T235318Z
UID:event-22364-2026-04-25T11:00:00+02:00-2026-04-25T12:30:00+02:00
DTSTART;TZID=Europe/Madrid:20260425T110000
DTEND;TZID=Europe/Madrid:20260425T123000
DESCRIPTION:El taller\, que se desarrollará en horario de 11.00 a 12.30 ho
 ras\, invita a los participantes a explorar el museo a través del sonido\
 , utilizando melodías\, armonías\, percusión y movimiento como herramie
 ntas de expresión.
SUMMARY:"El museo suena"\, taller familiar en el MAS
END:VEVENT
END:VCALENDAR
