BEGIN:VCALENDAR
VERSION:2.0
PRODID:icalendar-ruby
CALSCALE:GREGORIAN
METHOD:PUBLISH
BEGIN:VEVENT
DTSTAMP:20260424T114924Z
UID:event-22397-2026-04-24T18:00:00+02:00-2026-04-24T21:00:00+02:00
DTSTART;TZID=Europe/Madrid:20260424T180000
DTEND;TZID=Europe/Madrid:20260424T210000
DESCRIPTION:Una nueva entrega de trabajos que configuran esa mirada del úl
 timo Gruber\, que se maneja entre referentes\, citas y coherencia artísti
 ca. La muestra revela y certifica un paso más en el ideario imaginativo y
  creativo del artista.
SUMMARY:"El ojo Insomne" de Eduardo Gruber se instala en Siboney
END:VEVENT
BEGIN:VEVENT
DTSTAMP:20260424T114924Z
UID:event-22397-2026-04-25T18:00:00+02:00-2026-04-25T21:00:00+02:00
DTSTART;TZID=Europe/Madrid:20260425T180000
DTEND;TZID=Europe/Madrid:20260425T210000
DESCRIPTION:Una nueva entrega de trabajos que configuran esa mirada del úl
 timo Gruber\, que se maneja entre referentes\, citas y coherencia artísti
 ca. La muestra revela y certifica un paso más en el ideario imaginativo y
  creativo del artista.
SUMMARY:"El ojo Insomne" de Eduardo Gruber se instala en Siboney
END:VEVENT
BEGIN:VEVENT
DTSTAMP:20260424T114924Z
UID:event-22397-2026-04-28T18:00:00+02:00-2026-04-28T21:00:00+02:00
DTSTART;TZID=Europe/Madrid:20260428T180000
DTEND;TZID=Europe/Madrid:20260428T210000
DESCRIPTION:Una nueva entrega de trabajos que configuran esa mirada del úl
 timo Gruber\, que se maneja entre referentes\, citas y coherencia artísti
 ca. La muestra revela y certifica un paso más en el ideario imaginativo y
  creativo del artista.
SUMMARY:"El ojo Insomne" de Eduardo Gruber se instala en Siboney
END:VEVENT
BEGIN:VEVENT
DTSTAMP:20260424T114924Z
UID:event-22397-2026-04-29T18:00:00+02:00-2026-04-29T21:00:00+02:00
DTSTART;TZID=Europe/Madrid:20260429T180000
DTEND;TZID=Europe/Madrid:20260429T210000
DESCRIPTION:Una nueva entrega de trabajos que configuran esa mirada del úl
 timo Gruber\, que se maneja entre referentes\, citas y coherencia artísti
 ca. La muestra revela y certifica un paso más en el ideario imaginativo y
  creativo del artista.
SUMMARY:"El ojo Insomne" de Eduardo Gruber se instala en Siboney
END:VEVENT
BEGIN:VEVENT
DTSTAMP:20260424T114924Z
UID:event-22397-2026-04-30T18:00:00+02:00-2026-04-30T21:00:00+02:00
DTSTART;TZID=Europe/Madrid:20260430T180000
DTEND;TZID=Europe/Madrid:20260430T210000
DESCRIPTION:Una nueva entrega de trabajos que configuran esa mirada del úl
 timo Gruber\, que se maneja entre referentes\, citas y coherencia artísti
 ca. La muestra revela y certifica un paso más en el ideario imaginativo y
  creativo del artista.
SUMMARY:"El ojo Insomne" de Eduardo Gruber se instala en Siboney
END:VEVENT
BEGIN:VEVENT
DTSTAMP:20260424T114924Z
UID:event-22397-2026-05-01T18:00:00+02:00-2026-05-01T21:00:00+02:00
DTSTART;TZID=Europe/Madrid:20260501T180000
DTEND;TZID=Europe/Madrid:20260501T210000
DESCRIPTION:Una nueva entrega de trabajos que configuran esa mirada del úl
 timo Gruber\, que se maneja entre referentes\, citas y coherencia artísti
 ca. La muestra revela y certifica un paso más en el ideario imaginativo y
  creativo del artista.
SUMMARY:"El ojo Insomne" de Eduardo Gruber se instala en Siboney
END:VEVENT
BEGIN:VEVENT
DTSTAMP:20260424T114924Z
UID:event-22397-2026-05-02T18:00:00+02:00-2026-05-02T21:00:00+02:00
DTSTART;TZID=Europe/Madrid:20260502T180000
DTEND;TZID=Europe/Madrid:20260502T210000
DESCRIPTION:Una nueva entrega de trabajos que configuran esa mirada del úl
 timo Gruber\, que se maneja entre referentes\, citas y coherencia artísti
 ca. La muestra revela y certifica un paso más en el ideario imaginativo y
  creativo del artista.
SUMMARY:"El ojo Insomne" de Eduardo Gruber se instala en Siboney
END:VEVENT
BEGIN:VEVENT
DTSTAMP:20260424T114924Z
UID:event-22397-2026-05-05T18:00:00+02:00-2026-05-05T21:00:00+02:00
DTSTART;TZID=Europe/Madrid:20260505T180000
DTEND;TZID=Europe/Madrid:20260505T210000
DESCRIPTION:Una nueva entrega de trabajos que configuran esa mirada del úl
 timo Gruber\, que se maneja entre referentes\, citas y coherencia artísti
 ca. La muestra revela y certifica un paso más en el ideario imaginativo y
  creativo del artista.
SUMMARY:"El ojo Insomne" de Eduardo Gruber se instala en Siboney
END:VEVENT
BEGIN:VEVENT
DTSTAMP:20260424T114924Z
UID:event-22397-2026-05-06T18:00:00+02:00-2026-05-06T21:00:00+02:00
DTSTART;TZID=Europe/Madrid:20260506T180000
DTEND;TZID=Europe/Madrid:20260506T210000
DESCRIPTION:Una nueva entrega de trabajos que configuran esa mirada del úl
 timo Gruber\, que se maneja entre referentes\, citas y coherencia artísti
 ca. La muestra revela y certifica un paso más en el ideario imaginativo y
  creativo del artista.
SUMMARY:"El ojo Insomne" de Eduardo Gruber se instala en Siboney
END:VEVENT
BEGIN:VEVENT
DTSTAMP:20260424T114924Z
UID:event-22397-2026-05-07T18:00:00+02:00-2026-05-07T21:00:00+02:00
DTSTART;TZID=Europe/Madrid:20260507T180000
DTEND;TZID=Europe/Madrid:20260507T210000
DESCRIPTION:Una nueva entrega de trabajos que configuran esa mirada del úl
 timo Gruber\, que se maneja entre referentes\, citas y coherencia artísti
 ca. La muestra revela y certifica un paso más en el ideario imaginativo y
  creativo del artista.
SUMMARY:"El ojo Insomne" de Eduardo Gruber se instala en Siboney
END:VEVENT
BEGIN:VEVENT
DTSTAMP:20260424T114924Z
UID:event-22397-2026-05-08T18:00:00+02:00-2026-05-08T21:00:00+02:00
DTSTART;TZID=Europe/Madrid:20260508T180000
DTEND;TZID=Europe/Madrid:20260508T210000
DESCRIPTION:Una nueva entrega de trabajos que configuran esa mirada del úl
 timo Gruber\, que se maneja entre referentes\, citas y coherencia artísti
 ca. La muestra revela y certifica un paso más en el ideario imaginativo y
  creativo del artista.
SUMMARY:"El ojo Insomne" de Eduardo Gruber se instala en Siboney
END:VEVENT
BEGIN:VEVENT
DTSTAMP:20260424T114924Z
UID:event-22397-2026-05-09T18:00:00+02:00-2026-05-09T21:00:00+02:00
DTSTART;TZID=Europe/Madrid:20260509T180000
DTEND;TZID=Europe/Madrid:20260509T210000
DESCRIPTION:Una nueva entrega de trabajos que configuran esa mirada del úl
 timo Gruber\, que se maneja entre referentes\, citas y coherencia artísti
 ca. La muestra revela y certifica un paso más en el ideario imaginativo y
  creativo del artista.
SUMMARY:"El ojo Insomne" de Eduardo Gruber se instala en Siboney
END:VEVENT
BEGIN:VEVENT
DTSTAMP:20260424T114924Z
UID:event-22397-2026-05-12T18:00:00+02:00-2026-05-12T21:00:00+02:00
DTSTART;TZID=Europe/Madrid:20260512T180000
DTEND;TZID=Europe/Madrid:20260512T210000
DESCRIPTION:Una nueva entrega de trabajos que configuran esa mirada del úl
 timo Gruber\, que se maneja entre referentes\, citas y coherencia artísti
 ca. La muestra revela y certifica un paso más en el ideario imaginativo y
  creativo del artista.
SUMMARY:"El ojo Insomne" de Eduardo Gruber se instala en Siboney
END:VEVENT
BEGIN:VEVENT
DTSTAMP:20260424T114924Z
UID:event-22397-2026-05-13T18:00:00+02:00-2026-05-13T21:00:00+02:00
DTSTART;TZID=Europe/Madrid:20260513T180000
DTEND;TZID=Europe/Madrid:20260513T210000
DESCRIPTION:Una nueva entrega de trabajos que configuran esa mirada del úl
 timo Gruber\, que se maneja entre referentes\, citas y coherencia artísti
 ca. La muestra revela y certifica un paso más en el ideario imaginativo y
  creativo del artista.
SUMMARY:"El ojo Insomne" de Eduardo Gruber se instala en Siboney
END:VEVENT
BEGIN:VEVENT
DTSTAMP:20260424T114924Z
UID:event-22397-2026-05-14T18:00:00+02:00-2026-05-14T21:00:00+02:00
DTSTART;TZID=Europe/Madrid:20260514T180000
DTEND;TZID=Europe/Madrid:20260514T210000
DESCRIPTION:Una nueva entrega de trabajos que configuran esa mirada del úl
 timo Gruber\, que se maneja entre referentes\, citas y coherencia artísti
 ca. La muestra revela y certifica un paso más en el ideario imaginativo y
  creativo del artista.
SUMMARY:"El ojo Insomne" de Eduardo Gruber se instala en Siboney
END:VEVENT
BEGIN:VEVENT
DTSTAMP:20260424T114924Z
UID:event-22397-2026-05-15T18:00:00+02:00-2026-05-15T21:00:00+02:00
DTSTART;TZID=Europe/Madrid:20260515T180000
DTEND;TZID=Europe/Madrid:20260515T210000
DESCRIPTION:Una nueva entrega de trabajos que configuran esa mirada del úl
 timo Gruber\, que se maneja entre referentes\, citas y coherencia artísti
 ca. La muestra revela y certifica un paso más en el ideario imaginativo y
  creativo del artista.
SUMMARY:"El ojo Insomne" de Eduardo Gruber se instala en Siboney
END:VEVENT
BEGIN:VEVENT
DTSTAMP:20260424T114924Z
UID:event-22397-2026-05-16T18:00:00+02:00-2026-05-16T21:00:00+02:00
DTSTART;TZID=Europe/Madrid:20260516T180000
DTEND;TZID=Europe/Madrid:20260516T210000
DESCRIPTION:Una nueva entrega de trabajos que configuran esa mirada del úl
 timo Gruber\, que se maneja entre referentes\, citas y coherencia artísti
 ca. La muestra revela y certifica un paso más en el ideario imaginativo y
  creativo del artista.
SUMMARY:"El ojo Insomne" de Eduardo Gruber se instala en Siboney
END:VEVENT
BEGIN:VEVENT
DTSTAMP:20260424T114924Z
UID:event-22397-2026-05-19T18:00:00+02:00-2026-05-19T21:00:00+02:00
DTSTART;TZID=Europe/Madrid:20260519T180000
DTEND;TZID=Europe/Madrid:20260519T210000
DESCRIPTION:Una nueva entrega de trabajos que configuran esa mirada del úl
 timo Gruber\, que se maneja entre referentes\, citas y coherencia artísti
 ca. La muestra revela y certifica un paso más en el ideario imaginativo y
  creativo del artista.
SUMMARY:"El ojo Insomne" de Eduardo Gruber se instala en Siboney
END:VEVENT
BEGIN:VEVENT
DTSTAMP:20260424T114924Z
UID:event-22397-2026-05-20T18:00:00+02:00-2026-05-20T21:00:00+02:00
DTSTART;TZID=Europe/Madrid:20260520T180000
DTEND;TZID=Europe/Madrid:20260520T210000
DESCRIPTION:Una nueva entrega de trabajos que configuran esa mirada del úl
 timo Gruber\, que se maneja entre referentes\, citas y coherencia artísti
 ca. La muestra revela y certifica un paso más en el ideario imaginativo y
  creativo del artista.
SUMMARY:"El ojo Insomne" de Eduardo Gruber se instala en Siboney
END:VEVENT
BEGIN:VEVENT
DTSTAMP:20260424T114924Z
UID:event-22397-2026-05-21T18:00:00+02:00-2026-05-21T21:00:00+02:00
DTSTART;TZID=Europe/Madrid:20260521T180000
DTEND;TZID=Europe/Madrid:20260521T210000
DESCRIPTION:Una nueva entrega de trabajos que configuran esa mirada del úl
 timo Gruber\, que se maneja entre referentes\, citas y coherencia artísti
 ca. La muestra revela y certifica un paso más en el ideario imaginativo y
  creativo del artista.
SUMMARY:"El ojo Insomne" de Eduardo Gruber se instala en Siboney
END:VEVENT
BEGIN:VEVENT
DTSTAMP:20260424T114924Z
UID:event-22397-2026-05-22T18:00:00+02:00-2026-05-22T21:00:00+02:00
DTSTART;TZID=Europe/Madrid:20260522T180000
DTEND;TZID=Europe/Madrid:20260522T210000
DESCRIPTION:Una nueva entrega de trabajos que configuran esa mirada del úl
 timo Gruber\, que se maneja entre referentes\, citas y coherencia artísti
 ca. La muestra revela y certifica un paso más en el ideario imaginativo y
  creativo del artista.
SUMMARY:"El ojo Insomne" de Eduardo Gruber se instala en Siboney
END:VEVENT
BEGIN:VEVENT
DTSTAMP:20260424T114924Z
UID:event-22397-2026-05-23T18:00:00+02:00-2026-05-23T21:00:00+02:00
DTSTART;TZID=Europe/Madrid:20260523T180000
DTEND;TZID=Europe/Madrid:20260523T210000
DESCRIPTION:Una nueva entrega de trabajos que configuran esa mirada del úl
 timo Gruber\, que se maneja entre referentes\, citas y coherencia artísti
 ca. La muestra revela y certifica un paso más en el ideario imaginativo y
  creativo del artista.
SUMMARY:"El ojo Insomne" de Eduardo Gruber se instala en Siboney
END:VEVENT
BEGIN:VEVENT
DTSTAMP:20260424T114924Z
UID:event-22397-2026-05-26T18:00:00+02:00-2026-05-26T21:00:00+02:00
DTSTART;TZID=Europe/Madrid:20260526T180000
DTEND;TZID=Europe/Madrid:20260526T210000
DESCRIPTION:Una nueva entrega de trabajos que configuran esa mirada del úl
 timo Gruber\, que se maneja entre referentes\, citas y coherencia artísti
 ca. La muestra revela y certifica un paso más en el ideario imaginativo y
  creativo del artista.
SUMMARY:"El ojo Insomne" de Eduardo Gruber se instala en Siboney
END:VEVENT
BEGIN:VEVENT
DTSTAMP:20260424T114924Z
UID:event-22397-2026-05-27T18:00:00+02:00-2026-05-27T21:00:00+02:00
DTSTART;TZID=Europe/Madrid:20260527T180000
DTEND;TZID=Europe/Madrid:20260527T210000
DESCRIPTION:Una nueva entrega de trabajos que configuran esa mirada del úl
 timo Gruber\, que se maneja entre referentes\, citas y coherencia artísti
 ca. La muestra revela y certifica un paso más en el ideario imaginativo y
  creativo del artista.
SUMMARY:"El ojo Insomne" de Eduardo Gruber se instala en Siboney
END:VEVENT
BEGIN:VEVENT
DTSTAMP:20260424T114924Z
UID:event-22397-2026-05-28T18:00:00+02:00-2026-05-28T21:00:00+02:00
DTSTART;TZID=Europe/Madrid:20260528T180000
DTEND;TZID=Europe/Madrid:20260528T210000
DESCRIPTION:Una nueva entrega de trabajos que configuran esa mirada del úl
 timo Gruber\, que se maneja entre referentes\, citas y coherencia artísti
 ca. La muestra revela y certifica un paso más en el ideario imaginativo y
  creativo del artista.
SUMMARY:"El ojo Insomne" de Eduardo Gruber se instala en Siboney
END:VEVENT
BEGIN:VEVENT
DTSTAMP:20260424T114924Z
UID:event-22397-2026-05-29T18:00:00+02:00-2026-05-29T21:00:00+02:00
DTSTART;TZID=Europe/Madrid:20260529T180000
DTEND;TZID=Europe/Madrid:20260529T210000
DESCRIPTION:Una nueva entrega de trabajos que configuran esa mirada del úl
 timo Gruber\, que se maneja entre referentes\, citas y coherencia artísti
 ca. La muestra revela y certifica un paso más en el ideario imaginativo y
  creativo del artista.
SUMMARY:"El ojo Insomne" de Eduardo Gruber se instala en Siboney
END:VEVENT
BEGIN:VEVENT
DTSTAMP:20260424T114924Z
UID:event-22397-2026-05-30T18:00:00+02:00-2026-05-30T21:00:00+02:00
DTSTART;TZID=Europe/Madrid:20260530T180000
DTEND;TZID=Europe/Madrid:20260530T210000
DESCRIPTION:Una nueva entrega de trabajos que configuran esa mirada del úl
 timo Gruber\, que se maneja entre referentes\, citas y coherencia artísti
 ca. La muestra revela y certifica un paso más en el ideario imaginativo y
  creativo del artista.
SUMMARY:"El ojo Insomne" de Eduardo Gruber se instala en Siboney
END:VEVENT
END:VCALENDAR
