BEGIN:VCALENDAR
VERSION:2.0
PRODID:icalendar-ruby
CALSCALE:GREGORIAN
METHOD:PUBLISH
BEGIN:VEVENT
DTSTAMP:20260421T201427Z
UID:event-22122-2026-08-14T20:00:00+02:00-none
DTSTART;TZID=Europe/Madrid:20260814T200000
DESCRIPTION:Una obra sobre la perpetua búsqueda de felicidad. Explora los 
 límites y las limitaciones humanas que\, tomando la apariencia de distint
 os rostros\, embarran y contaminan el camino del derecho al deseo.
SUMMARY:"El paraíso de los negros". Compañía María Pagés
END:VEVENT
END:VCALENDAR
