BEGIN:VCALENDAR
VERSION:2.0
PRODID:icalendar-ruby
CALSCALE:GREGORIAN
METHOD:PUBLISH
BEGIN:VEVENT
DTSTAMP:20260420T173103Z
UID:event-21867-2026-09-11T19:30:00+02:00-none
DTSTART;TZID=Europe/Madrid:20260911T193000
DESCRIPTION:Tras el éxito de su debut\, el festival El Rodeo anuncia su se
 gunda edición en Escenario Santander\, con la vocación de ser mucho más
  que un ciclo de conciertos.
SUMMARY:El Rodeo Festival: Kyle Lacy\, Damantra y Germán Salto
END:VEVENT
END:VCALENDAR
