BEGIN:VCALENDAR
VERSION:2.0
PRODID:icalendar-ruby
CALSCALE:GREGORIAN
METHOD:PUBLISH
BEGIN:VEVENT
DTSTAMP:20260420T172317Z
UID:event-21868-2026-09-12T19:30:00+02:00-none
DTSTART;TZID=Europe/Madrid:20260912T193000
DESCRIPTION:Tras el éxito de su debut\, el festival El Rodeo anuncia su se
 gunda edición en Escenario Santander\, con la vocación de ser mucho más
  que un ciclo de conciertos.
SUMMARY:El Rodeo Festival: No Los Angeles\, Delta Blues Riders y Adam Simon
 s
END:VEVENT
END:VCALENDAR
