BEGIN:VCALENDAR
VERSION:2.0
PRODID:icalendar-ruby
CALSCALE:GREGORIAN
METHOD:PUBLISH
BEGIN:VEVENT
DTSTAMP:20260420T143619Z
UID:event-22285-2026-04-20T20:00:00+02:00-none
DTSTART;TZID=Europe/Madrid:20260420T200000
DESCRIPTION:Por primera vez una película reúne a judíos destacados de di
 versos países\, que revelan sus extraordinarias experiencias con Jesús. 
SUMMARY:"En busca del Mesías"\, de Andrés Garrigó
END:VEVENT
END:VCALENDAR
