BEGIN:VCALENDAR
VERSION:2.0
PRODID:icalendar-ruby
CALSCALE:GREGORIAN
METHOD:PUBLISH
BEGIN:VEVENT
DTSTAMP:20260422T164318Z
UID:event-16706-2025-05-22T19:30:00+02:00-none
DTSTART;TZID=Europe/Madrid:20250522T193000
DESCRIPTION:El Ateneo de Santander acoge la conferencia "En esta hora de Es
 paña" que impartirá Amalio de Marichalar y Sáenz de Tejada.
SUMMARY:"En esta hora de España"\, conferencia de Amalio Marichalar y Sáe
 nz de Tejada 
END:VEVENT
END:VCALENDAR
