BEGIN:VCALENDAR
VERSION:2.0
PRODID:icalendar-ruby
CALSCALE:GREGORIAN
METHOD:PUBLISH
BEGIN:VEVENT
DTSTAMP:20260423T091512Z
UID:event-4332-2023-01-25T19:00:00+01:00-none
DTSTART;TZID=Europe/Madrid:20230125T190000
DESCRIPTION:Gonzalo Elvira nos acercará a su proyecto Los primeros fríos 
 que fue seleccionado en la XXVII convocatoria de Becas de Arte de la Funda
 ción Botín. 
SUMMARY:Encuentro en la exposición Itinerarios XXVII con Gonzalo Elvira
END:VEVENT
END:VCALENDAR
