BEGIN:VCALENDAR
VERSION:2.0
PRODID:icalendar-ruby
CALSCALE:GREGORIAN
METHOD:PUBLISH
BEGIN:VEVENT
DTSTAMP:20260421T202440Z
UID:event-22120-2026-08-09T20:00:00+02:00-none
DTSTART;TZID=Europe/Madrid:20260809T200000
DESCRIPTION:La English Chamber Orchestra es reconocida internacionalmente p
 or su enérgico virtuosismo y su cautivadora versatilidad\, lleva más de 
 seis décadas actuando en el Reino Unido y a nivel mundial. 
SUMMARY:English Chamber Orchestra. Elisabeth Leonskaja\, piano. Marzena Dia
 kun\, directora
END:VEVENT
END:VCALENDAR
