BEGIN:VCALENDAR
VERSION:2.0
PRODID:icalendar-ruby
CALSCALE:GREGORIAN
METHOD:PUBLISH
BEGIN:VEVENT
DTSTAMP:20260423T085819Z
UID:event-15777-2025-04-16T20:00:00+02:00-none
DTSTART;TZID=Europe/Madrid:20250416T200000
DESCRIPTION:La Escuela de Artes Escénicas (EAE) del Palacio de Festivales 
 de Cantabria estrenará el próximo 16 de abril el montaje en el que lleva
  trabajando desde el pasado curso\, ‘La tienda de los horrores\, el musi
 cal’.
SUMMARY:Estreno del musical "La tienda de los horrores"
END:VEVENT
END:VCALENDAR
