BEGIN:VCALENDAR
VERSION:2.0
PRODID:icalendar-ruby
CALSCALE:GREGORIAN
METHOD:PUBLISH
BEGIN:VEVENT
DTSTAMP:20260420T124739Z
UID:event-21858-2026-03-27T17:00:00+01:00-2026-03-27T21:00:00+01:00
DTSTART;TZID=Europe/Madrid:20260327T170000
DTEND;TZID=Europe/Madrid:20260327T210000
DESCRIPTION:Esta exposición parte de una idea esencial: la piel no es solo
  la superficie del cuerpo\, sino el lugar donde se encuentran el interior 
 y el exterior\, donde sentimos\, recordamos y nos relacionamos con el mund
 o. 
SUMMARY:Exposición de Dolo Navas: "Somos piel"
END:VEVENT
BEGIN:VEVENT
DTSTAMP:20260420T124739Z
UID:event-21858-2026-03-30T17:00:00+02:00-2026-03-30T21:00:00+02:00
DTSTART;TZID=Europe/Madrid:20260330T170000
DTEND;TZID=Europe/Madrid:20260330T210000
DESCRIPTION:Esta exposición parte de una idea esencial: la piel no es solo
  la superficie del cuerpo\, sino el lugar donde se encuentran el interior 
 y el exterior\, donde sentimos\, recordamos y nos relacionamos con el mund
 o. 
SUMMARY:Exposición de Dolo Navas: "Somos piel"
END:VEVENT
BEGIN:VEVENT
DTSTAMP:20260420T124739Z
UID:event-21858-2026-03-31T17:00:00+02:00-2026-03-31T21:00:00+02:00
DTSTART;TZID=Europe/Madrid:20260331T170000
DTEND;TZID=Europe/Madrid:20260331T210000
DESCRIPTION:Esta exposición parte de una idea esencial: la piel no es solo
  la superficie del cuerpo\, sino el lugar donde se encuentran el interior 
 y el exterior\, donde sentimos\, recordamos y nos relacionamos con el mund
 o. 
SUMMARY:Exposición de Dolo Navas: "Somos piel"
END:VEVENT
BEGIN:VEVENT
DTSTAMP:20260420T124739Z
UID:event-21858-2026-04-01T17:00:00+02:00-2026-04-01T21:00:00+02:00
DTSTART;TZID=Europe/Madrid:20260401T170000
DTEND;TZID=Europe/Madrid:20260401T210000
DESCRIPTION:Esta exposición parte de una idea esencial: la piel no es solo
  la superficie del cuerpo\, sino el lugar donde se encuentran el interior 
 y el exterior\, donde sentimos\, recordamos y nos relacionamos con el mund
 o. 
SUMMARY:Exposición de Dolo Navas: "Somos piel"
END:VEVENT
BEGIN:VEVENT
DTSTAMP:20260420T124739Z
UID:event-21858-2026-04-02T17:00:00+02:00-2026-04-02T21:00:00+02:00
DTSTART;TZID=Europe/Madrid:20260402T170000
DTEND;TZID=Europe/Madrid:20260402T210000
DESCRIPTION:Esta exposición parte de una idea esencial: la piel no es solo
  la superficie del cuerpo\, sino el lugar donde se encuentran el interior 
 y el exterior\, donde sentimos\, recordamos y nos relacionamos con el mund
 o. 
SUMMARY:Exposición de Dolo Navas: "Somos piel"
END:VEVENT
BEGIN:VEVENT
DTSTAMP:20260420T124739Z
UID:event-21858-2026-04-03T17:00:00+02:00-2026-04-03T21:00:00+02:00
DTSTART;TZID=Europe/Madrid:20260403T170000
DTEND;TZID=Europe/Madrid:20260403T210000
DESCRIPTION:Esta exposición parte de una idea esencial: la piel no es solo
  la superficie del cuerpo\, sino el lugar donde se encuentran el interior 
 y el exterior\, donde sentimos\, recordamos y nos relacionamos con el mund
 o. 
SUMMARY:Exposición de Dolo Navas: "Somos piel"
END:VEVENT
BEGIN:VEVENT
DTSTAMP:20260420T124739Z
UID:event-21858-2026-04-06T17:00:00+02:00-2026-04-06T21:00:00+02:00
DTSTART;TZID=Europe/Madrid:20260406T170000
DTEND;TZID=Europe/Madrid:20260406T210000
DESCRIPTION:Esta exposición parte de una idea esencial: la piel no es solo
  la superficie del cuerpo\, sino el lugar donde se encuentran el interior 
 y el exterior\, donde sentimos\, recordamos y nos relacionamos con el mund
 o. 
SUMMARY:Exposición de Dolo Navas: "Somos piel"
END:VEVENT
BEGIN:VEVENT
DTSTAMP:20260420T124739Z
UID:event-21858-2026-04-07T17:00:00+02:00-2026-04-07T21:00:00+02:00
DTSTART;TZID=Europe/Madrid:20260407T170000
DTEND;TZID=Europe/Madrid:20260407T210000
DESCRIPTION:Esta exposición parte de una idea esencial: la piel no es solo
  la superficie del cuerpo\, sino el lugar donde se encuentran el interior 
 y el exterior\, donde sentimos\, recordamos y nos relacionamos con el mund
 o. 
SUMMARY:Exposición de Dolo Navas: "Somos piel"
END:VEVENT
BEGIN:VEVENT
DTSTAMP:20260420T124739Z
UID:event-21858-2026-04-08T17:00:00+02:00-2026-04-08T21:00:00+02:00
DTSTART;TZID=Europe/Madrid:20260408T170000
DTEND;TZID=Europe/Madrid:20260408T210000
DESCRIPTION:Esta exposición parte de una idea esencial: la piel no es solo
  la superficie del cuerpo\, sino el lugar donde se encuentran el interior 
 y el exterior\, donde sentimos\, recordamos y nos relacionamos con el mund
 o. 
SUMMARY:Exposición de Dolo Navas: "Somos piel"
END:VEVENT
BEGIN:VEVENT
DTSTAMP:20260420T124739Z
UID:event-21858-2026-04-09T17:00:00+02:00-2026-04-09T21:00:00+02:00
DTSTART;TZID=Europe/Madrid:20260409T170000
DTEND;TZID=Europe/Madrid:20260409T210000
DESCRIPTION:Esta exposición parte de una idea esencial: la piel no es solo
  la superficie del cuerpo\, sino el lugar donde se encuentran el interior 
 y el exterior\, donde sentimos\, recordamos y nos relacionamos con el mund
 o. 
SUMMARY:Exposición de Dolo Navas: "Somos piel"
END:VEVENT
BEGIN:VEVENT
DTSTAMP:20260420T124739Z
UID:event-21858-2026-04-10T17:00:00+02:00-2026-04-10T21:00:00+02:00
DTSTART;TZID=Europe/Madrid:20260410T170000
DTEND;TZID=Europe/Madrid:20260410T210000
DESCRIPTION:Esta exposición parte de una idea esencial: la piel no es solo
  la superficie del cuerpo\, sino el lugar donde se encuentran el interior 
 y el exterior\, donde sentimos\, recordamos y nos relacionamos con el mund
 o. 
SUMMARY:Exposición de Dolo Navas: "Somos piel"
END:VEVENT
BEGIN:VEVENT
DTSTAMP:20260420T124739Z
UID:event-21858-2026-04-13T17:00:00+02:00-2026-04-13T21:00:00+02:00
DTSTART;TZID=Europe/Madrid:20260413T170000
DTEND;TZID=Europe/Madrid:20260413T210000
DESCRIPTION:Esta exposición parte de una idea esencial: la piel no es solo
  la superficie del cuerpo\, sino el lugar donde se encuentran el interior 
 y el exterior\, donde sentimos\, recordamos y nos relacionamos con el mund
 o. 
SUMMARY:Exposición de Dolo Navas: "Somos piel"
END:VEVENT
BEGIN:VEVENT
DTSTAMP:20260420T124739Z
UID:event-21858-2026-04-14T17:00:00+02:00-2026-04-14T21:00:00+02:00
DTSTART;TZID=Europe/Madrid:20260414T170000
DTEND;TZID=Europe/Madrid:20260414T210000
DESCRIPTION:Esta exposición parte de una idea esencial: la piel no es solo
  la superficie del cuerpo\, sino el lugar donde se encuentran el interior 
 y el exterior\, donde sentimos\, recordamos y nos relacionamos con el mund
 o. 
SUMMARY:Exposición de Dolo Navas: "Somos piel"
END:VEVENT
BEGIN:VEVENT
DTSTAMP:20260420T124739Z
UID:event-21858-2026-04-15T17:00:00+02:00-2026-04-15T21:00:00+02:00
DTSTART;TZID=Europe/Madrid:20260415T170000
DTEND;TZID=Europe/Madrid:20260415T210000
DESCRIPTION:Esta exposición parte de una idea esencial: la piel no es solo
  la superficie del cuerpo\, sino el lugar donde se encuentran el interior 
 y el exterior\, donde sentimos\, recordamos y nos relacionamos con el mund
 o. 
SUMMARY:Exposición de Dolo Navas: "Somos piel"
END:VEVENT
BEGIN:VEVENT
DTSTAMP:20260420T124739Z
UID:event-21858-2026-04-16T17:00:00+02:00-2026-04-16T21:00:00+02:00
DTSTART;TZID=Europe/Madrid:20260416T170000
DTEND;TZID=Europe/Madrid:20260416T210000
DESCRIPTION:Esta exposición parte de una idea esencial: la piel no es solo
  la superficie del cuerpo\, sino el lugar donde se encuentran el interior 
 y el exterior\, donde sentimos\, recordamos y nos relacionamos con el mund
 o. 
SUMMARY:Exposición de Dolo Navas: "Somos piel"
END:VEVENT
BEGIN:VEVENT
DTSTAMP:20260420T124739Z
UID:event-21858-2026-04-17T17:00:00+02:00-2026-04-17T21:00:00+02:00
DTSTART;TZID=Europe/Madrid:20260417T170000
DTEND;TZID=Europe/Madrid:20260417T210000
DESCRIPTION:Esta exposición parte de una idea esencial: la piel no es solo
  la superficie del cuerpo\, sino el lugar donde se encuentran el interior 
 y el exterior\, donde sentimos\, recordamos y nos relacionamos con el mund
 o. 
SUMMARY:Exposición de Dolo Navas: "Somos piel"
END:VEVENT
BEGIN:VEVENT
DTSTAMP:20260420T124739Z
UID:event-21858-2026-04-20T17:00:00+02:00-2026-04-20T21:00:00+02:00
DTSTART;TZID=Europe/Madrid:20260420T170000
DTEND;TZID=Europe/Madrid:20260420T210000
DESCRIPTION:Esta exposición parte de una idea esencial: la piel no es solo
  la superficie del cuerpo\, sino el lugar donde se encuentran el interior 
 y el exterior\, donde sentimos\, recordamos y nos relacionamos con el mund
 o. 
SUMMARY:Exposición de Dolo Navas: "Somos piel"
END:VEVENT
BEGIN:VEVENT
DTSTAMP:20260420T124739Z
UID:event-21858-2026-04-21T17:00:00+02:00-2026-04-21T21:00:00+02:00
DTSTART;TZID=Europe/Madrid:20260421T170000
DTEND;TZID=Europe/Madrid:20260421T210000
DESCRIPTION:Esta exposición parte de una idea esencial: la piel no es solo
  la superficie del cuerpo\, sino el lugar donde se encuentran el interior 
 y el exterior\, donde sentimos\, recordamos y nos relacionamos con el mund
 o. 
SUMMARY:Exposición de Dolo Navas: "Somos piel"
END:VEVENT
BEGIN:VEVENT
DTSTAMP:20260420T124739Z
UID:event-21858-2026-04-22T17:00:00+02:00-2026-04-22T21:00:00+02:00
DTSTART;TZID=Europe/Madrid:20260422T170000
DTEND;TZID=Europe/Madrid:20260422T210000
DESCRIPTION:Esta exposición parte de una idea esencial: la piel no es solo
  la superficie del cuerpo\, sino el lugar donde se encuentran el interior 
 y el exterior\, donde sentimos\, recordamos y nos relacionamos con el mund
 o. 
SUMMARY:Exposición de Dolo Navas: "Somos piel"
END:VEVENT
BEGIN:VEVENT
DTSTAMP:20260420T124739Z
UID:event-21858-2026-04-23T17:00:00+02:00-2026-04-23T21:00:00+02:00
DTSTART;TZID=Europe/Madrid:20260423T170000
DTEND;TZID=Europe/Madrid:20260423T210000
DESCRIPTION:Esta exposición parte de una idea esencial: la piel no es solo
  la superficie del cuerpo\, sino el lugar donde se encuentran el interior 
 y el exterior\, donde sentimos\, recordamos y nos relacionamos con el mund
 o. 
SUMMARY:Exposición de Dolo Navas: "Somos piel"
END:VEVENT
BEGIN:VEVENT
DTSTAMP:20260420T124739Z
UID:event-21858-2026-04-24T17:00:00+02:00-2026-04-24T21:00:00+02:00
DTSTART;TZID=Europe/Madrid:20260424T170000
DTEND;TZID=Europe/Madrid:20260424T210000
DESCRIPTION:Esta exposición parte de una idea esencial: la piel no es solo
  la superficie del cuerpo\, sino el lugar donde se encuentran el interior 
 y el exterior\, donde sentimos\, recordamos y nos relacionamos con el mund
 o. 
SUMMARY:Exposición de Dolo Navas: "Somos piel"
END:VEVENT
BEGIN:VEVENT
DTSTAMP:20260420T124739Z
UID:event-21858-2026-04-27T17:00:00+02:00-2026-04-27T21:00:00+02:00
DTSTART;TZID=Europe/Madrid:20260427T170000
DTEND;TZID=Europe/Madrid:20260427T210000
DESCRIPTION:Esta exposición parte de una idea esencial: la piel no es solo
  la superficie del cuerpo\, sino el lugar donde se encuentran el interior 
 y el exterior\, donde sentimos\, recordamos y nos relacionamos con el mund
 o. 
SUMMARY:Exposición de Dolo Navas: "Somos piel"
END:VEVENT
BEGIN:VEVENT
DTSTAMP:20260420T124739Z
UID:event-21858-2026-04-28T17:00:00+02:00-2026-04-28T21:00:00+02:00
DTSTART;TZID=Europe/Madrid:20260428T170000
DTEND;TZID=Europe/Madrid:20260428T210000
DESCRIPTION:Esta exposición parte de una idea esencial: la piel no es solo
  la superficie del cuerpo\, sino el lugar donde se encuentran el interior 
 y el exterior\, donde sentimos\, recordamos y nos relacionamos con el mund
 o. 
SUMMARY:Exposición de Dolo Navas: "Somos piel"
END:VEVENT
BEGIN:VEVENT
DTSTAMP:20260420T124739Z
UID:event-21858-2026-04-29T17:00:00+02:00-2026-04-29T21:00:00+02:00
DTSTART;TZID=Europe/Madrid:20260429T170000
DTEND;TZID=Europe/Madrid:20260429T210000
DESCRIPTION:Esta exposición parte de una idea esencial: la piel no es solo
  la superficie del cuerpo\, sino el lugar donde se encuentran el interior 
 y el exterior\, donde sentimos\, recordamos y nos relacionamos con el mund
 o. 
SUMMARY:Exposición de Dolo Navas: "Somos piel"
END:VEVENT
BEGIN:VEVENT
DTSTAMP:20260420T124739Z
UID:event-21858-2026-04-30T17:00:00+02:00-2026-04-30T21:00:00+02:00
DTSTART;TZID=Europe/Madrid:20260430T170000
DTEND;TZID=Europe/Madrid:20260430T210000
DESCRIPTION:Esta exposición parte de una idea esencial: la piel no es solo
  la superficie del cuerpo\, sino el lugar donde se encuentran el interior 
 y el exterior\, donde sentimos\, recordamos y nos relacionamos con el mund
 o. 
SUMMARY:Exposición de Dolo Navas: "Somos piel"
END:VEVENT
END:VCALENDAR
