BEGIN:VCALENDAR
VERSION:2.0
PRODID:icalendar-ruby
CALSCALE:GREGORIAN
METHOD:PUBLISH
BEGIN:VEVENT
DTSTAMP:20260421T173103Z
UID:event-22300-2026-04-27T08:00:00+02:00-2026-04-27T21:00:00+02:00
DTSTART;TZID=Europe/Madrid:20260427T080000
DTEND;TZID=Europe/Madrid:20260427T210000
DESCRIPTION:El artista mirandés expondrá su obra escultórica ‘Sapiens
 ’\, ‘Principios de luz’ y ‘Diálogo de Sombras’ en el espacio de
  Tabacalera.
SUMMARY:Exposición escultórica de Rodrigo Araico
END:VEVENT
BEGIN:VEVENT
DTSTAMP:20260421T173103Z
UID:event-22300-2026-04-28T08:00:00+02:00-2026-04-28T21:00:00+02:00
DTSTART;TZID=Europe/Madrid:20260428T080000
DTEND;TZID=Europe/Madrid:20260428T210000
DESCRIPTION:El artista mirandés expondrá su obra escultórica ‘Sapiens
 ’\, ‘Principios de luz’ y ‘Diálogo de Sombras’ en el espacio de
  Tabacalera.
SUMMARY:Exposición escultórica de Rodrigo Araico
END:VEVENT
BEGIN:VEVENT
DTSTAMP:20260421T173103Z
UID:event-22300-2026-04-29T08:00:00+02:00-2026-04-29T21:00:00+02:00
DTSTART;TZID=Europe/Madrid:20260429T080000
DTEND;TZID=Europe/Madrid:20260429T210000
DESCRIPTION:El artista mirandés expondrá su obra escultórica ‘Sapiens
 ’\, ‘Principios de luz’ y ‘Diálogo de Sombras’ en el espacio de
  Tabacalera.
SUMMARY:Exposición escultórica de Rodrigo Araico
END:VEVENT
BEGIN:VEVENT
DTSTAMP:20260421T173103Z
UID:event-22300-2026-04-30T08:00:00+02:00-2026-04-30T21:00:00+02:00
DTSTART;TZID=Europe/Madrid:20260430T080000
DTEND;TZID=Europe/Madrid:20260430T210000
DESCRIPTION:El artista mirandés expondrá su obra escultórica ‘Sapiens
 ’\, ‘Principios de luz’ y ‘Diálogo de Sombras’ en el espacio de
  Tabacalera.
SUMMARY:Exposición escultórica de Rodrigo Araico
END:VEVENT
BEGIN:VEVENT
DTSTAMP:20260421T173103Z
UID:event-22300-2026-05-04T08:00:00+02:00-2026-05-04T21:00:00+02:00
DTSTART;TZID=Europe/Madrid:20260504T080000
DTEND;TZID=Europe/Madrid:20260504T210000
DESCRIPTION:El artista mirandés expondrá su obra escultórica ‘Sapiens
 ’\, ‘Principios de luz’ y ‘Diálogo de Sombras’ en el espacio de
  Tabacalera.
SUMMARY:Exposición escultórica de Rodrigo Araico
END:VEVENT
BEGIN:VEVENT
DTSTAMP:20260421T173103Z
UID:event-22300-2026-05-05T08:00:00+02:00-2026-05-05T21:00:00+02:00
DTSTART;TZID=Europe/Madrid:20260505T080000
DTEND;TZID=Europe/Madrid:20260505T210000
DESCRIPTION:El artista mirandés expondrá su obra escultórica ‘Sapiens
 ’\, ‘Principios de luz’ y ‘Diálogo de Sombras’ en el espacio de
  Tabacalera.
SUMMARY:Exposición escultórica de Rodrigo Araico
END:VEVENT
BEGIN:VEVENT
DTSTAMP:20260421T173103Z
UID:event-22300-2026-05-06T08:00:00+02:00-2026-05-06T21:00:00+02:00
DTSTART;TZID=Europe/Madrid:20260506T080000
DTEND;TZID=Europe/Madrid:20260506T210000
DESCRIPTION:El artista mirandés expondrá su obra escultórica ‘Sapiens
 ’\, ‘Principios de luz’ y ‘Diálogo de Sombras’ en el espacio de
  Tabacalera.
SUMMARY:Exposición escultórica de Rodrigo Araico
END:VEVENT
BEGIN:VEVENT
DTSTAMP:20260421T173103Z
UID:event-22300-2026-05-07T08:00:00+02:00-2026-05-07T21:00:00+02:00
DTSTART;TZID=Europe/Madrid:20260507T080000
DTEND;TZID=Europe/Madrid:20260507T210000
DESCRIPTION:El artista mirandés expondrá su obra escultórica ‘Sapiens
 ’\, ‘Principios de luz’ y ‘Diálogo de Sombras’ en el espacio de
  Tabacalera.
SUMMARY:Exposición escultórica de Rodrigo Araico
END:VEVENT
BEGIN:VEVENT
DTSTAMP:20260421T173103Z
UID:event-22300-2026-05-08T08:00:00+02:00-2026-05-08T21:00:00+02:00
DTSTART;TZID=Europe/Madrid:20260508T080000
DTEND;TZID=Europe/Madrid:20260508T210000
DESCRIPTION:El artista mirandés expondrá su obra escultórica ‘Sapiens
 ’\, ‘Principios de luz’ y ‘Diálogo de Sombras’ en el espacio de
  Tabacalera.
SUMMARY:Exposición escultórica de Rodrigo Araico
END:VEVENT
END:VCALENDAR
