BEGIN:VCALENDAR
VERSION:2.0
PRODID:icalendar-ruby
CALSCALE:GREGORIAN
METHOD:PUBLISH
BEGIN:VEVENT
DTSTAMP:20260421T204333Z
UID:event-22376-2026-04-29T19:00:00+02:00-none
DTSTART;TZID=Europe/Madrid:20260429T190000
DESCRIPTION:La muestra se compone de 16 fotografías en varios formatos y t
 amaños. Parte de ellas estarán colocadas en una posición baja\, lo cual
  permitirá que el público infantil pueda verlas cómodamente.
SUMMARY:Exposición fotográfica "Naturalis"\, de Natt Agüero. Inauguraci
 ón
END:VEVENT
END:VCALENDAR
