BEGIN:VCALENDAR
VERSION:2.0
PRODID:icalendar-ruby
CALSCALE:GREGORIAN
METHOD:PUBLISH
BEGIN:VEVENT
DTSTAMP:20260421T204737Z
UID:event-22377-2026-04-29T09:00:00+02:00-2026-04-29T21:00:00+02:00
DTSTART;TZID=Europe/Madrid:20260429T090000
DTEND;TZID=Europe/Madrid:20260429T210000
DESCRIPTION:La muestra se compone de 16 fotografías en varios formatos y t
 amaños. Parte de ellas estarán colocadas en una posición baja\, lo cual
  permitirá que el público infantil pueda verlas cómodamente.
SUMMARY:Exposición fotográfica "Naturalis"\, de Natt Agüero
END:VEVENT
BEGIN:VEVENT
DTSTAMP:20260421T204737Z
UID:event-22377-2026-04-30T09:00:00+02:00-2026-04-30T21:00:00+02:00
DTSTART;TZID=Europe/Madrid:20260430T090000
DTEND;TZID=Europe/Madrid:20260430T210000
DESCRIPTION:La muestra se compone de 16 fotografías en varios formatos y t
 amaños. Parte de ellas estarán colocadas en una posición baja\, lo cual
  permitirá que el público infantil pueda verlas cómodamente.
SUMMARY:Exposición fotográfica "Naturalis"\, de Natt Agüero
END:VEVENT
BEGIN:VEVENT
DTSTAMP:20260421T204737Z
UID:event-22377-2026-05-01T09:00:00+02:00-2026-05-01T21:00:00+02:00
DTSTART;TZID=Europe/Madrid:20260501T090000
DTEND;TZID=Europe/Madrid:20260501T210000
DESCRIPTION:La muestra se compone de 16 fotografías en varios formatos y t
 amaños. Parte de ellas estarán colocadas en una posición baja\, lo cual
  permitirá que el público infantil pueda verlas cómodamente.
SUMMARY:Exposición fotográfica "Naturalis"\, de Natt Agüero
END:VEVENT
BEGIN:VEVENT
DTSTAMP:20260421T204737Z
UID:event-22377-2026-05-04T09:00:00+02:00-2026-05-04T21:00:00+02:00
DTSTART;TZID=Europe/Madrid:20260504T090000
DTEND;TZID=Europe/Madrid:20260504T210000
DESCRIPTION:La muestra se compone de 16 fotografías en varios formatos y t
 amaños. Parte de ellas estarán colocadas en una posición baja\, lo cual
  permitirá que el público infantil pueda verlas cómodamente.
SUMMARY:Exposición fotográfica "Naturalis"\, de Natt Agüero
END:VEVENT
BEGIN:VEVENT
DTSTAMP:20260421T204737Z
UID:event-22377-2026-05-05T09:00:00+02:00-2026-05-05T21:00:00+02:00
DTSTART;TZID=Europe/Madrid:20260505T090000
DTEND;TZID=Europe/Madrid:20260505T210000
DESCRIPTION:La muestra se compone de 16 fotografías en varios formatos y t
 amaños. Parte de ellas estarán colocadas en una posición baja\, lo cual
  permitirá que el público infantil pueda verlas cómodamente.
SUMMARY:Exposición fotográfica "Naturalis"\, de Natt Agüero
END:VEVENT
BEGIN:VEVENT
DTSTAMP:20260421T204737Z
UID:event-22377-2026-05-06T09:00:00+02:00-2026-05-06T21:00:00+02:00
DTSTART;TZID=Europe/Madrid:20260506T090000
DTEND;TZID=Europe/Madrid:20260506T210000
DESCRIPTION:La muestra se compone de 16 fotografías en varios formatos y t
 amaños. Parte de ellas estarán colocadas en una posición baja\, lo cual
  permitirá que el público infantil pueda verlas cómodamente.
SUMMARY:Exposición fotográfica "Naturalis"\, de Natt Agüero
END:VEVENT
BEGIN:VEVENT
DTSTAMP:20260421T204737Z
UID:event-22377-2026-05-07T09:00:00+02:00-2026-05-07T21:00:00+02:00
DTSTART;TZID=Europe/Madrid:20260507T090000
DTEND;TZID=Europe/Madrid:20260507T210000
DESCRIPTION:La muestra se compone de 16 fotografías en varios formatos y t
 amaños. Parte de ellas estarán colocadas en una posición baja\, lo cual
  permitirá que el público infantil pueda verlas cómodamente.
SUMMARY:Exposición fotográfica "Naturalis"\, de Natt Agüero
END:VEVENT
BEGIN:VEVENT
DTSTAMP:20260421T204737Z
UID:event-22377-2026-05-08T09:00:00+02:00-2026-05-08T21:00:00+02:00
DTSTART;TZID=Europe/Madrid:20260508T090000
DTEND;TZID=Europe/Madrid:20260508T210000
DESCRIPTION:La muestra se compone de 16 fotografías en varios formatos y t
 amaños. Parte de ellas estarán colocadas en una posición baja\, lo cual
  permitirá que el público infantil pueda verlas cómodamente.
SUMMARY:Exposición fotográfica "Naturalis"\, de Natt Agüero
END:VEVENT
BEGIN:VEVENT
DTSTAMP:20260421T204737Z
UID:event-22377-2026-05-11T09:00:00+02:00-2026-05-11T21:00:00+02:00
DTSTART;TZID=Europe/Madrid:20260511T090000
DTEND;TZID=Europe/Madrid:20260511T210000
DESCRIPTION:La muestra se compone de 16 fotografías en varios formatos y t
 amaños. Parte de ellas estarán colocadas en una posición baja\, lo cual
  permitirá que el público infantil pueda verlas cómodamente.
SUMMARY:Exposición fotográfica "Naturalis"\, de Natt Agüero
END:VEVENT
BEGIN:VEVENT
DTSTAMP:20260421T204737Z
UID:event-22377-2026-05-12T09:00:00+02:00-2026-05-12T21:00:00+02:00
DTSTART;TZID=Europe/Madrid:20260512T090000
DTEND;TZID=Europe/Madrid:20260512T210000
DESCRIPTION:La muestra se compone de 16 fotografías en varios formatos y t
 amaños. Parte de ellas estarán colocadas en una posición baja\, lo cual
  permitirá que el público infantil pueda verlas cómodamente.
SUMMARY:Exposición fotográfica "Naturalis"\, de Natt Agüero
END:VEVENT
BEGIN:VEVENT
DTSTAMP:20260421T204737Z
UID:event-22377-2026-05-13T09:00:00+02:00-2026-05-13T21:00:00+02:00
DTSTART;TZID=Europe/Madrid:20260513T090000
DTEND;TZID=Europe/Madrid:20260513T210000
DESCRIPTION:La muestra se compone de 16 fotografías en varios formatos y t
 amaños. Parte de ellas estarán colocadas en una posición baja\, lo cual
  permitirá que el público infantil pueda verlas cómodamente.
SUMMARY:Exposición fotográfica "Naturalis"\, de Natt Agüero
END:VEVENT
BEGIN:VEVENT
DTSTAMP:20260421T204737Z
UID:event-22377-2026-05-14T09:00:00+02:00-2026-05-14T21:00:00+02:00
DTSTART;TZID=Europe/Madrid:20260514T090000
DTEND;TZID=Europe/Madrid:20260514T210000
DESCRIPTION:La muestra se compone de 16 fotografías en varios formatos y t
 amaños. Parte de ellas estarán colocadas en una posición baja\, lo cual
  permitirá que el público infantil pueda verlas cómodamente.
SUMMARY:Exposición fotográfica "Naturalis"\, de Natt Agüero
END:VEVENT
BEGIN:VEVENT
DTSTAMP:20260421T204737Z
UID:event-22377-2026-05-15T09:00:00+02:00-2026-05-15T21:00:00+02:00
DTSTART;TZID=Europe/Madrid:20260515T090000
DTEND;TZID=Europe/Madrid:20260515T210000
DESCRIPTION:La muestra se compone de 16 fotografías en varios formatos y t
 amaños. Parte de ellas estarán colocadas en una posición baja\, lo cual
  permitirá que el público infantil pueda verlas cómodamente.
SUMMARY:Exposición fotográfica "Naturalis"\, de Natt Agüero
END:VEVENT
BEGIN:VEVENT
DTSTAMP:20260421T204737Z
UID:event-22377-2026-05-18T09:00:00+02:00-2026-05-18T21:00:00+02:00
DTSTART;TZID=Europe/Madrid:20260518T090000
DTEND;TZID=Europe/Madrid:20260518T210000
DESCRIPTION:La muestra se compone de 16 fotografías en varios formatos y t
 amaños. Parte de ellas estarán colocadas en una posición baja\, lo cual
  permitirá que el público infantil pueda verlas cómodamente.
SUMMARY:Exposición fotográfica "Naturalis"\, de Natt Agüero
END:VEVENT
BEGIN:VEVENT
DTSTAMP:20260421T204737Z
UID:event-22377-2026-05-19T09:00:00+02:00-2026-05-19T21:00:00+02:00
DTSTART;TZID=Europe/Madrid:20260519T090000
DTEND;TZID=Europe/Madrid:20260519T210000
DESCRIPTION:La muestra se compone de 16 fotografías en varios formatos y t
 amaños. Parte de ellas estarán colocadas en una posición baja\, lo cual
  permitirá que el público infantil pueda verlas cómodamente.
SUMMARY:Exposición fotográfica "Naturalis"\, de Natt Agüero
END:VEVENT
BEGIN:VEVENT
DTSTAMP:20260421T204737Z
UID:event-22377-2026-05-20T09:00:00+02:00-2026-05-20T21:00:00+02:00
DTSTART;TZID=Europe/Madrid:20260520T090000
DTEND;TZID=Europe/Madrid:20260520T210000
DESCRIPTION:La muestra se compone de 16 fotografías en varios formatos y t
 amaños. Parte de ellas estarán colocadas en una posición baja\, lo cual
  permitirá que el público infantil pueda verlas cómodamente.
SUMMARY:Exposición fotográfica "Naturalis"\, de Natt Agüero
END:VEVENT
BEGIN:VEVENT
DTSTAMP:20260421T204737Z
UID:event-22377-2026-05-21T09:00:00+02:00-2026-05-21T21:00:00+02:00
DTSTART;TZID=Europe/Madrid:20260521T090000
DTEND;TZID=Europe/Madrid:20260521T210000
DESCRIPTION:La muestra se compone de 16 fotografías en varios formatos y t
 amaños. Parte de ellas estarán colocadas en una posición baja\, lo cual
  permitirá que el público infantil pueda verlas cómodamente.
SUMMARY:Exposición fotográfica "Naturalis"\, de Natt Agüero
END:VEVENT
BEGIN:VEVENT
DTSTAMP:20260421T204737Z
UID:event-22377-2026-05-22T09:00:00+02:00-2026-05-22T21:00:00+02:00
DTSTART;TZID=Europe/Madrid:20260522T090000
DTEND;TZID=Europe/Madrid:20260522T210000
DESCRIPTION:La muestra se compone de 16 fotografías en varios formatos y t
 amaños. Parte de ellas estarán colocadas en una posición baja\, lo cual
  permitirá que el público infantil pueda verlas cómodamente.
SUMMARY:Exposición fotográfica "Naturalis"\, de Natt Agüero
END:VEVENT
BEGIN:VEVENT
DTSTAMP:20260421T204737Z
UID:event-22377-2026-05-25T09:00:00+02:00-2026-05-25T21:00:00+02:00
DTSTART;TZID=Europe/Madrid:20260525T090000
DTEND;TZID=Europe/Madrid:20260525T210000
DESCRIPTION:La muestra se compone de 16 fotografías en varios formatos y t
 amaños. Parte de ellas estarán colocadas en una posición baja\, lo cual
  permitirá que el público infantil pueda verlas cómodamente.
SUMMARY:Exposición fotográfica "Naturalis"\, de Natt Agüero
END:VEVENT
BEGIN:VEVENT
DTSTAMP:20260421T204737Z
UID:event-22377-2026-05-26T09:00:00+02:00-2026-05-26T21:00:00+02:00
DTSTART;TZID=Europe/Madrid:20260526T090000
DTEND;TZID=Europe/Madrid:20260526T210000
DESCRIPTION:La muestra se compone de 16 fotografías en varios formatos y t
 amaños. Parte de ellas estarán colocadas en una posición baja\, lo cual
  permitirá que el público infantil pueda verlas cómodamente.
SUMMARY:Exposición fotográfica "Naturalis"\, de Natt Agüero
END:VEVENT
BEGIN:VEVENT
DTSTAMP:20260421T204737Z
UID:event-22377-2026-05-27T09:00:00+02:00-2026-05-27T21:00:00+02:00
DTSTART;TZID=Europe/Madrid:20260527T090000
DTEND;TZID=Europe/Madrid:20260527T210000
DESCRIPTION:La muestra se compone de 16 fotografías en varios formatos y t
 amaños. Parte de ellas estarán colocadas en una posición baja\, lo cual
  permitirá que el público infantil pueda verlas cómodamente.
SUMMARY:Exposición fotográfica "Naturalis"\, de Natt Agüero
END:VEVENT
BEGIN:VEVENT
DTSTAMP:20260421T204737Z
UID:event-22377-2026-05-28T09:00:00+02:00-2026-05-28T21:00:00+02:00
DTSTART;TZID=Europe/Madrid:20260528T090000
DTEND;TZID=Europe/Madrid:20260528T210000
DESCRIPTION:La muestra se compone de 16 fotografías en varios formatos y t
 amaños. Parte de ellas estarán colocadas en una posición baja\, lo cual
  permitirá que el público infantil pueda verlas cómodamente.
SUMMARY:Exposición fotográfica "Naturalis"\, de Natt Agüero
END:VEVENT
BEGIN:VEVENT
DTSTAMP:20260421T204737Z
UID:event-22377-2026-05-29T09:00:00+02:00-2026-05-29T21:00:00+02:00
DTSTART;TZID=Europe/Madrid:20260529T090000
DTEND;TZID=Europe/Madrid:20260529T210000
DESCRIPTION:La muestra se compone de 16 fotografías en varios formatos y t
 amaños. Parte de ellas estarán colocadas en una posición baja\, lo cual
  permitirá que el público infantil pueda verlas cómodamente.
SUMMARY:Exposición fotográfica "Naturalis"\, de Natt Agüero
END:VEVENT
BEGIN:VEVENT
DTSTAMP:20260421T204737Z
UID:event-22377-2026-06-01T09:00:00+02:00-2026-06-01T21:00:00+02:00
DTSTART;TZID=Europe/Madrid:20260601T090000
DTEND;TZID=Europe/Madrid:20260601T210000
DESCRIPTION:La muestra se compone de 16 fotografías en varios formatos y t
 amaños. Parte de ellas estarán colocadas en una posición baja\, lo cual
  permitirá que el público infantil pueda verlas cómodamente.
SUMMARY:Exposición fotográfica "Naturalis"\, de Natt Agüero
END:VEVENT
BEGIN:VEVENT
DTSTAMP:20260421T204737Z
UID:event-22377-2026-06-02T09:00:00+02:00-2026-06-02T21:00:00+02:00
DTSTART;TZID=Europe/Madrid:20260602T090000
DTEND;TZID=Europe/Madrid:20260602T210000
DESCRIPTION:La muestra se compone de 16 fotografías en varios formatos y t
 amaños. Parte de ellas estarán colocadas en una posición baja\, lo cual
  permitirá que el público infantil pueda verlas cómodamente.
SUMMARY:Exposición fotográfica "Naturalis"\, de Natt Agüero
END:VEVENT
BEGIN:VEVENT
DTSTAMP:20260421T204737Z
UID:event-22377-2026-06-03T09:00:00+02:00-2026-06-03T21:00:00+02:00
DTSTART;TZID=Europe/Madrid:20260603T090000
DTEND;TZID=Europe/Madrid:20260603T210000
DESCRIPTION:La muestra se compone de 16 fotografías en varios formatos y t
 amaños. Parte de ellas estarán colocadas en una posición baja\, lo cual
  permitirá que el público infantil pueda verlas cómodamente.
SUMMARY:Exposición fotográfica "Naturalis"\, de Natt Agüero
END:VEVENT
BEGIN:VEVENT
DTSTAMP:20260421T204737Z
UID:event-22377-2026-06-04T09:00:00+02:00-2026-06-04T21:00:00+02:00
DTSTART;TZID=Europe/Madrid:20260604T090000
DTEND;TZID=Europe/Madrid:20260604T210000
DESCRIPTION:La muestra se compone de 16 fotografías en varios formatos y t
 amaños. Parte de ellas estarán colocadas en una posición baja\, lo cual
  permitirá que el público infantil pueda verlas cómodamente.
SUMMARY:Exposición fotográfica "Naturalis"\, de Natt Agüero
END:VEVENT
BEGIN:VEVENT
DTSTAMP:20260421T204737Z
UID:event-22377-2026-06-05T09:00:00+02:00-2026-06-05T21:00:00+02:00
DTSTART;TZID=Europe/Madrid:20260605T090000
DTEND;TZID=Europe/Madrid:20260605T210000
DESCRIPTION:La muestra se compone de 16 fotografías en varios formatos y t
 amaños. Parte de ellas estarán colocadas en una posición baja\, lo cual
  permitirá que el público infantil pueda verlas cómodamente.
SUMMARY:Exposición fotográfica "Naturalis"\, de Natt Agüero
END:VEVENT
BEGIN:VEVENT
DTSTAMP:20260421T204737Z
UID:event-22377-2026-06-08T09:00:00+02:00-2026-06-08T21:00:00+02:00
DTSTART;TZID=Europe/Madrid:20260608T090000
DTEND;TZID=Europe/Madrid:20260608T210000
DESCRIPTION:La muestra se compone de 16 fotografías en varios formatos y t
 amaños. Parte de ellas estarán colocadas en una posición baja\, lo cual
  permitirá que el público infantil pueda verlas cómodamente.
SUMMARY:Exposición fotográfica "Naturalis"\, de Natt Agüero
END:VEVENT
BEGIN:VEVENT
DTSTAMP:20260421T204737Z
UID:event-22377-2026-06-09T09:00:00+02:00-2026-06-09T21:00:00+02:00
DTSTART;TZID=Europe/Madrid:20260609T090000
DTEND;TZID=Europe/Madrid:20260609T210000
DESCRIPTION:La muestra se compone de 16 fotografías en varios formatos y t
 amaños. Parte de ellas estarán colocadas en una posición baja\, lo cual
  permitirá que el público infantil pueda verlas cómodamente.
SUMMARY:Exposición fotográfica "Naturalis"\, de Natt Agüero
END:VEVENT
BEGIN:VEVENT
DTSTAMP:20260421T204737Z
UID:event-22377-2026-06-10T09:00:00+02:00-2026-06-10T21:00:00+02:00
DTSTART;TZID=Europe/Madrid:20260610T090000
DTEND;TZID=Europe/Madrid:20260610T210000
DESCRIPTION:La muestra se compone de 16 fotografías en varios formatos y t
 amaños. Parte de ellas estarán colocadas en una posición baja\, lo cual
  permitirá que el público infantil pueda verlas cómodamente.
SUMMARY:Exposición fotográfica "Naturalis"\, de Natt Agüero
END:VEVENT
BEGIN:VEVENT
DTSTAMP:20260421T204737Z
UID:event-22377-2026-06-11T09:00:00+02:00-2026-06-11T21:00:00+02:00
DTSTART;TZID=Europe/Madrid:20260611T090000
DTEND;TZID=Europe/Madrid:20260611T210000
DESCRIPTION:La muestra se compone de 16 fotografías en varios formatos y t
 amaños. Parte de ellas estarán colocadas en una posición baja\, lo cual
  permitirá que el público infantil pueda verlas cómodamente.
SUMMARY:Exposición fotográfica "Naturalis"\, de Natt Agüero
END:VEVENT
BEGIN:VEVENT
DTSTAMP:20260421T204737Z
UID:event-22377-2026-06-12T09:00:00+02:00-2026-06-12T21:00:00+02:00
DTSTART;TZID=Europe/Madrid:20260612T090000
DTEND;TZID=Europe/Madrid:20260612T210000
DESCRIPTION:La muestra se compone de 16 fotografías en varios formatos y t
 amaños. Parte de ellas estarán colocadas en una posición baja\, lo cual
  permitirá que el público infantil pueda verlas cómodamente.
SUMMARY:Exposición fotográfica "Naturalis"\, de Natt Agüero
END:VEVENT
BEGIN:VEVENT
DTSTAMP:20260421T204737Z
UID:event-22377-2026-06-15T09:00:00+02:00-2026-06-15T21:00:00+02:00
DTSTART;TZID=Europe/Madrid:20260615T090000
DTEND;TZID=Europe/Madrid:20260615T210000
DESCRIPTION:La muestra se compone de 16 fotografías en varios formatos y t
 amaños. Parte de ellas estarán colocadas en una posición baja\, lo cual
  permitirá que el público infantil pueda verlas cómodamente.
SUMMARY:Exposición fotográfica "Naturalis"\, de Natt Agüero
END:VEVENT
BEGIN:VEVENT
DTSTAMP:20260421T204737Z
UID:event-22377-2026-06-16T09:00:00+02:00-2026-06-16T21:00:00+02:00
DTSTART;TZID=Europe/Madrid:20260616T090000
DTEND;TZID=Europe/Madrid:20260616T210000
DESCRIPTION:La muestra se compone de 16 fotografías en varios formatos y t
 amaños. Parte de ellas estarán colocadas en una posición baja\, lo cual
  permitirá que el público infantil pueda verlas cómodamente.
SUMMARY:Exposición fotográfica "Naturalis"\, de Natt Agüero
END:VEVENT
BEGIN:VEVENT
DTSTAMP:20260421T204737Z
UID:event-22377-2026-06-17T09:00:00+02:00-2026-06-17T21:00:00+02:00
DTSTART;TZID=Europe/Madrid:20260617T090000
DTEND;TZID=Europe/Madrid:20260617T210000
DESCRIPTION:La muestra se compone de 16 fotografías en varios formatos y t
 amaños. Parte de ellas estarán colocadas en una posición baja\, lo cual
  permitirá que el público infantil pueda verlas cómodamente.
SUMMARY:Exposición fotográfica "Naturalis"\, de Natt Agüero
END:VEVENT
BEGIN:VEVENT
DTSTAMP:20260421T204737Z
UID:event-22377-2026-06-18T09:00:00+02:00-2026-06-18T21:00:00+02:00
DTSTART;TZID=Europe/Madrid:20260618T090000
DTEND;TZID=Europe/Madrid:20260618T210000
DESCRIPTION:La muestra se compone de 16 fotografías en varios formatos y t
 amaños. Parte de ellas estarán colocadas en una posición baja\, lo cual
  permitirá que el público infantil pueda verlas cómodamente.
SUMMARY:Exposición fotográfica "Naturalis"\, de Natt Agüero
END:VEVENT
BEGIN:VEVENT
DTSTAMP:20260421T204737Z
UID:event-22377-2026-06-19T09:00:00+02:00-2026-06-19T21:00:00+02:00
DTSTART;TZID=Europe/Madrid:20260619T090000
DTEND;TZID=Europe/Madrid:20260619T210000
DESCRIPTION:La muestra se compone de 16 fotografías en varios formatos y t
 amaños. Parte de ellas estarán colocadas en una posición baja\, lo cual
  permitirá que el público infantil pueda verlas cómodamente.
SUMMARY:Exposición fotográfica "Naturalis"\, de Natt Agüero
END:VEVENT
END:VCALENDAR
