BEGIN:VCALENDAR
VERSION:2.0
PRODID:icalendar-ruby
CALSCALE:GREGORIAN
METHOD:PUBLISH
BEGIN:VEVENT
DTSTAMP:20260423T104546Z
UID:event-4474-2023-01-04T09:00:00+01:00-2023-01-04T21:00:00+01:00
DTSTART;TZID=Europe/Madrid:20230104T090000
DTEND;TZID=Europe/Madrid:20230104T210000
DESCRIPTION:Del 4 al 27 de enero se podrá visitar\, en la planta primera d
 el Centro Cultural Dr. Madrazo\, la exposición “Jardín Pejino”\, de 
 Mª Eugenia Steinmetz Corral.
SUMMARY:Exposición "Jardín Pejino”\, de Mª Eugenia Steinmetz Corral
END:VEVENT
BEGIN:VEVENT
DTSTAMP:20260423T104546Z
UID:event-4474-2023-01-05T09:00:00+01:00-2023-01-05T21:00:00+01:00
DTSTART;TZID=Europe/Madrid:20230105T090000
DTEND;TZID=Europe/Madrid:20230105T210000
DESCRIPTION:Del 4 al 27 de enero se podrá visitar\, en la planta primera d
 el Centro Cultural Dr. Madrazo\, la exposición “Jardín Pejino”\, de 
 Mª Eugenia Steinmetz Corral.
SUMMARY:Exposición "Jardín Pejino”\, de Mª Eugenia Steinmetz Corral
END:VEVENT
BEGIN:VEVENT
DTSTAMP:20260423T104546Z
UID:event-4474-2023-01-06T09:00:00+01:00-2023-01-06T21:00:00+01:00
DTSTART;TZID=Europe/Madrid:20230106T090000
DTEND;TZID=Europe/Madrid:20230106T210000
DESCRIPTION:Del 4 al 27 de enero se podrá visitar\, en la planta primera d
 el Centro Cultural Dr. Madrazo\, la exposición “Jardín Pejino”\, de 
 Mª Eugenia Steinmetz Corral.
SUMMARY:Exposición "Jardín Pejino”\, de Mª Eugenia Steinmetz Corral
END:VEVENT
BEGIN:VEVENT
DTSTAMP:20260423T104546Z
UID:event-4474-2023-01-07T09:00:00+01:00-2023-01-07T21:00:00+01:00
DTSTART;TZID=Europe/Madrid:20230107T090000
DTEND;TZID=Europe/Madrid:20230107T210000
DESCRIPTION:Del 4 al 27 de enero se podrá visitar\, en la planta primera d
 el Centro Cultural Dr. Madrazo\, la exposición “Jardín Pejino”\, de 
 Mª Eugenia Steinmetz Corral.
SUMMARY:Exposición "Jardín Pejino”\, de Mª Eugenia Steinmetz Corral
END:VEVENT
BEGIN:VEVENT
DTSTAMP:20260423T104546Z
UID:event-4474-2023-01-08T09:00:00+01:00-2023-01-08T21:00:00+01:00
DTSTART;TZID=Europe/Madrid:20230108T090000
DTEND;TZID=Europe/Madrid:20230108T210000
DESCRIPTION:Del 4 al 27 de enero se podrá visitar\, en la planta primera d
 el Centro Cultural Dr. Madrazo\, la exposición “Jardín Pejino”\, de 
 Mª Eugenia Steinmetz Corral.
SUMMARY:Exposición "Jardín Pejino”\, de Mª Eugenia Steinmetz Corral
END:VEVENT
BEGIN:VEVENT
DTSTAMP:20260423T104546Z
UID:event-4474-2023-01-09T09:00:00+01:00-2023-01-09T21:00:00+01:00
DTSTART;TZID=Europe/Madrid:20230109T090000
DTEND;TZID=Europe/Madrid:20230109T210000
DESCRIPTION:Del 4 al 27 de enero se podrá visitar\, en la planta primera d
 el Centro Cultural Dr. Madrazo\, la exposición “Jardín Pejino”\, de 
 Mª Eugenia Steinmetz Corral.
SUMMARY:Exposición "Jardín Pejino”\, de Mª Eugenia Steinmetz Corral
END:VEVENT
BEGIN:VEVENT
DTSTAMP:20260423T104546Z
UID:event-4474-2023-01-10T09:00:00+01:00-2023-01-10T21:00:00+01:00
DTSTART;TZID=Europe/Madrid:20230110T090000
DTEND;TZID=Europe/Madrid:20230110T210000
DESCRIPTION:Del 4 al 27 de enero se podrá visitar\, en la planta primera d
 el Centro Cultural Dr. Madrazo\, la exposición “Jardín Pejino”\, de 
 Mª Eugenia Steinmetz Corral.
SUMMARY:Exposición "Jardín Pejino”\, de Mª Eugenia Steinmetz Corral
END:VEVENT
BEGIN:VEVENT
DTSTAMP:20260423T104546Z
UID:event-4474-2023-01-11T09:00:00+01:00-2023-01-11T21:00:00+01:00
DTSTART;TZID=Europe/Madrid:20230111T090000
DTEND;TZID=Europe/Madrid:20230111T210000
DESCRIPTION:Del 4 al 27 de enero se podrá visitar\, en la planta primera d
 el Centro Cultural Dr. Madrazo\, la exposición “Jardín Pejino”\, de 
 Mª Eugenia Steinmetz Corral.
SUMMARY:Exposición "Jardín Pejino”\, de Mª Eugenia Steinmetz Corral
END:VEVENT
BEGIN:VEVENT
DTSTAMP:20260423T104546Z
UID:event-4474-2023-01-12T09:00:00+01:00-2023-01-12T21:00:00+01:00
DTSTART;TZID=Europe/Madrid:20230112T090000
DTEND;TZID=Europe/Madrid:20230112T210000
DESCRIPTION:Del 4 al 27 de enero se podrá visitar\, en la planta primera d
 el Centro Cultural Dr. Madrazo\, la exposición “Jardín Pejino”\, de 
 Mª Eugenia Steinmetz Corral.
SUMMARY:Exposición "Jardín Pejino”\, de Mª Eugenia Steinmetz Corral
END:VEVENT
BEGIN:VEVENT
DTSTAMP:20260423T104546Z
UID:event-4474-2023-01-13T09:00:00+01:00-2023-01-13T21:00:00+01:00
DTSTART;TZID=Europe/Madrid:20230113T090000
DTEND;TZID=Europe/Madrid:20230113T210000
DESCRIPTION:Del 4 al 27 de enero se podrá visitar\, en la planta primera d
 el Centro Cultural Dr. Madrazo\, la exposición “Jardín Pejino”\, de 
 Mª Eugenia Steinmetz Corral.
SUMMARY:Exposición "Jardín Pejino”\, de Mª Eugenia Steinmetz Corral
END:VEVENT
BEGIN:VEVENT
DTSTAMP:20260423T104546Z
UID:event-4474-2023-01-14T09:00:00+01:00-2023-01-14T21:00:00+01:00
DTSTART;TZID=Europe/Madrid:20230114T090000
DTEND;TZID=Europe/Madrid:20230114T210000
DESCRIPTION:Del 4 al 27 de enero se podrá visitar\, en la planta primera d
 el Centro Cultural Dr. Madrazo\, la exposición “Jardín Pejino”\, de 
 Mª Eugenia Steinmetz Corral.
SUMMARY:Exposición "Jardín Pejino”\, de Mª Eugenia Steinmetz Corral
END:VEVENT
BEGIN:VEVENT
DTSTAMP:20260423T104546Z
UID:event-4474-2023-01-15T09:00:00+01:00-2023-01-15T21:00:00+01:00
DTSTART;TZID=Europe/Madrid:20230115T090000
DTEND;TZID=Europe/Madrid:20230115T210000
DESCRIPTION:Del 4 al 27 de enero se podrá visitar\, en la planta primera d
 el Centro Cultural Dr. Madrazo\, la exposición “Jardín Pejino”\, de 
 Mª Eugenia Steinmetz Corral.
SUMMARY:Exposición "Jardín Pejino”\, de Mª Eugenia Steinmetz Corral
END:VEVENT
BEGIN:VEVENT
DTSTAMP:20260423T104546Z
UID:event-4474-2023-01-16T09:00:00+01:00-2023-01-16T21:00:00+01:00
DTSTART;TZID=Europe/Madrid:20230116T090000
DTEND;TZID=Europe/Madrid:20230116T210000
DESCRIPTION:Del 4 al 27 de enero se podrá visitar\, en la planta primera d
 el Centro Cultural Dr. Madrazo\, la exposición “Jardín Pejino”\, de 
 Mª Eugenia Steinmetz Corral.
SUMMARY:Exposición "Jardín Pejino”\, de Mª Eugenia Steinmetz Corral
END:VEVENT
BEGIN:VEVENT
DTSTAMP:20260423T104546Z
UID:event-4474-2023-01-17T09:00:00+01:00-2023-01-17T21:00:00+01:00
DTSTART;TZID=Europe/Madrid:20230117T090000
DTEND;TZID=Europe/Madrid:20230117T210000
DESCRIPTION:Del 4 al 27 de enero se podrá visitar\, en la planta primera d
 el Centro Cultural Dr. Madrazo\, la exposición “Jardín Pejino”\, de 
 Mª Eugenia Steinmetz Corral.
SUMMARY:Exposición "Jardín Pejino”\, de Mª Eugenia Steinmetz Corral
END:VEVENT
BEGIN:VEVENT
DTSTAMP:20260423T104546Z
UID:event-4474-2023-01-18T09:00:00+01:00-2023-01-18T21:00:00+01:00
DTSTART;TZID=Europe/Madrid:20230118T090000
DTEND;TZID=Europe/Madrid:20230118T210000
DESCRIPTION:Del 4 al 27 de enero se podrá visitar\, en la planta primera d
 el Centro Cultural Dr. Madrazo\, la exposición “Jardín Pejino”\, de 
 Mª Eugenia Steinmetz Corral.
SUMMARY:Exposición "Jardín Pejino”\, de Mª Eugenia Steinmetz Corral
END:VEVENT
BEGIN:VEVENT
DTSTAMP:20260423T104546Z
UID:event-4474-2023-01-19T09:00:00+01:00-2023-01-19T21:00:00+01:00
DTSTART;TZID=Europe/Madrid:20230119T090000
DTEND;TZID=Europe/Madrid:20230119T210000
DESCRIPTION:Del 4 al 27 de enero se podrá visitar\, en la planta primera d
 el Centro Cultural Dr. Madrazo\, la exposición “Jardín Pejino”\, de 
 Mª Eugenia Steinmetz Corral.
SUMMARY:Exposición "Jardín Pejino”\, de Mª Eugenia Steinmetz Corral
END:VEVENT
BEGIN:VEVENT
DTSTAMP:20260423T104546Z
UID:event-4474-2023-01-20T09:00:00+01:00-2023-01-20T21:00:00+01:00
DTSTART;TZID=Europe/Madrid:20230120T090000
DTEND;TZID=Europe/Madrid:20230120T210000
DESCRIPTION:Del 4 al 27 de enero se podrá visitar\, en la planta primera d
 el Centro Cultural Dr. Madrazo\, la exposición “Jardín Pejino”\, de 
 Mª Eugenia Steinmetz Corral.
SUMMARY:Exposición "Jardín Pejino”\, de Mª Eugenia Steinmetz Corral
END:VEVENT
BEGIN:VEVENT
DTSTAMP:20260423T104546Z
UID:event-4474-2023-01-21T09:00:00+01:00-2023-01-21T21:00:00+01:00
DTSTART;TZID=Europe/Madrid:20230121T090000
DTEND;TZID=Europe/Madrid:20230121T210000
DESCRIPTION:Del 4 al 27 de enero se podrá visitar\, en la planta primera d
 el Centro Cultural Dr. Madrazo\, la exposición “Jardín Pejino”\, de 
 Mª Eugenia Steinmetz Corral.
SUMMARY:Exposición "Jardín Pejino”\, de Mª Eugenia Steinmetz Corral
END:VEVENT
BEGIN:VEVENT
DTSTAMP:20260423T104546Z
UID:event-4474-2023-01-22T09:00:00+01:00-2023-01-22T21:00:00+01:00
DTSTART;TZID=Europe/Madrid:20230122T090000
DTEND;TZID=Europe/Madrid:20230122T210000
DESCRIPTION:Del 4 al 27 de enero se podrá visitar\, en la planta primera d
 el Centro Cultural Dr. Madrazo\, la exposición “Jardín Pejino”\, de 
 Mª Eugenia Steinmetz Corral.
SUMMARY:Exposición "Jardín Pejino”\, de Mª Eugenia Steinmetz Corral
END:VEVENT
BEGIN:VEVENT
DTSTAMP:20260423T104546Z
UID:event-4474-2023-01-23T09:00:00+01:00-2023-01-23T21:00:00+01:00
DTSTART;TZID=Europe/Madrid:20230123T090000
DTEND;TZID=Europe/Madrid:20230123T210000
DESCRIPTION:Del 4 al 27 de enero se podrá visitar\, en la planta primera d
 el Centro Cultural Dr. Madrazo\, la exposición “Jardín Pejino”\, de 
 Mª Eugenia Steinmetz Corral.
SUMMARY:Exposición "Jardín Pejino”\, de Mª Eugenia Steinmetz Corral
END:VEVENT
BEGIN:VEVENT
DTSTAMP:20260423T104546Z
UID:event-4474-2023-01-24T09:00:00+01:00-2023-01-24T21:00:00+01:00
DTSTART;TZID=Europe/Madrid:20230124T090000
DTEND;TZID=Europe/Madrid:20230124T210000
DESCRIPTION:Del 4 al 27 de enero se podrá visitar\, en la planta primera d
 el Centro Cultural Dr. Madrazo\, la exposición “Jardín Pejino”\, de 
 Mª Eugenia Steinmetz Corral.
SUMMARY:Exposición "Jardín Pejino”\, de Mª Eugenia Steinmetz Corral
END:VEVENT
BEGIN:VEVENT
DTSTAMP:20260423T104546Z
UID:event-4474-2023-01-25T09:00:00+01:00-2023-01-25T21:00:00+01:00
DTSTART;TZID=Europe/Madrid:20230125T090000
DTEND;TZID=Europe/Madrid:20230125T210000
DESCRIPTION:Del 4 al 27 de enero se podrá visitar\, en la planta primera d
 el Centro Cultural Dr. Madrazo\, la exposición “Jardín Pejino”\, de 
 Mª Eugenia Steinmetz Corral.
SUMMARY:Exposición "Jardín Pejino”\, de Mª Eugenia Steinmetz Corral
END:VEVENT
BEGIN:VEVENT
DTSTAMP:20260423T104546Z
UID:event-4474-2023-01-26T09:00:00+01:00-2023-01-26T21:00:00+01:00
DTSTART;TZID=Europe/Madrid:20230126T090000
DTEND;TZID=Europe/Madrid:20230126T210000
DESCRIPTION:Del 4 al 27 de enero se podrá visitar\, en la planta primera d
 el Centro Cultural Dr. Madrazo\, la exposición “Jardín Pejino”\, de 
 Mª Eugenia Steinmetz Corral.
SUMMARY:Exposición "Jardín Pejino”\, de Mª Eugenia Steinmetz Corral
END:VEVENT
BEGIN:VEVENT
DTSTAMP:20260423T104546Z
UID:event-4474-2023-01-27T09:00:00+01:00-2023-01-27T21:00:00+01:00
DTSTART;TZID=Europe/Madrid:20230127T090000
DTEND;TZID=Europe/Madrid:20230127T210000
DESCRIPTION:Del 4 al 27 de enero se podrá visitar\, en la planta primera d
 el Centro Cultural Dr. Madrazo\, la exposición “Jardín Pejino”\, de 
 Mª Eugenia Steinmetz Corral.
SUMMARY:Exposición "Jardín Pejino”\, de Mª Eugenia Steinmetz Corral
END:VEVENT
END:VCALENDAR
