BEGIN:VCALENDAR
VERSION:2.0
PRODID:icalendar-ruby
CALSCALE:GREGORIAN
METHOD:PUBLISH
BEGIN:VEVENT
DTSTAMP:20260420T171726Z
UID:event-21943-2026-09-19T21:30:00+02:00-none
DTSTART;TZID=Europe/Madrid:20260919T213000
DESCRIPTION:Revive los temazos de las grandes bandas del punk-rock american
 o\, de la mano de sus mejores bandas tributo: Nirvana (Neverminders)\, Gre
 en Day (Suburbia)\, The Offspring (Smash) y Foo Fighters (Black Limos).
SUMMARY:Festival de Tributos American Rock Punk
END:VEVENT
END:VCALENDAR
