BEGIN:VCALENDAR
VERSION:2.0
PRODID:icalendar-ruby
CALSCALE:GREGORIAN
METHOD:PUBLISH
BEGIN:VEVENT
DTSTAMP:20260419T202439Z
UID:event-22147-2026-04-22T21:00:00+02:00-none
DTSTART;TZID=Europe/Madrid:20260422T210000
DESCRIPTION:Originaria de Algeciras\, es conocida por su sonido directo\, u
 rgente y con una actitud desenfadada. Facturan una mezcla cruda de garage 
 y punk que destaca por su tensión y energía.
SUMMARY:Ficción\, garage punk en directo
END:VEVENT
END:VCALENDAR
