BEGIN:VCALENDAR
VERSION:2.0
PRODID:icalendar-ruby
CALSCALE:GREGORIAN
METHOD:PUBLISH
BEGIN:VEVENT
DTSTAMP:20260425T024824Z
UID:event-22447-2026-05-07T19:00:00+02:00-none
DTSTART;TZID=Europe/Madrid:20260507T190000
DESCRIPTION:Fiebre Photobook nació en 2013 -en un momento clave de eferves
 cencia del ecosistema del fotolibro- con una convicción: el fotolibro mer
 ece un espacio propio donde creadores\, editores\, coleccionistas y curios
 os puedan encontrarse.
SUMMARY:"Fiebre Photobook". Photoencuentro con Miren Pastor
END:VEVENT
END:VCALENDAR
