BEGIN:VCALENDAR
VERSION:2.0
PRODID:icalendar-ruby
CALSCALE:GREGORIAN
METHOD:PUBLISH
BEGIN:VEVENT
DTSTAMP:20260421T222526Z
UID:event-22324-2026-05-14T20:00:00+02:00-none
DTSTART;TZID=Europe/Madrid:20260514T200000
DESCRIPTION:Durante unas vacaciones estivales\, Felicia y Charles tienen un
  apasionado romance\, pero debido a una confusión de direcciones pierden 
 el contacto. Cinco años después\, en Navidad\, Felicia vive en París co
 n su madre y con su hija ...
SUMMARY:Filmoteca Universitaria: "Cuento de invierno"\, de Éric Rohmer
END:VEVENT
END:VCALENDAR
