BEGIN:VCALENDAR
VERSION:2.0
PRODID:icalendar-ruby
CALSCALE:GREGORIAN
METHOD:PUBLISH
BEGIN:VEVENT
DTSTAMP:20260421T222446Z
UID:event-22328-2026-05-28T20:00:00+02:00-none
DTSTART;TZID=Europe/Madrid:20260528T200000
DESCRIPTION:Isabelle y Magali son dos amigas que viven en un valle de la Pr
 ovenza. Isabelle se ha empeñado en casar a Magali\, que está viuda y se 
 ha quedado sola tras la marcha de sus hijos\, razón por la cual recurre a
  los anuncios por palabras.
SUMMARY:Filmoteca Universitaria: "Cuento de otoño"\, de Éric Rohmer
END:VEVENT
END:VCALENDAR
