BEGIN:VCALENDAR
VERSION:2.0
PRODID:icalendar-ruby
CALSCALE:GREGORIAN
METHOD:PUBLISH
BEGIN:VEVENT
DTSTAMP:20260421T222525Z
UID:event-22320-2026-05-07T20:00:00+02:00-none
DTSTART;TZID=Europe/Madrid:20260507T200000
DESCRIPTION:A una joven graduada en filosofía la invita a pasar un fin de 
 semana en el campo una amiga\, que también lleva a su padre y a su joven 
 amante. Las circunstancias hacen que la joven y el padre de su amiga se qu
 eden solos. 
SUMMARY:Filmoteca Universitaria: “Cuento de primavera”\, de Eric Rohmer
END:VEVENT
END:VCALENDAR
