BEGIN:VCALENDAR
VERSION:2.0
PRODID:icalendar-ruby
CALSCALE:GREGORIAN
METHOD:PUBLISH
BEGIN:VEVENT
DTSTAMP:20260422T015750Z
UID:event-21972-2026-04-23T20:00:00+02:00-none
DTSTART;TZID=Europe/Madrid:20260423T200000
DESCRIPTION:Los conventos de la Magdalena en Irlanda eran gestionados por l
 as hermanas de la Misericordia en nombre de la Iglesia católica. Acogían
  a muchachas enviadas por sus familias o por los orfanatos\, que allí que
 daban encerradas...
SUMMARY:Filmoteca Universitaria: "Las hermanas de la Magdalena"\, de Peter 
 Mullan (V.O.S.E.)
END:VEVENT
END:VCALENDAR
