BEGIN:VCALENDAR
VERSION:2.0
PRODID:icalendar-ruby
CALSCALE:GREGORIAN
METHOD:PUBLISH
BEGIN:VEVENT
DTSTAMP:20260420T160520Z
UID:event-21118-2026-05-29T19:00:00+02:00-none
DTSTART;TZID=Europe/Madrid:20260529T190000
DESCRIPTION:Flaca and The Beat es una banda cántabra con una amplia trayec
 toria marcada sobre todo por el pop-rock y el funk. Sin embargo\, ahora es
 tán iniciando una nueva andadura por caminos más intimistas.
SUMMARY:Flaca and the Beat actúan en Santander Sonoro 2026
END:VEVENT
END:VCALENDAR
