BEGIN:VCALENDAR
VERSION:2.0
PRODID:icalendar-ruby
CALSCALE:GREGORIAN
METHOD:PUBLISH
BEGIN:VEVENT
DTSTAMP:20260420T135025Z
UID:event-22159-2026-04-22T19:00:00+02:00-none
DTSTART;TZID=Europe/Madrid:20260422T190000
DESCRIPTION:El acto contará con la presencia de Esperanza Botella\, Celest
 ina Losada\, Aurelio González-Riancho y Eva Guillermina Fernández.
SUMMARY:Hispania Nostra\, 50 años en la protección del Patrimonio Cultura
 l
END:VEVENT
END:VCALENDAR
